{"text_format":"1","workbook":"xlsx","n_sheets":5,"sheets":["作成入力について","所属競技者データ","申込個票","申込み一覧男子","申込み一覧女子"],"not_rendered":{"charts":0,"images":2,"macros":1,"external_links":0,"defined_names":4,"comments":0,"pivot_tables":0},"unopened":[],"bounds":{"document_bytes":16777216,"sheet_cells":100000,"rows_first":2000,"rows_last":500,"rows_between":2000,"halvings":0,"cell_chars":16384,"cell_head_chars":4096},"cells_cut":0,"cells_raw":0,"read":"whole","date_system":"1900"}

{"sheet":"作成入力について","index":0,"n_rows":140,"n_cols":50,"rows_kept":140,"cut":false,"hidden":false,"merged":[[5,6,5,14],[61,11,61,14],[121,11,121,14],[17,11,17,13],[18,7,18,10],[9,6,9,14],[20,7,20,10],[17,7,17,10],[18,11,18,13],[19,11,19,13],[20,11,20,13],[19,7,19,10],[58,13,58,14]]}
[]
[]
[]
[]
[]
[null,null,null,null,null,null,"提　出　申　込　ファイル　作　成　に　つ　い　て　"]
[]
[null,null,null,null,null,null,"* このファイルの扱いについて。"]
[null,null,null,null,null,null,"個人情報が含まれています。取扱については、細心の注意をお願いします。"]
[null,null,null,null,null,null,"要注意です。 セル・行・列の削除・挿入は、\n数式が崩れ,未・誤表示の原因になります。"]
[null,null,null,null,null,null,null,null,null,null,null,null,null,null,null,null,null,""]
[null,null,null,null,null,"このファイルは、陸上競技記録会・大会申込み用です。",null,null,null,null,null,null,null,null,null,null,null,""]
[null,null,null,null,null,"自校（申込団体）の競技者データ・申込個票の２段階の入力で、申込一覧表を作成します。",null,null,null,null,null,null,null,null,null,null,null,""]
[null,null,null,null,null,"申込担当の方（先生）は、",null,null,null,null,null,null,null,null,null,null,null,""]
[null,null,null,null,null,"下記の「団体（自校）所属の競技者データ表作成」・「申込個票シート」について、を必ず読んで下さい。",null,null,null,null,null,null,null,null,null,null,null,""]
[null,null,null,null,null,"以下の説明部の最下段には、参加費の入力セルがあります。忘れないでください。",null,null,null,null,null,null,null,null,null,null,null,""]
[null,null,null,null,null,"ファイル作成順序",null,null,null,null,null,null,null,null,null,null,null,""]
[null,null,null,null,null,null,"順","説　　　明",null,null,null,"入力セル・シート（リンク）",null,null,null,null,null,""]
[null,null,null,null,null,null,1,"競技者データ表作成",null,null,null,"競技者データ表作成",null,null,null,null,null,""]
[null,null,null,null,null,null,2,"申込個票シート作成について",null,null,null,"申込個票シート作成",null,null,"申込人数確認",null,null,""]
[null,null,null,null,null,null,3,"申込一覧表作成について",null,null,null,"提出申込一覧表作成印刷",null,null,null,null,null,""]
[null,null,null,null,null,null,null,null,null,null,null,null,null,null,null,null,null,""]
[null,null,null,null,null,"１、","自校（団体）の略称名入力、及び所属の競技者データ表作成",null,null,null,null,null,null,null,null,null,null,""]
[null,null,null,null,null,null,"自校（団体）の略称名入力後、所属の競技者データを右にあるデータ表に作成してください。",null,null,null,null,null,null,null,null,null,null,""]
[null,null,null,null,null,null,"顧問（担当者）のデータからコピー貼り付けでもOKです。",null,null,null,null,null,null,null,null,null,null,""]
[null,null,null,null,null,null,"（データ貼り付けの場合は、値の貼り付けでお願いします。）",null,null,null,null,null,null,null,null,null,null,""]
[null,null,null,null,null,null,"参考：値の貼り付け、　右クリック　⇒　形式を選択して貼り付け（S)　⇒　値（Ⅴ)　⇒　OK",null,null,null,null,null,null,null,null,null,null,""]
[null,null,null,null,null,null,"注意事項",null,null,null,null,null,null,null,null,null,null,""]
[null,null,null,null,null,null,"①","最初に男子データ枠上部赤枠内に自校（団体）名を入力してください。",null,null,null,null,null,null,null,null,null,""]
[null,null,null,null,null,null,null,"申込個票シート・申込一覧男・女シート（団体略称）に表示されます。",null,null,null,null,null,null,null,null,null,""]
[null,null,null,null,null,null,null,null,null,null,null,null,null,null,null,null,null,"",null,null,null,null,null,null,null,null,null,null,null,null,null,null,null,null,null,"",null,null,null,null,null,null,null,null,null,null,null,null,null,""]
[null,null,null,null,null,null,"②","登録ナンバーについて、",null,null,null,null,null,null,null,null,null,"",null,null,null,null,null,null,null,null,null,null,null,null,null,null,null,null,null,"",null,null,null,null,null,null,null,null,null,null,null,null,null,""]
[null,null,null,null,null,null,null,"一般・クラブの方は、陸協登録（小学生はクラブ内の）ナンバーを、",null,null,null,null,null,null,null,null,null,"",null,null,null,null,null,null,null,null,null,null,null,null,null,null,null,null,null,"",null,null,null,null,null,null,null,null,null,null,null,null,null,""]
[null,null,null,null,null,null,null,"大学生は学連（陸協）登録ナンバーです。競技会では主催者でナンバー布を準備し配布します。",null,null,null,null,null,null,null,null,null,"",null,null,null,null,null,null,null,null,null,null,null,null,null,null,null,null,null,"",null,null,null,null,null,null,null,null,null,null,null,null,null,""]
[null,null,null,null,null,null,null,"中学・高校生は、県中・高体連への登録ナンバーです。",null,null,null,null,null,null,null,null,null,"",null,null,null,null,null,null,null,null,null,null,null,null,null,null,null,null,null,"",null,null,null,null,null,null,null,null,null,null,null,null,null,""]
[null,null,null,null,null,null,null,"登録ナンバーに入力する数字は必ず「半角英数」モードで入力。",null,null,null,null,null,null,null,null,null,"",null,null,null,null,null,null,null,null,null,null,null,null,null,null,null,null,null,"",null,null,null,null,null,null,null,null,null,null,null,null,null,""]
[null,null,null,null,null,null,null,"中学・高校生は、県中・高体連への登録ナンバー。未登録生徒は原則参加できません。",null,null,null,null,null,null,null,null,null,"",null,null,null,null,null,null,null,null,null,null,null,null,null,null,null,null,null,"",null,null,null,null,null,null,null,null,null,null,null,null,null,""]
[null,null,null,null,null,null,null,"新規の登録申込直後・ナンバーカード紛失による登録番号変更と再交付・生徒の転入転出",null,null,null,null,null,null,null,null,null,"",null,null,null,null,null,null,null,null,null,null,null,null,null,null,null,null,null,"",null,null,null,null,null,null,null,null,null,null,null,null,null,""]
[null,null,null,null,null,null,null,"による所属校変更などで、データ登録以前は各支部の委員長・登録担当の先生に確認後、",null,null,null,null,null,null,null,null,null,"",null,null,null,null,null,null,null,null,null,null,null,null,null,null,null,null,null,"",null,null,null,null,null,null,null,null,null,null,null,null,null,""]
[null,null,null,null,null,null,null,"各支部申し込み担当の先生に連絡して、登録ナンバー入力の指示を受けてください。",null,null,null,null,null,null,null,null,null,"",null,null,null,null,null,null,null,null,null,null,null,null,null,null,null,null,null,"",null,null,null,null,null,null,null,null,null,null,null,null,null,""]
[null,null,null,null,null,null,null,"小学生で県陸協登録ナンバーがない場合、申込団体内の登録番号など確認できる番号",null,null,null,null,null,null,null,null,null,"",null,null,null,null,null,null,null,null,null,null,null,null,null,null,null,null,null,"",null,null,null,null,null,null,null,null,null,null,null,null,null,""]
[null,null,null,null,null,null,null,null,null,null,null,null,null,null,null,null,null,"",null,null,null,null,null,null,null,null,null,null,null,null,null,null,null,null,null,"",null,null,null,null,null,null,null,null,null,null,null,null,null,""]
[null,null,null,null,null,null,"③","氏名入力は、原則分けて入力です。",null,null,null,null,null,null,null,null,null,"",null,null,null,null,null,null,null,null,null,null,null,null,null,null,null,null,null,"",null,null,null,null,null,null,null,null,null,null,null,null,null,""]
[null,null,null,null,null,null,null,"分けていない場合、　氏の入力列に　氏名データを入力してください。",null,null,null,null,null,null,null,null,null,"",null,null,null,null,null,null,null,null,null,null,null,null,null,null,null,null,null,"",null,null,null,null,null,null,null,null,null,null,null,null,null,""]
[null,null,null,null,null,null,null,"なお、氏と名の区切り空白は一文字分だけです。",null,null,null,null,null,null,null,null,null,"",null,null,null,null,null,null,null,null,null,null,null,null,null,null,null,null,null,"",null,null,null,null,null,null,null,null,null,null,null,null,null,""]
[null,null,null,null,null,null,null,"大学・一般・クラブの方へ。",null,null,null,null,null,null,null,null,null,"",null,null,null,null,null,null,null,null,null,null,null,null,null,null,null,null,null,"",null,null,null,null,null,null,null,null,null,null,null,null,null,""]
[null,null,null,null,null,null,null,"記録の公認申請時には競技者の出身都道府県が必要なので「県名」欄に",null,null,null,null,null,null,null,null,null,"",null,null,null,null,null,null,null,null,null,null,null,null,null,null,null,null,null,"",null,null,null,null,null,null,null,null,null,null,null,null,null,""]
[null,null,null,null,null,null,null,"出身(卒業)高校の都道府県名を必ず入力してください。",null,null,null,null,null,null,null,null,null,"",null,null,null,null,null,null,null,null,null,null,null,null,null,null,null,null,null,"",null,null,null,null,null,null,null,null,null,null,null,null,null,""]
[null,null,null,null,null,null,null,"クラブ所属の小・中学、高校生は学年が必要です。",null,null,null,null,null,null,null,null,null,"",null,null,null,null,null,null,null,null,null,null,null,null,null,null,null,null,null,"",null,null,null,null,null,null,null,null,null,null,null,null,null,""]
[null,null,null,null,null,null,null,null,null,null,null,null,null,null,null,null,null,"",null,null,null,null,null,null,null,null,null,null,null,null,null,null,null,null,null,"",null,null,null,null,null,null,null,null,null,null,null,null,null,""]
[null,null,null,null,null,null,"④","競技者の生年月日は、西暦下２桁.月.日　です。",null,null,null,null,null,null,null,null,null,"",null,null,null,null,null,null,null,null,null,null,null,null,null,null,null,null,null,"",null,null,null,null,null,null,null,null,null,null,null,null,null,""]
[null,null,null,null,null,null,null,"入力例にならい、「年」、「月」、「日」は入力しないで、「.」　ドットで区切ってください。",null,null,null,null,null,null,null,null,null,"",null,null,null,null,null,null,null,null,null,null,null,null,null,null,null,null,null,"",null,null,null,null,null,null,null,null,null,null,null,null,null,""]
[null,null,null,null,null,null,null,"大学・一般の方は陸連公認申請時に必要です。",null,null,null,null,null,null,null,null,null,"",null,null,null,null,null,null,null,null,null,null,null,null,null,null,null,null,null,"",null,null,null,null,null,null,null,null,null,null,null,null,null,""]
[null,null,null,null,null,null,null,"入力例、１９８５年９月２５日⇒８５．９．２５",null,null,null,null,null,null,null,null,null,"",null,null,null,null,null,null,null,null,null,null,null,null,null,null,null,null,null,"",null,null,null,null,null,null,null,null,null,null,null,null,null,""]
[null,null,null,null,null,null,null,"　〃　　、２００５年１０月３日⇒０５．１０．３",null,null,null,null,null,null,null,null,null,"",null,null,null,null,null,null,null,null,null,null,null,null,null,null,null,null,null,"",null,null,null,null,null,null,null,null,null,null,null,null,null,""]
[]
[null,null,null,null,null,null,"⑤","データ入力完了後、データ整列ボタンをクリックしてください。"]
[null,null,null,null,null,null,null,"申込個票シートは、VLOOKUP関数を使用しいます。登録ナンバーを軸に昇順にデータ列が"]
[null,null,null,null,null,null,null,"整列していないと、正しく表示されません。",null,null,null,null,null,"データ整列ボタンへ"]
[null,null,null,null,null,null,null,null,null,null,null,null,null,null,null,null,null,"",null,null,null,null,null,null,null,null,null,null,null,null,null,null,null,null,null,"",null,null,null,null,null,null,null,null,null,null,null,null,null,""]
[null,null,null,null,null,null,null,null,null,null,null,null,null,null,null,null,null,"",null,null,null,null,null,null,null,null,null,null,null,null,null,null,null,null,null,"",null,null,null,null,null,null,null,null,null,null,null,null,null,""]
[null,null,null,null,null,"２、","申込個票シート",null,null,null,null,"申込個票シートのページへ",null,null,null,null,null,"",null,null,null,null,null,null,null,null,null,null,null,null,null,null,null,null,null,"",null,null,null,null,null,null,null,null,null,null,null,null,null,""]
[null,null,null,null,null,null,"入力は一人一種目につき、３個のデータだけです。",null,null,null,null,null,null,null,null,null,null,"",null,null,null,null,null,null,null,null,null,null,null,null,null,null,null,null,null,"",null,null,null,null,null,null,null,null,null,null,null,null,null,""]
[null,null,null,null,null,null,"なお、種目表記でリレーは、団体内チーム分けがあるので注意してください。",null,null,null,null,null,null,null,null,null,null,"",null,null,null,null,null,null,null,null,null,null,null,null,null,null,null,null,null,"",null,null,null,null,null,null,null,null,null,null,null,null,null,""]
[null,null,null,null,null,null,null,null,null,null,null,null,null,null,null,null,null,"",null,null,null,null,null,null,null,null,null,null,null,null,null,null,null,null,null,"",null,null,null,null,null,null,null,null,null,null,null,null,null,""]
[null,null,null,null,null,null,null,null,null,null,null,null,null,null,null,null,null,"",null,null,null,null,null,null,null,null,null,null,null,null,null,null,null,null,null,"",null,null,null,null,null,null,null,null,null,null,null,null,null,""]
[null,null,null,null,null,null,null,null,null,null,null,null,null,null,null,null,null,"",null,null,null,null,null,null,null,null,null,null,null,null,null,null,null,null,null,"",null,null,null,null,null,null,null,null,null,null,null,null,null,""]
[null,null,null,null,null,null,null,null,null,null,null,null,null,null,null,null,null,"",null,null,null,null,null,null,null,null,null,null,null,null,null,null,null,null,null,"",null,null,null,null,null,null,null,null,null,null,null,null,null,""]
[null,null,null,null,null,null,"①","①",null,null,null,null,null,null,null,null,null,"",null,null,null,null,null,null,null,null,null,null,null,null,null,null,null,null,null,"",null,null,null,null,null,null,null,null,null,null,null,null,null,""]
[null,null,null,null,null,null,null,"男女各団体内個人整理番号が表示されるので、その番号を①列セルに",null,null,null,null,null,null,null,null,null,"",null,null,null,null,null,null,null,null,null,null,null,null,null,null,null,null,null,"",null,null,null,null,null,null,null,null,null,null,null,null,null,""]
[null,null,null,null,null,null,null,"「団体内整理番号」を入力してください。",null,null,null,null,null,null,null,null,null,"",null,null,null,null,null,null,null,null,null,null,null,null,null,null,null,null,null,"",null,null,null,null,null,null,null,null,null,null,null,null,null,""]
[null,null,null,null,null,null,null,"この番号で、申込団体内参加個人の男女各データ基本情報内容を表示します。",null,null,null,null,null,null,null,null,null,"",null,null,null,null,null,null,null,null,null,null,null,null,null,null,null,null,null,"",null,null,null,null,null,null,null,null,null,null,null,null,null,""]
[null,null,null,null,null,null,null,null,null,null,null,null,null,null,null,null,null,"",null,null,null,null,null,null,null,null,null,null,null,null,null,null,null,null,null,"",null,null,null,null,null,null,null,null,null,null,null,null,null,""]
[null,null,null,null,null,null,"②","②出場競技種目名",null,null,null,null,null,null,null,null,null,"",null,null,null,null,null,null,null,null,null,null,null,null,null,null,null,null,null,"",null,null,null,null,null,null,null,null,null,null,null,null,null,""]
[null,null,null,null,null,null,null,"参加生徒の出場種目名は、下記を参考に各競技会の開催種目で一人一種目ごとに入力してください。",null,null,null,null,null,null,null,null,null,"",null,null,null,null,null,null,null,null,null,null,null,null,null,null,null,null,null,"",null,null,null,null,null,null,null,null,null,null,null,null,null,""]
[null,null,null,null,null,null,null,"学年種目がある「１００ｍ」「１５００ｍ」「走幅跳び」は「100」「1500」「LJ」と入力してください。",null,null,null,null,null,null,null,null,null,"",null,null,null,null,null,null,null,null,null,null,null,null,null,null,null,null,null,"",null,null,null,null,null,null,null,null,null,null,null,null,null,""]
[null,null,null,null,null,null,null,"リレーの場合は共通の「S」と、チーム内区別の「A」「B」・・・を必ず入力してください。",null,null,null,null,null,null,null,null,null,"",null,null,null,null,null,null,null,null,null,null,null,null,null,null,null,null,null,"",null,null,null,null,null,null,null,null,null,null,null,null,null,""]
[null,null,null,null,null,null,null,"例）　　400RSＡ　400ＲSＢ　　1600RＳA　　1600RＳB",null,null,null,null,null,null,null,null,null,"",null,null,null,null,null,null,null,null,null,null,null,null,null,null,null,null,null,"",null,null,null,null,null,null,null,null,null,null,null,null,null,""]
[null,null,null,null,null,null,null,null,"１チームエントリーでも、Aの入力をしてください。",null,null,null,null,null,null,null,null,"",null,null,null,null,null,null,null,null,null,null,null,null,null,null,null,null,null,"",null,null,null,null,null,null,null,null,null,null,null,null,null,""]
[null,null,null,null,null,null,null,"なお、１チーム６名までエントリーできますが、Ａチームの登録メンバーの補欠候補が、",null,null,null,null,null,null,null,null,null,"",null,null,null,null,null,null,null,null,null,null,null,null,null,null,null,null,null,"",null,null,null,null,null,null,null,null,null,null,null,null,null,""]
[null,null,null,null,null,null,null,"Ｂチームのメンバー登録と重ならないようにお願いします。",null,null,null,null,null,null,null,null,null,"",null,null,null,null,null,null,null,null,null,null,null,null,null,null,null,null,null,"",null,null,null,null,null,null,null,null,null,null,null,null,null,""]
[null,null,null,null,null,null,null,null,null,null,null,null,null,null,null,null,null,"",null,null,null,null,null,null,null,null,null,null,null,null,null,null,null,null,null,"",null,null,null,null,null,null,null,null,null,null,null,null,null,""]
[null,null,null,null,null,null,null,null,"種目名",null,"入力種目名","種目名",null,"入力種目名","種目名",null,"入力種目名","",null,null,null,null,null,null,null,null,null,null,null,null,null,null,null,null,null,"",null,null,null,null,null,null,null,null,null,null,null,null,null,""]
[null,null,null,null,null,null,null,null,"共通１００ｍ",null,100,"共通１００００ｍ",null,10000,"共通走幅跳",null,"LJ","",null,null,null,null,null,null,null,null,null,null,null,null,null,null,null,null,null,"",null,null,null,null,null,null,null,null,null,null,null,null,null,""]
[null,null,null,null,null,null,null,null,"共通２００ｍ",null,200,"共通１００ｍＨ",null,"100H","共通砲丸投",null,"SP","",null,null,null,null,null,null,null,null,null,null,null,null,null,null,null,null,null,"",null,null,null,null,null,null,null,null,null,null,null,null,null,""]
[null,null,null,null,null,null,null,null,"共通４００ｍ",null,400,"共通１１０ｍＨ",null,"110H","共通円盤投",null,"DT","",null,null,null,null,null,null,null,null,null,null,null,null,null,null,null,null,null,"",null,null,null,null,null,null,null,null,null,null,null,null,null,""]
[null,null,null,null,null,null,null,null,"共通８００ｍ",null,800,"共通３０００ｍＳＣ",null,"3000ＳＣ","共通ヤリ投",null,"JT","",null,null,null,null,null,null,null,null,null,null,null,null,null,null,null,null,null,"",null,null,null,null,null,null,null,null,null,null,null,null,null,""]
[null,null,null,null,null,null,null,null,"共通１５００ｍ",null,1500,"小学１０００ｍ",null,1000,"共通4×100",null,"400RS","",null,null,null,null,null,null,null,null,null,null,null,null,null,null,null,null,null,"",null,null,null,null,null,null,null,null,null,null,null,null,null,""]
[null,null,null,null,null,null,null,null,"共通３０００ｍ",null,3000,"共通走高跳",null,"HJ","共通4×400",null,"1600ＲＳ","",null,null,null,null,null,null,null,null,null,null,null,null,null,null,null,null,null,"",null,null,null,null,null,null,null,null,null,null,null,null,null,""]
[null,null,null,null,null,null,null,null,"共通５０００ｍ",null,5000,"共通棒高跳",null,"PV","中学混成四種",null,"4D","",null,null,null,null,null,null,null,null,null,null,null,null,null,null,null,null,null,"",null,null,null,null,null,null,null,null,null,null,null,null,null,""]
[null,null,null,null,null,null,null,null,null,null,null,null,null,null,null,null,null,"",null,null,null,null,null,null,null,null,null,null,null,null,null,null,null,null,null,"",null,null,null,null,null,null,null,null,null,null,null,null,null,""]
[null,null,null,null,null,null,"③","③自己ベスト申請記録について",null,null,null,null,null,null,null,null,null,"",null,null,null,null,null,null,null,null,null,null,null,null,null,null,null,null,null,"",null,null,null,null,null,null,null,null,null,null,null,null,null,""]
[null,null,null,null,null,null,null,"番組編成は、競技力（申請記録）を主にして振り分けと組編成を行います。",null,null,null,null,null,null,null,null,null,"",null,null,null,null,null,null,null,null,null,null,null,null,null,null,null,null,null,"",null,null,null,null,null,null,null,null,null,null,null,null,null,""]
[null,null,null,null,null,null,null,"申請記録がない場合、競技者の実力を十分発揮できない組編成になる場合があります。",null,null,null,null,null,null,null,null,null,"",null,null,null,null,null,null,null,null,null,null,null,null,null,null,null,null,null,"",null,null,null,null,null,null,null,null,null,null,null,null,null,""]
[null,null,null,null,null,null,null,"４月・５月の年度初めの競技会で参加する２・３年は前年の最高公認記録を入力してください。",null,null,null,null,null,null,null,null,null,"",null,null,null,null,null,null,null,null,null,null,null,null,null,null,null,null,null,"",null,null,null,null,null,null,null,null,null,null,null,null,null,""]
[null,null,null,null,null,null,null,"デビュー戦のとき（初めて）は、その種目の校内記録等でお願いします。",null,null,null,null,null,null,null,null,null,"",null,null,null,null,null,null,null,null,null,null,null,null,null,null,null,null,null,"",null,null,null,null,null,null,null,null,null,null,null,null,null,""]
[null,null,null,null,null,null,null,"記録の入力は次のようにお願いします。",null,null,null,null,null,null,null,null,null,"",null,null,null,null,null,null,null,null,null,null,null,null,null,null,null,null,null,"",null,null,null,null,null,null,null,null,null,null,null,null,null,""]
[null,null,null,null,null,null,null,null,"区切りの　「.」は、 . （ドット）です。　「、」「，」ではありません。ご注意ください。　",null,null,null,null,null,null,null,null,"",null,null,null,null,null,null,null,null,null,null,null,null,null,null,null,null,null,"",null,null,null,null,null,null,null,null,null,null,null,null,null,""]
[null,null,null,null,null,null,null,"短距離種目　１００，２００，４００，１００ｍＨ，１１０ｍＨ，４００Ｒ",null,null,null,null,null,null,null,null,null,"",null,null,null,null,null,null,null,null,null,null,null,null,null,null,null,null,null,"",null,null,null,null,null,null,null,null,null,null,null,null,null,""]
[null,null,null,null,null,null,null,null,"入力例",null,"「12.25」","秒以下が２ケタ",null,null,null,null,null,"",null,null,null,null,null,null,null,null,null,null,null,null,null,null,null,null,null,"",null,null,null,null,null,null,null,null,null,null,null,null,null,""]
[null,null,null,null,null,null,null,null,null,null,null,null,null,null,null,null,null,"",null,null,null,null,null,null,null,null,null,null,null,null,null,null,null,null,null,"",null,null,null,null,null,null,null,null,null,null,null,null,null,""]
[null,null,null,null,null,null,null,null,"手動計時記録は次のようにお願いします。",null,null,null,null,null,null,null,null,"",null,null,null,null,null,null,null,null,null,null,null,null,null,null,null,null,null,"",null,null,null,null,null,null,null,null,null,null,null,null,null,""]
[null,null,null,null,null,null,null,null,"　１００ｍ、２００ｍ、１１０ｍH、１００ｍHは、　０．２４　を加えた記録",null,null,null,null,null,null,null,null,"",null,null,null,null,null,null,null,null,null,null,null,null,null,null,null,null,null,"",null,null,null,null,null,null,null,null,null,null,null,null,null,""]
[null,null,null,null,null,null,null,null,"入力例",null,"１３．５　⇒　１３．７４（１３．５＋０．２４）　で換算",null,null,null,null,null,null,"",null,null,null,null,null,null,null,null,null,null,null,null,null,null,null,null,null,"",null,null,null,null,null,null,null,null,null,null,null,null,null,""]
[null,null,null,null,null,null,null,null,"４００ｍ、４００ｍRは、　０．１４　を加えた記録",null,null,null,null,null,null,null,null,"",null,null,null,null,null,null,null,null,null,null,null,null,null,null,null,null,null,"",null,null,null,null,null,null,null,null,null,null,null,null,null,""]
[null,null,null,null,null,null,null,null,"入力例",null,"５６．６　⇒　５６．７４（５６．６＋０．１４）　　",null,null,null,null,null,null,"",null,null,null,null,null,null,null,null,null,null,null,null,null,null,null,null,null,"",null,null,null,null,null,null,null,null,null,null,null,null,null,""]
[null,null,null,null,null,null,null,null,"なお６０秒を超える記録について",null,null,null,null,null,null,null,null,"",null,null,null,null,null,null,null,null,null,null,null,null,null,null,null,null,null,"",null,null,null,null,null,null,null,null,null,null,null,null,null,""]
[null,null,null,null,null,null,null,null,"　１．０２．５のような表示はしないで　６２．５⇒６２．６４　です",null,null,null,null,null,null,null,null,"",null,null,null,null,null,null,null,null,null,null,null,null,null,null,null,null,null,"",null,null,null,null,null,null,null,null,null,null,null,null,null,""]
[null,null,null,null,null,null,null,"中・長距離種目　８００，１５００，３０００,５０００,１００００",null,null,null,null,null,null,null,null,null,"",null,null,null,null,null,null,null,null,null,null,null,null,null,null,null,null,null,"",null,null,null,null,null,null,null,null,null,null,null,null,null,""]
[null,null,null,null,null,null,null,null,"入力例",null,"２．１２．２５（２分１２秒２５）　の場合は秒以下を切り捨てて　２．１２",null,null,null,null,null,null,"",null,null,null,null,null,null,null,null,null,null,null,null,null,null,null,null,null,"",null,null,null,null,null,null,null,null,null,null,null,null,null,""]
[null,null,null,null,null,null,null,null,null,null,"５．１５．３３（５分１５秒３３）　の場合は　　　　　〃　　　　　　 　５．１５",null,null,null,null,null,null,"",null,null,null,null,null,null,null,null,null,null,null,null,null,null,null,null,null,"",null,null,null,null,null,null,null,null,null,null,null,null,null,""]
[null,null,null,null,null,null,null,null,null,null,"９．２８．８９（９分２８秒８９）　の場合は　　　　　〃　　　 　　　　９．２８",null,null,null,null,null,null,"",null,null,null,null,null,null,null,null,null,null,null,null,null,null,null,null,null,"",null,null,null,null,null,null,null,null,null,null,null,null,null,""]
[null,null,null,null,null,null,null,null,null,null,"１５．３８．５６（１５分３８秒５６）の場合は　　　　〃　　　　　　　１５.３８",null,null,null,null,null,null,"",null,null,null,null,null,null,null,null,null,null,null,null,null,null,null,null,null,"",null,null,null,null,null,null,null,null,null,null,null,null,null,""]
[null,null,null,null,null,null,null,null,null,null,null,null,null,null,null,null,null,"",null,null,null,null,null,null,null,null,null,null,null,null,null,null,null,null,null,"",null,null,null,null,null,null,null,null,null,null,null,null,null,""]
[null,null,null,null,null,null,null,null,null,null,null,null,null,null,null,null,null,null,null,null,null,null,null,null,null,null,null,null,null,null,null,null,null,null,"",null,null,null,null,null,null,null,null,null,null,null,null,null,""]
[null,null,null,null,null,null,null,"フィールド種目　　走高跳、走幅跳、砲丸投　",null,null,null,null,null,null,null,null,null,null,null,null,null,null,null,null,null,null,null,null,null,null,null,null,null,null,"",null,null,null,null,null,null,null,null,null,null,null,null,null,""]
[null,null,null,null,null,null,null,null,"入力例",null,"１ｍ４５ｃｍ　の場合は　「１．４５」　メートル以下は２ケタ",null,null,null,null,null,null,null,null,null,null,null,null,null,null,null,null,null,null,null,null,null,null,null,null,"",null,null,null,null,null,null,null,null,null,null,null,null,null,""]
[null,null,null,null,null,null,null,null,null,null,null,null,null,null,null,null,null,null,null,null,null,null,null,null,null,null,null,null,null,null,null,null,null,null,null,"",null,null,null,null,null,null,null,null,null,null,null,null,null,""]
[null,null,null,null,null,null,null,"混成競技種目",null,"得点を入力してください。",null,null,null,null,null,null,null,null,null,null,null,null,null,null,null,null,null,null,null,null,null,null,null,null,null,"",null,null,null,null,null,null,null,null,null,null,null,null,null,""]
[null,null,null,null,null,null,null,null,"入力例",null,"１２３４点の場合は　「１２３４」",null,null,null,null,null,null,null,null,null,null,null,null,null,null,null,null,null,null,null,null,null,null,null,null,"",null,null,null,null,null,null,null,null,null,null,null,null,null,""]
[null,null,null,null,null,null,null,null,null,null,null,null,null,null,null,null,null,null,null,null,null,null,null,null,null,null,null,null,null,null,null,null,null,null,null,"",null,null,null,null,null,null,null,null,null,null,null,null,null,""]
[null,null,null,null,null,"３、","申込一覧表",null,null,null,null,"申込一覧表シートへ",null,null,null,null,null,null,null,null,null,null,null,null,null,null,null,null,null,null,null,null,null,null,null,"",null,null,null,null,null,null,null,null,null,null,null,null,null,""]
[null,null,null,null,null,null,"参加団体（学校）の各項目データの入力は、男子の一枚目の一覧表標題部分です。",null,null,null,null,null,null,null,null,null,null,null,null,null,null,null,null,null,null,null,null,null,null,null,null,null,null,null,null,"",null,null,null,null,null,null,null,null,null,null,null,null,null,""]
[null,null,null,null,null,null,"女子の一覧表へは、男子一枚目の入力データが表示されます。"]
[null,null,null,null,null,null,"参加学校は、競技会競技役員への協力をお願いします。"]
[null,null,null,null,null,null,"円滑な競技運営には公認審判員の方の御協力が必要です。取得級の入力もお願いします。"]
[]
[]
[]
[null,null,null,null,null,null,"申込料は、個票シートでカウントするので、下記の一人一種目の参加料に入力。",null,null,null,null,null,null,null,null,null,null,null,null,null,null,null,null,null,null,null,null,null,null,null,null,null,null,null,null,"",null,null,null,null,null,null,null,null,null,null,null,null,null,""]
[null,null,null,null,null,null,null,null,null,null,null,null,null,null,null,null,null,null,null,null,null,null,null,null,null,null,null,null,null,null,null,null,null,null,null,"",null,null,null,null,null,null,null,null,null,null,null,null,null,""]
[null,null,null,null,null,null,null,null,"一人一種目参加料",null,null,"リレー1チーム参加料",null,null,"混成競技",null,"",null,null,null,null,null,null,null,null,null,null,null,null,null,null,null,null,null,null,"",null,null,null,null,null,null,null,null,null,null,null,null,null,""]
[null,null,null,null,null,null,null,null,300,null,"円",600,null,"円",600,null,"円",null,null,null,null,null,null,null,null,null,null,null,null,null,null,null,null,null,null,"",null,null,null,null,null,null,null,null,null,null,null,null,null,""]
[null,null,null,null,null,null,null,null,null,null,null,null,null,null,null,null,null,null,null,null,null,null,null,null,null,null,null,null,null,null,null,null,null,null,null,"",null,null,null,null,null,null,null,null,null,null,null,null,null,""]
[null,null,null,null,null,null,null,null,null,null,null,null,null,null,null,null,null,null,null,null,null,null,null,null,null,null,null,null,null,null,null,null,null,null,null,"",null,null,null,null,null,null,null,null,null,null,null,null,null,""]
[null,null,null,null,null,null,null,null,null,null,null,null,null,null,null,null,null,null,null,null,null,null,null,null,null,null,null,null,null,null,null,null,null,null,null,"",null,null,null,null,null,null,null,null,null,null,null,null,null,""]
[null,null,null,null,null,null,null,null,null,null,null,null,null,null,null,null,null,null,null,null,null,null,null,null,null,null,null,null,null,null,null,null,null,null,null,"",null,null,null,null,null,null,null,null,null,null,null,null,null,""]
[null,null,null,null,null,null,null,null,null,null,null,null,null,null,null,null,null,null,null,null,null,null,null,null,null,null,null,null,null,null,null,null,null,null,null,"",null,null,null,null,null,null,null,null,null,null,null,null,null,""]
[null,null,null,null,null,null,null,null,null,null,null,null,null,null,null,null,null,null,null,null,null,null,null,null,null,null,null,null,null,null,null,null,null,null,null,"",null,null,null,null,null,null,null,null,null,null,null,null,null,""]
[null,null,null,null,null,null,null,null,null,null,null,null,null,null,null,null,null,null,null,null,null,null,null,null,null,null,null,null,null,null,null,null,null,null,null,"",null,null,null,null,null,null,null,null,null,null,null,null,null,""]

{"sheet":"所属競技者データ","index":1,"n_rows":132,"n_cols":53,"rows_kept":132,"cut":false,"hidden":false,"merged":[[5,8,5,11],[7,17,7,19]]}
[]
[]
[]
[]
[]
[null,null,null,null,null,null,null,"団体略称(６文字以内)",null,null,null,null,"⇇","この表示は申込一覧表の、団体略称に表示されます。"]
[null,null,null,null,null,null,"男子・女子データ欄を入力完了後、データ整列をクリックして下さい。"]
[null,null,null,null,null,"男子データ（１００名分）",null,null,null,null,null,null,null,"女子データ（１００名分）",null,null,null,"データ作成説明へ"]
[null,null,null,null,null,"入力例",1234,"千葉","一郎",2,"千葉","98.05.26",null,"入力例",1234,"東葛","花子",2,"東京","03.05．26"]
[null,null,null,null,null,"団体内\n整理\n番号","登　録\nナンバー","氏","名","学年","県　名","生年月日",null,"団体内\n整理\n番号","登　録\nナンバー","氏","名","学年","県　名","生年月日"]
[null,null,null,null,null,1,null,null,null,null,null,null,null,1,null,null,null,null,null,null,""]
[null,null,null,null,null,2,null,null,null,null,null,null,null,2,null,null,null,null,null,null,""]
[null,null,null,null,null,3,null,null,null,null,null,null,null,3,null,null,null,null,null,null,""]
[null,null,null,null,null,4,null,null,null,null,null,null,null,4,null,null,null,null,null,null,""]
[null,null,null,null,null,5,null,null,null,null,null,null,null,5,null,null,null,null,null,null,""]
[null,null,null,null,null,6,null,null,null,null,null,null,null,6,null,null,null,null,null,null,""]
[null,null,null,null,null,7,null,null,null,null,null,null,null,7,null,null,null,null,null,null,""]
[null,null,null,null,null,8,null,null,null,null,null,null,null,8,null,null,null,null,null,null,""]
[null,null,null,null,null,9,null,null,null,null,null,null,null,9,null,null,null,null,null,null,""]
[null,null,null,null,null,10,null,null,null,null,null,null,null,10,null,null,null,null,null,null,""]
[null,null,null,null,null,11,null,null,null,null,null,null,null,11,null,null,null,null,null,null,""]
[null,null,null,null,null,12,null,null,null,null,null,null,null,12,null,null,null,null,null,null,""]
[null,null,null,null,null,13,null,null,null,null,null,null,null,13,null,null,null,null,null,null,""]
[null,null,null,null,null,14,null,null,null,null,null,null,null,14,null,null,null,null,null,null,""]
[null,null,null,null,null,15,null,null,null,null,null,null,null,15,null,null,null,null,null,null,""]
[null,null,null,null,null,16,null,null,null,null,null,null,null,16,null,null,null,null,null,null,""]
[null,null,null,null,null,17,null,null,null,null,null,null,null,17,null,null,null,null,null,null,""]
[null,null,null,null,null,18,null,null,null,null,null,null,null,18,null,null,null,null,null,null,""]
[null,null,null,null,null,19,null,null,null,null,null,null,null,19,null,null,null,null,null,null,""]
[null,null,null,null,null,20,null,null,null,null,null,null,null,20,null,null,null,null,null,null,""]
[null,null,null,null,null,21,null,null,null,null,null,null,null,21,null,null,null,null,null,null,"",null,null,null,null,null,null,null,null,null,null,null,null,null,null,null,null,null,"",null,null,null,null,null,null,null,null,null,null,null,null,null,""]
[null,null,null,null,null,22,null,null,null,null,null,null,null,22,null,null,null,null,null,null,"",null,null,null,null,null,null,null,null,null,null,null,null,null,null,null,null,null,"",null,null,null,null,null,null,null,null,null,null,null,null,null,""]
[null,null,null,null,null,23,null,null,null,null,null,null,null,23,null,null,null,null,null,null,"",null,null,null,null,null,null,null,null,null,null,null,null,null,null,null,null,null,"",null,null,null,null,null,null,null,null,null,null,null,null,null,""]
[null,null,null,null,null,24,null,null,null,null,null,null,null,24,null,null,null,null,null,null,"",null,null,null,null,null,null,null,null,null,null,null,null,null,null,null,null,null,"",null,null,null,null,null,null,null,null,null,null,null,null,null,""]
[null,null,null,null,null,25,null,null,null,null,null,null,null,25,null,null,null,null,null,null,"",null,null,null,null,null,null,null,null,null,null,null,null,null,null,null,null,null,"",null,null,null,null,null,null,null,null,null,null,null,null,null,""]
[null,null,null,null,null,26,null,null,null,null,null,null,null,26,null,null,null,null,null,null,"",null,null,null,null,null,null,null,null,null,null,null,null,null,null,null,null,null,"",null,null,null,null,null,null,null,null,null,null,null,null,null,""]
[null,null,null,null,null,27,null,null,null,null,null,null,null,27,null,null,null,null,null,null,"",null,null,null,null,null,null,null,null,null,null,null,null,null,null,null,null,null,"",null,null,null,null,null,null,null,null,null,null,null,null,null,""]
[null,null,null,null,null,28,null,null,null,null,null,null,null,28,null,null,null,null,null,null,"",null,null,null,null,null,null,null,null,null,null,null,null,null,null,null,null,null,"",null,null,null,null,null,null,null,null,null,null,null,null,null,""]
[null,null,null,null,null,29,null,null,null,null,null,null,null,29,null,null,null,null,null,null,"",null,null,null,null,null,null,null,null,null,null,null,null,null,null,null,null,null,"",null,null,null,null,null,null,null,null,null,null,null,null,null,""]
[null,null,null,null,null,30,null,null,null,null,null,null,null,30,null,null,null,null,null,null,"",null,null,null,null,null,null,null,null,null,null,null,null,null,null,null,null,null,"",null,null,null,null,null,null,null,null,null,null,null,null,null,""]
[null,null,null,null,null,31,null,null,null,null,null,null,null,31,null,null,null,null,null,null,"",null,null,null,null,null,null,null,null,null,null,null,null,null,null,null,null,null,"",null,null,null,null,null,null,null,null,null,null,null,null,null,""]
[null,null,null,null,null,32,null,null,null,null,null,null,null,32,null,null,null,null,null,null,"",null,null,null,null,null,null,null,null,null,null,null,null,null,null,null,null,null,"",null,null,null,null,null,null,null,null,null,null,null,null,null,""]
[null,null,null,null,null,33,null,null,null,null,null,null,null,33,null,null,null,null,null,null,"",null,null,null,null,null,null,null,null,null,null,null,null,null,null,null,null,null,"",null,null,null,null,null,null,null,null,null,null,null,null,null,""]
[null,null,null,null,null,34,null,null,null,null,null,null,null,34,null,null,null,null,null,null,"",null,null,null,null,null,null,null,null,null,null,null,null,null,null,null,null,null,"",null,null,null,null,null,null,null,null,null,null,null,null,null,""]
[null,null,null,null,null,35,null,null,null,null,null,null,null,35,null,null,null,null,null,null,"",null,null,null,null,null,null,null,null,null,null,null,null,null,null,null,null,null,"",null,null,null,null,null,null,null,null,null,null,null,null,null,""]
[null,null,null,null,null,36,null,null,null,null,null,null,null,36,null,null,null,null,null,null,"",null,null,null,null,null,null,null,null,null,null,null,null,null,null,null,null,null,"",null,null,null,null,null,null,null,null,null,null,null,null,null,""]
[null,null,null,null,null,37,null,null,null,null,null,null,null,37,null,null,null,null,null,null,"",null,null,null,null,null,null,null,null,null,null,null,null,null,null,null,null,null,"",null,null,null,null,null,null,null,null,null,null,null,null,null,""]
[null,null,null,null,null,38,null,null,null,null,null,null,null,38,null,null,null,null,null,null,"",null,null,null,null,null,null,null,null,null,null,null,null,null,null,null,null,null,"",null,null,null,null,null,null,null,null,null,null,null,null,null,""]
[null,null,null,null,null,39,null,null,null,null,null,null,null,39,null,null,null,null,null,null,"",null,null,null,null,null,null,null,null,null,null,null,null,null,null,null,null,null,"",null,null,null,null,null,null,null,null,null,null,null,null,null,""]
[null,null,null,null,null,40,null,null,null,null,null,null,null,40,null,null,null,null,null,null,"",null,null,null,null,null,null,null,null,null,null,null,null,null,null,null,null,null,"",null,null,null,null,null,null,null,null,null,null,null,null,null,""]
[null,null,null,null,null,41,null,null,null,null,null,null,null,41,null,null,null,null,null,null,"",null,null,null,null,null,null,null,null,null,null,null,null,null,null,null,null,null,"",null,null,null,null,null,null,null,null,null,null,null,null,null,""]
[null,null,null,null,null,42,null,null,null,null,null,null,null,42,null,null,null,null,null,null,"",null,null,null,null,null,null,null,null,null,null,null,null,null,null,null,null,null,"",null,null,null,null,null,null,null,null,null,null,null,null,null,""]
[null,null,null,null,null,43,null,null,null,null,null,null,null,43,null,null,null,null,null,null,"",null,null,null,null,null,null,null,null,null,null,null,null,null,null,null,null,null,"",null,null,null,null,null,null,null,null,null,null,null,null,null,""]
[null,null,null,null,null,44,null,null,null,null,null,null,null,44,null,null,null,null,null,null,"",null,null,null,null,null,null,null,null,null,null,null,null,null,null,null,null,null,"",null,null,null,null,null,null,null,null,null,null,null,null,null,""]
[null,null,null,null,null,45,null,null,null,null,null,null,null,45,null,null,null,null,null,null,"",null,null,null,null,null,null,null,null,null,null,null,null,null,null,null,null,null,"",null,null,null,null,null,null,null,null,null,null,null,null,null,""]
[null,null,null,null,null,46,null,null,null,null,null,null,null,46,null,null,null,null,null,null,"",null,null,null,null,null,null,null,null,null,null,null,null,null,null,null,null,null,"",null,null,null,null,null,null,null,null,null,null,null,null,null,""]
[null,null,null,null,null,47,null,null,null,null,null,null,null,47,null,null,null,null,null,null,"",null,null,null,null,null,null,null,null,null,null,null,null,null,null,null,null,null,"",null,null,null,null,null,null,null,null,null,null,null,null,null,""]
[null,null,null,null,null,48,null,null,null,null,null,null,null,48,null,null,null,null,null,null,"",null,null,null,null,null,null,null,null,null,null,null,null,null,null,null,null,null,"",null,null,null,null,null,null,null,null,null,null,null,null,null,""]
[null,null,null,null,null,49,null,null,null,null,null,null,null,49,null,null,null,null,null,null,"",null,null,null,null,null,null,null,null,null,null,null,null,null,null,null,null,null,"",null,null,null,null,null,null,null,null,null,null,null,null,null,""]
[null,null,null,null,null,50,null,null,null,null,null,null,null,50,null,null,null,null,null,null,"",null,null,null,null,null,null,null,null,null,null,null,null,null,null,null,null,null,"",null,null,null,null,null,null,null,null,null,null,null,null,null,""]
[null,null,null,null,null,51,null,null,null,null,null,null,null,51,null,null,null,null,null,null,"",null,null,null,null,null,null,null,null,null,null,null,null,null,null,null,null,null,"",null,null,null,null,null,null,null,null,null,null,null,null,null,""]
[null,null,null,null,null,52,null,null,null,null,null,null,null,52,null,null,null,null,null,null,"",null,null,null,null,null,null,null,null,null,null,null,null,null,null,null,null,null,"",null,null,null,null,null,null,null,null,null,null,null,null,null,""]
[null,null,null,null,null,53,null,null,null,null,null,null,null,53,null,null,null,null,null,null,"",null,null,null,null,null,null,null,null,null,null,null,null,null,null,null,null,null,"",null,null,null,null,null,null,null,null,null,null,null,null,null,""]
[null,null,null,null,null,54,null,null,null,null,null,null,null,54,null,null,null,null,null,null,"",null,null,null,null,null,null,null,null,null,null,null,null,null,null,null,null,null,"",null,null,null,null,null,null,null,null,null,null,null,null,null,""]
[null,null,null,null,null,55,null,null,null,null,null,null,null,55,null,null,null,null,null,null,"",null,null,null,null,null,null,null,null,null,null,null,null,null,null,null,null,null,"",null,null,null,null,null,null,null,null,null,null,null,null,null,""]
[null,null,null,null,null,56,null,null,null,null,null,null,null,56,null,null,null,null,null,null,"",null,null,null,null,null,null,null,null,null,null,null,null,null,null,null,null,null,"",null,null,null,null,null,null,null,null,null,null,null,null,null,""]
[null,null,null,null,null,57,null,null,null,null,null,null,null,57,null,null,null,null,null,null,"",null,null,null,null,null,null,null,null,null,null,null,null,null,null,null,null,null,"",null,null,null,null,null,null,null,null,null,null,null,null,null,""]
[null,null,null,null,null,58,null,null,null,null,null,null,null,58,null,null,null,null,null,null,"",null,null,null,null,null,null,null,null,null,null,null,null,null,null,null,null,null,"",null,null,null,null,null,null,null,null,null,null,null,null,null,""]
[null,null,null,null,null,59,null,null,null,null,null,null,null,59,null,null,null,null,null,null,"",null,null,null,null,null,null,null,null,null,null,null,null,null,null,null,null,null,"",null,null,null,null,null,null,null,null,null,null,null,null,null,""]
[null,null,null,null,null,60,null,null,null,null,null,null,null,60,null,null,null,null,null,null,"",null,null,null,null,null,null,null,null,null,null,null,null,null,null,null,null,null,"",null,null,null,null,null,null,null,null,null,null,null,null,null,""]
[null,null,null,null,null,61,null,null,null,null,null,null,null,61,null,null,null,null,null,null,"",null,null,null,null,null,null,null,null,null,null,null,null,null,null,null,null,null,"",null,null,null,null,null,null,null,null,null,null,null,null,null,""]
[null,null,null,null,null,62,null,null,null,null,null,null,null,62,null,null,null,null,null,null,"",null,null,null,null,null,null,null,null,null,null,null,null,null,null,null,null,null,"",null,null,null,null,null,null,null,null,null,null,null,null,null,""]
[null,null,null,null,null,63,null,null,null,null,null,null,null,63,null,null,null,null,null,null,"",null,null,null,null,null,null,null,null,null,null,null,null,null,null,null,null,null,"",null,null,null,null,null,null,null,null,null,null,null,null,null,""]
[null,null,null,null,null,64,null,null,null,null,null,null,null,64,null,null,null,null,null,null,"",null,null,null,null,null,null,null,null,null,null,null,null,null,null,null,null,null,"",null,null,null,null,null,null,null,null,null,null,null,null,null,""]
[null,null,null,null,null,65,null,null,null,null,null,null,null,65,null,null,null,null,null,null,"",null,null,null,null,null,null,null,null,null,null,null,null,null,null,null,null,null,"",null,null,null,null,null,null,null,null,null,null,null,null,null,""]
[null,null,null,null,null,66,null,null,null,null,null,null,null,66,null,null,null,null,null,null,"",null,null,null,null,null,null,null,null,null,null,null,null,null,null,null,null,null,"",null,null,null,null,null,null,null,null,null,null,null,null,null,""]
[null,null,null,null,null,67,null,null,null,null,null,null,null,67,null,null,null,null,null,null,"",null,null,null,null,null,null,null,null,null,null,null,null,null,null,null,null,null,"",null,null,null,null,null,null,null,null,null,null,null,null,null,""]
[null,null,null,null,null,68,null,null,null,null,null,null,null,68,null,null,null,null,null,null,"",null,null,null,null,null,null,null,null,null,null,null,null,null,null,null,null,null,"",null,null,null,null,null,null,null,null,null,null,null,null,null,""]
[null,null,null,null,null,69,null,null,null,null,null,null,null,69,null,null,null,null,null,null,"",null,null,null,null,null,null,null,null,null,null,null,null,null,null,null,null,null,"",null,null,null,null,null,null,null,null,null,null,null,null,null,""]
[null,null,null,null,null,70,null,null,null,null,null,null,null,70,null,null,null,null,null,null,"",null,null,null,null,null,null,null,null,null,null,null,null,null,null,null,null,null,"",null,null,null,null,null,null,null,null,null,null,null,null,null,""]
[null,null,null,null,null,71,null,null,null,null,null,null,null,71,null,null,null,null,null,null,"",null,null,null,null,null,null,null,null,null,null,null,null,null,null,null,null,null,"",null,null,null,null,null,null,null,null,null,null,null,null,null,""]
[null,null,null,null,null,72,null,null,null,null,null,null,null,72,null,null,null,null,null,null,"",null,null,null,null,null,null,null,null,null,null,null,null,null,null,null,null,null,"",null,null,null,null,null,null,null,null,null,null,null,null,null,""]
[null,null,null,null,null,73,null,null,null,null,null,null,null,73,null,null,null,null,null,null,"",null,null,null,null,null,null,null,null,null,null,null,null,null,null,null,null,null,"",null,null,null,null,null,null,null,null,null,null,null,null,null,""]
[null,null,null,null,null,74,null,null,null,null,null,null,null,74,null,null,null,null,null,null,"",null,null,null,null,null,null,null,null,null,null,null,null,null,null,null,null,null,"",null,null,null,null,null,null,null,null,null,null,null,null,null,""]
[null,null,null,null,null,75,null,null,null,null,null,null,null,75,null,null,null,null,null,null,"",null,null,null,null,null,null,null,null,null,null,null,null,null,null,null,null,null,"",null,null,null,null,null,null,null,null,null,null,null,null,null,""]
[null,null,null,null,null,76,null,null,null,null,null,null,null,76,null,null,null,null,null,null,"",null,null,null,null,null,null,null,null,null,null,null,null,null,null,null,null,null,"",null,null,null,null,null,null,null,null,null,null,null,null,null,""]
[null,null,null,null,null,77,null,null,null,null,null,null,null,77,null,null,null,null,null,null,"",null,null,null,null,null,null,null,null,null,null,null,null,null,null,null,null,null,"",null,null,null,null,null,null,null,null,null,null,null,null,null,""]
[null,null,null,null,null,78,null,null,null,null,null,null,null,78,null,null,null,null,null,null,"",null,null,null,null,null,null,null,null,null,null,null,null,null,null,null,null,null,"",null,null,null,null,null,null,null,null,null,null,null,null,null,""]
[null,null,null,null,null,79,null,null,null,null,null,null,null,79,null,null,null,null,null,null,"",null,null,null,null,null,null,null,null,null,null,null,null,null,null,null,null,null,"",null,null,null,null,null,null,null,null,null,null,null,null,null,""]
[null,null,null,null,null,80,null,null,null,null,null,null,null,80,null,null,null,null,null,null,"",null,null,null,null,null,null,null,null,null,null,null,null,null,null,null,null,null,"",null,null,null,null,null,null,null,null,null,null,null,null,null,""]
[null,null,null,null,null,81,null,null,null,null,null,null,null,81,null,null,null,null,null,null,"",null,null,null,null,null,null,null,null,null,null,null,null,null,null,null,null,null,"",null,null,null,null,null,null,null,null,null,null,null,null,null,""]
[null,null,null,null,null,82,null,null,null,null,null,null,null,82,null,null,null,null,null,null,"",null,null,null,null,null,null,null,null,null,null,null,null,null,null,null,null,null,"",null,null,null,null,null,null,null,null,null,null,null,null,null,""]
[null,null,null,null,null,83,null,null,null,null,null,null,null,83,null,null,null,null,null,null,"",null,null,null,null,null,null,null,null,null,null,null,null,null,null,null,null,null,"",null,null,null,null,null,null,null,null,null,null,null,null,null,""]
[null,null,null,null,null,84,null,null,null,null,null,null,null,84,null,null,null,null,null,null,"",null,null,null,null,null,null,null,null,null,null,null,null,null,null,null,null,null,"",null,null,null,null,null,null,null,null,null,null,null,null,null,""]
[null,null,null,null,null,85,null,null,null,null,null,null,null,85,null,null,null,null,null,null,"",null,null,null,null,null,null,null,null,null,null,null,null,null,null,null,null,null,"",null,null,null,null,null,null,null,null,null,null,null,null,null,""]
[null,null,null,null,null,86,null,null,null,null,null,null,null,86,null,null,null,null,null,null,"",null,null,null,null,null,null,null,null,null,null,null,null,null,null,null,null,null,"",null,null,null,null,null,null,null,null,null,null,null,null,null,""]
[null,null,null,null,null,87,null,null,null,null,null,null,null,87,null,null,null,null,null,null,"",null,null,null,null,null,null,null,null,null,null,null,null,null,null,null,null,null,"",null,null,null,null,null,null,null,null,null,null,null,null,null,""]
[null,null,null,null,null,88,null,null,null,null,null,null,null,88,null,null,null,null,null,null,"",null,null,null,null,null,null,null,null,null,null,null,null,null,null,null,null,null,"",null,null,null,null,null,null,null,null,null,null,null,null,null,""]
[null,null,null,null,null,89,null,null,null,null,null,null,null,89,null,null,null,null,null,null,"",null,null,null,null,null,null,null,null,null,null,null,null,null,null,null,null,null,"",null,null,null,null,null,null,null,null,null,null,null,null,null,""]
[null,null,null,null,null,90,null,null,null,null,null,null,null,90,null,null,null,null,null,null,"",null,null,null,null,null,null,null,null,null,null,null,null,null,null,null,null,null,"",null,null,null,null,null,null,null,null,null,null,null,null,null,""]
[null,null,null,null,null,91,null,null,null,null,null,null,null,91,null,null,null,null,null,null,"",null,null,null,null,null,null,null,null,null,null,null,null,null,null,null,null,null,"",null,null,null,null,null,null,null,null,null,null,null,null,null,""]
[null,null,null,null,null,92,null,null,null,null,null,null,null,92,null,null,null,null,null,null,"",null,null,null,null,null,null,null,null,null,null,null,null,null,null,null,null,null,"",null,null,null,null,null,null,null,null,null,null,null,null,null,""]
[null,null,null,null,null,93,null,null,null,null,null,null,null,93,null,null,null,null,null,null,"",null,null,null,null,null,null,null,null,null,null,null,null,null,null,null,null,null,"",null,null,null,null,null,null,null,null,null,null,null,null,null,""]
[null,null,null,null,null,94,null,null,null,null,null,null,null,94,null,null,null,null,null,null,"",null,null,null,null,null,null,null,null,null,null,null,null,null,null,null,null,null,"",null,null,null,null,null,null,null,null,null,null,null,null,null,""]
[null,null,null,null,null,95,null,null,null,null,null,null,null,95,null,null,null,null,null,null,"",null,null,null,null,null,null,null,null,null,null,null,null,null,null,null,null,null,"",null,null,null,null,null,null,null,null,null,null,null,null,null,""]
[null,null,null,null,null,96,null,null,null,null,null,null,null,96,null,null,null,null,null,null,"",null,null,null,null,null,null,null,null,null,null,null,null,null,null,null,null,null,"",null,null,null,null,null,null,null,null,null,null,null,null,null,""]
[null,null,null,null,null,97,null,null,null,null,null,null,null,97,null,null,null,null,null,null,"",null,null,null,null,null,null,null,null,null,null,null,null,null,null,null,null,null,"",null,null,null,null,null,null,null,null,null,null,null,null,null,""]
[null,null,null,null,null,98,null,null,null,null,null,null,null,98,null,null,null,null,null,null,"",null,null,null,null,null,null,null,null,null,null,null,null,null,null,null,null,null,"",null,null,null,null,null,null,null,null,null,null,null,null,null,""]
[null,null,null,null,null,99,null,null,null,null,null,null,null,99,null,null,null,null,null,null,"",null,null,null,null,null,null,null,null,null,null,null,null,null,null,null,null,null,"",null,null,null,null,null,null,null,null,null,null,null,null,null,""]
[null,null,null,null,null,100,null,null,null,null,null,null,null,100,null,null,null,null,null,null,"",null,null,null,null,null,null,null,null,null,null,null,null,null,null,null,null,null,"",null,null,null,null,null,null,null,null,null,null,null,null,null,""]
[null,null,null,null,null,null,null,null,null,null,null,"",null,null,null,null,null,null,null,null,null,null,null,null,null,null,null,null,null,null,null,null,null,null,null,null,null,"",null,null,null,null,null,null,null,null,null,null,null,null,null,""]
[null,null,null,null,null,null,null,null,null,null,null,"",null,null,null,null,null,null,null,null,null,null,null,null,null,null,null,null,null,null,null,null,null,null,null,null,null,"",null,null,null,null,null,null,null,null,null,null,null,null,null,""]
[null,null,null,null,null,"",null,null,null,null,null,null,"",null,null,null,null,null,null,null,null,null,null,null,null,null,null,null,null,null,null,null,null,null,null,null,null,null,"",null,null,null,null,null,null,null,null,null,null,null,null,null,""]
[null,null,null,null,null,"",null,null,null,null,null,null,"",null,null,null,null,null,null,null,null,null,null,null,null,null,null,null,null,null,null,null,null,null,null,null,null,null,"",null,null,null,null,null,null,null,null,null,null,null,null,null,""]
[null,null,null,null,null,"",null,null,null,null,null,null,"",null,null,null,null,null,null,null,null,null,null,null,null,null,null,null,null,null,null,null,null,null,null,null,null,null,"",null,null,null,null,null,null,null,null,null,null,null,null,null,""]
[null,null,null,null,null,null,null,null,null,null,null,null,"",null,null,null,null,null,null,null,null,null,null,null,null,null,null,null,null,null,null,null,null,null,null,null,null,null,"",null,null,null,null,null,null,null,null,null,null,null,null,null,""]
[null,null,null,null,null,null,null,null,null,null,null,null,"",null,null,null,null,null,null,null,null,null,null,null,null,null,null,null,null,null,null,null,null,null,null,null,null,null,"",null,null,null,null,null,null,null,null,null,null,null,null,null,""]
[null,null,null,null,null,null,null,null,null,null,null,null,"",null,null,null,null,null,null,null,null,null,null,null,null,null,null,null,null,null,null,null,null,null,null,null,null,null,"",null,null,null,null,null,null,null,null,null,null,null,null,null,""]
[null,null,null,null,null,null,null,null,null,null,null,null,"",null,null,null,null,null,null,null,null,null,null,null,null,null,null,null,null,null,null,null,null,null,null,null,null,null,"",null,null,null,null,null,null,null,null,null,null,null,null,null,""]
[]
[]
[null,null,null,null,null,null,null,null,null,null,null,null,"",null,null,null,null,null,null,null,null,null,null,null,null,null,null,null,null,null,null,null,null,null,null,null,null,null,"",null,null,null,null,null,null,null,null,null,null,null,null,null,""]
[null,null,null,null,null,null,null,null,null,null,null,null,"",null,null,null,null,null,null,null,null,null,null,null,null,null,null,null,null,null,null,null,null,null,null,null,null,null,"",null,null,null,null,null,null,null,null,null,null,null,null,null,""]
[null,null,null,null,null,null,null,null,null,null,null,null,"",null,null,null,null,null,null,null,null,null,null,null,null,null,null,null,null,null,null,null,null,null,null,null,null,null,"",null,null,null,null,null,null,null,null,null,null,null,null,null,""]
[null,null,null,null,null,null,null,null,null,null,null,null,"",null,null,null,null,null,null,null,null,null,null,null,null,null,null,null,null,null,null,null,null,null,null,null,null,null,"",null,null,null,null,null,null,null,null,null,null,null,null,null,""]
[null,null,null,null,null,null,null,null,null,null,null,null,"",null,null,null,null,null,null,null,null,null,null,null,null,null,null,null,null,null,null,null,null,null,null,null,null,null,"",null,null,null,null,null,null,null,null,null,null,null,null,null,""]
[null,null,null,null,null,null,null,null,null,null,null,null,"",null,null,null,null,null,null,null,null,null,null,null,null,null,null,null,null,null,null,null,null,null,null,null,null,null,"",null,null,null,null,null,null,null,null,null,null,null,null,null,""]
[null,null,null,null,null,null,null,null,null,null,null,null,"",null,null,null,null,null,null,null,null,null,null,null,null,null,null,null,null,null,null,null,null,null,null,null,null,null,"",null,null,null,null,null,null,null,null,null,null,null,null,null,""]
[null,null,null,null,null,null,null,null,null,null,null,null,null,null,null,null,null,null,null,null,null,null,null,null,null,null,null,null,null,null,null,null,null,null,null,null,null,null,"",null,null,null,null,null,null,null,null,null,null,null,null,null,""]
[null,null,null,null,null,null,null,null,null,null,null,null,null,null,null,null,null,null,null,null,null,null,null,null,null,null,null,null,null,null,null,null,null,null,null,null,null,null,"",null,null,null,null,null,null,null,null,null,null,null,null,null,""]
[null,null,null,null,null,null,null,null,null,null,null,null,null,null,null,null,null,null,null,null,null,null,null,null,null,null,null,null,null,null,null,null,null,null,null,null,null,null,"",null,null,null,null,null,null,null,null,null,null,null,null,null,""]
[null,null,null,null,null,null,null,null,null,null,null,null,null,null,null,null,null,null,null,null,null,null,null,null,null,null,null,null,null,null,null,null,null,null,null,null,null,null,"",null,null,null,null,null,null,null,null,null,null,null,null,null,""]

{"sheet":"申込個票","index":2,"n_rows":156,"n_cols":71,"rows_kept":156,"cut":false,"hidden":false,"merged":[[1,54,1,70],[2,9,2,16],[2,25,2,32],[2,36,2,37],[1,36,1,37],[1,27,1,28],[1,4,1,25],[3,2,3,5],[3,18,3,21],[3,36,3,41],[2,2,2,8],[2,18,2,24]]}
[]
[null,null,null,null,"このシートは個票の男女各１２０種目人分です。入力したデータは、申込み一覧表に表示反映されます。\n正しく表示されない場合は、所属競技者データ作成での半角英数入力・ソート（並び替え）をして下さい。",null,null,null,null,null,null,null,null,null,null,null,null,null,null,null,null,null,null,null,null,null,null,null,null,null,null,null,null,null,null,null,"競技者\nデータページ",null,null,null,null,null,null,null,null,null,null,null,null,null,null,null,null,null,"入力データ、\n半角英数処理表示列"]
[null,null,"男子競技者データ\n（申込み個票）",null,null,null,null,null,null,"入力は、下部黄色セルだけです。種目・集計数は右記を参照。なお　リレーは　４００RSA、４００RSB、　16００RＳA、16００RＳB　のように入力",null,null,null,null,null,null,null,null,"女子競技者データ\n（申込み個票）",null,null,null,null,null,null,"入力は、下部黄色セルだけです。種目・集計数は右記を参照。なお　リレーは　４００RSA、４００RSB、　16００RＳA、16００RＳB　のように入力",null,null,null,null,null,null,null,null,null,null,"競技者データ\n作成の説明へ",null,null,null,null,null,null,null,null,null,null,null,null,null,null,null,null,null,"男子",null,null,null,null,null,null,null,null,"女子"]
[null,null,"男子所属競技者\n整理番号一覧表",null,null,null,null,"整理\n番号\n入力①","登　録\nナンバー","出場競技\n種目名\n入力②","自己ベスト\n申請記録\n入力③","氏","名","所属","学年","出身\n都道府県","生年月日\n西暦下２桁",null,"女子所属競技者\n整理番号一覧表",null,null,null,null,"整理\n番号\n入力①","登　録\nナンバー","出場競技\n種目名\n入力②","自己ベスト\n申請記録\n入力③","氏","名","所属","学年","出身\n都道府県","生年月日\n西暦下２桁",null,null,null,"参加種目入力数集計確認表",null,null,null,null,null,null,null,null,null,null,null,null,null,null,null,null,null,"ナンバー","出場競技","申請記録","氏","名","支部","所属","学年",null,"ナンバー","出場競技","申請記録","氏","名","支部","所属","学年"]
[null,null,"番号","競技者名",null,null,null,1,1234,3000,10.119999999999999,"松戸","一郎","東葛大",2,"東京","98.05．26",null,"番号","競技者名",null,null,null,1,5688,1500,5.15,"千葉","花子","club チーバ",null,null,"98.05．26",null,null,null,"開催種目名","入力記号","男子人数",null,"女子人数"]
[null,null,1,{"$f":"IF(所属競技者データ!H11=\"\",\"\",所属競技者データ!H11&\" \"&所属競技者データ!I11)","v":""},null,null,null,null,{"$f":"IF($H6=\"\",\"\",(VLOOKUP($H6,所属競技者データ!$F$11:$L$110,2,FALSE)))","v":""},null,null,{"$f":"IF($H6=\"\",\"\",(VLOOKUP($H6,所属競技者データ!$F$11:$L$110,3,FALSE)))","v":""},{"$f":"IF($H6=\"\",\"\",(VLOOKUP($H6,所属競技者データ!$F$11:$L$110,4,FALSE)))","v":""},{"$f":"IF(H6=\"\",\"\",所属競技者データ!$I$6)","v":""},{"$f":"IF($H6=\"\",\"\",(VLOOKUP($H6,所属競技者データ!$F$11:$L$110,5,FALSE)))","v":""},{"$f":"IF($H6=\"\",\"\",(VLOOKUP($H6,所属競技者データ!$F$11:$L$110,6)))","v":""},{"$f":"IF($H6=\"\",\"\",(VLOOKUP($H6,所属競技者データ!$F$11:$L$110,7,FALSE)))","v":""},null,1,{"$f":"IF(所属競技者データ!P11=\"\",\"\",所属競技者データ!P11&\" \"&所属競技者データ!Q11)","v":""},null,null,null,null,{"$f":"IF($X6=\"\",\"\",(VLOOKUP($X6,所属競技者データ!$N$11:$T$110,2,FALSE)))","v":""},null,null,{"$f":"IF($X6=\"\",\"\",(VLOOKUP($X6,所属競技者データ!$N$11:$T$110,3,FALSE)))","v":""},{"$f":"IF($X6=\"\",\"\",(VLOOKUP($X6,所属競技者データ!$N$11:$T$110,4,FALSE)))","v":""},{"$f":"IF(X6=\"\",\"\",所属競技者データ!$I$6)","v":""},{"$f":"IF($X6=\"\",\"\",(VLOOKUP($X6,所属競技者データ!$N$11:$T$110,5,FALSE)))","v":""},{"$f":"IF($X6=\"\",\"\",(VLOOKUP($X6,所属競技者データ!$N$11:$T$110,6)))","v":""},{"$f":"IF($X6=\"\",\"\",(VLOOKUP($X6,所属競技者データ!$N$11:$T$110,7,FALSE)))","v":""},null,null,null,"　１００ｍ  計",100,{"$f":"COUNTIFS(J$6:J$125,$AL6)","v":0},"人",{"$f":"COUNTIFS(Z$6:Z$125,$AL6)","v":0},"人",null,null,null,null,null,null,null,null,null,null,null,null,{"$f":"IF($H6=\"\",\"\",(ASC(I6)))","v":""},{"$f":"IF($H6=\"\",\"\",(ASC(J6)))","v":""},{"$f":"IF($H6=\"\",\"\",(ASC(K6)))","v":""},{"$f":"IF($H6=\"\",\"\",(ASC(L6)))","v":""},{"$f":"IF($H6=\"\",\"\",(ASC(M6)))","v":""},null,{"$f":"IF($H6=\"\",\"\",(ASC(N6)))","v":""},{"$f":"IF($H6=\"\",\"\",(ASC(O6)))","v":""},null,{"$f":"IF($X6=\"\",\"\",(ASC(Y6)))","v":""},{"$f":"IF($X6=\"\",\"\",(ASC(Z6)))","v":""},{"$f":"IF($X6=\"\",\"\",(ASC(AA6)))","v":""},{"$f":"IF($X6=\"\",\"\",(ASC(AB6)))","v":""},{"$f":"IF($X6=\"\",\"\",(ASC(AC6)))","v":""},null,{"$f":"IF($X6=\"\",\"\",(ASC(AD6)))","v":""},{"$f":"IF($X6=\"\",\"\",(ASC(AE6)))","v":""}]
[null,null,2,{"$f":"IF(所属競技者データ!H12=\"\",\"\",所属競技者データ!H12&\" \"&所属競技者データ!I12)","v":""},null,null,null,null,{"$f":"IF($H7=\"\",\"\",(VLOOKUP($H7,所属競技者データ!$F$11:$L$110,2,FALSE)))","v":""},null,null,{"$f":"IF($H7=\"\",\"\",(VLOOKUP($H7,所属競技者データ!$F$11:$L$110,3,FALSE)))","v":""},{"$f":"IF($H7=\"\",\"\",(VLOOKUP($H7,所属競技者データ!$F$11:$L$110,4,FALSE)))","v":""},{"$f":"IF(H7=\"\",\"\",所属競技者データ!$I$6)","v":""},{"$f":"IF($H7=\"\",\"\",(VLOOKUP($H7,所属競技者データ!$F$11:$L$110,5,FALSE)))","v":""},{"$f":"IF($H7=\"\",\"\",(VLOOKUP($H7,所属競技者データ!$F$11:$L$110,6)))","v":""},{"$f":"IF($H7=\"\",\"\",(VLOOKUP($H7,所属競技者データ!$F$11:$L$110,7,FALSE)))","v":""},null,2,{"$f":"IF(所属競技者データ!P12=\"\",\"\",所属競技者データ!P12&\" \"&所属競技者データ!Q12)","v":""},null,null,null,null,{"$f":"IF($X7=\"\",\"\",(VLOOKUP($X7,所属競技者データ!$N$11:$T$110,2,FALSE)))","v":""},null,null,{"$f":"IF($X7=\"\",\"\",(VLOOKUP($X7,所属競技者データ!$N$11:$T$110,3,FALSE)))","v":""},{"$f":"IF($X7=\"\",\"\",(VLOOKUP($X7,所属競技者データ!$N$11:$T$110,4,FALSE)))","v":""},{"$f":"IF(X7=\"\",\"\",所属競技者データ!$I$6)","v":""},{"$f":"IF($X7=\"\",\"\",(VLOOKUP($X7,所属競技者データ!$N$11:$T$110,5,FALSE)))","v":""},{"$f":"IF($X7=\"\",\"\",(VLOOKUP($X7,所属競技者データ!$N$11:$T$110,6)))","v":""},{"$f":"IF($X7=\"\",\"\",(VLOOKUP($X7,所属競技者データ!$N$11:$T$110,7,FALSE)))","v":""},null,null,null,"　　〃　         １年",100,{"$f":"COUNTIFS($J$6:$J$125,$AL7,$O$6:$O$125,1)","v":0},null,{"$f":"COUNTIFS($Z$6:$Z$125,$AL7,$AE$6:$AE$125,1)","v":0},null,null,null,null,null,null,null,null,null,null,null,null,null,{"$f":"IF($H7=\"\",\"\",(ASC(I7)))","v":""},{"$f":"IF($H7=\"\",\"\",(ASC(J7)))","v":""},{"$f":"IF($H7=\"\",\"\",(ASC(K7)))","v":""},{"$f":"IF($H7=\"\",\"\",(ASC(L7)))","v":""},{"$f":"IF($H7=\"\",\"\",(ASC(M7)))","v":""},null,{"$f":"IF($H7=\"\",\"\",(ASC(N7)))","v":""},{"$f":"IF($H7=\"\",\"\",(ASC(O7)))","v":""},null,{"$f":"IF($X7=\"\",\"\",(ASC(Y7)))","v":""},{"$f":"IF($X7=\"\",\"\",(ASC(Z7)))","v":""},{"$f":"IF($X7=\"\",\"\",(ASC(AA7)))","v":""},{"$f":"IF($X7=\"\",\"\",(ASC(AB7)))","v":""},{"$f":"IF($X7=\"\",\"\",(ASC(AC7)))","v":""},null,{"$f":"IF($X7=\"\",\"\",(ASC(AD7)))","v":""},{"$f":"IF($X7=\"\",\"\",(ASC(AE7)))","v":""}]
[null,null,3,{"$f":"IF(所属競技者データ!H13=\"\",\"\",所属競技者データ!H13&\" \"&所属競技者データ!I13)","v":""},null,null,null,null,{"$f":"IF($H8=\"\",\"\",(VLOOKUP($H8,所属競技者データ!$F$11:$L$110,2,FALSE)))","v":""},null,null,{"$f":"IF($H8=\"\",\"\",(VLOOKUP($H8,所属競技者データ!$F$11:$L$110,3,FALSE)))","v":""},{"$f":"IF($H8=\"\",\"\",(VLOOKUP($H8,所属競技者データ!$F$11:$L$110,4,FALSE)))","v":""},{"$f":"IF(H8=\"\",\"\",所属競技者データ!$I$6)","v":""},{"$f":"IF($H8=\"\",\"\",(VLOOKUP($H8,所属競技者データ!$F$11:$L$110,5,FALSE)))","v":""},{"$f":"IF($H8=\"\",\"\",(VLOOKUP($H8,所属競技者データ!$F$11:$L$110,6)))","v":""},{"$f":"IF($H8=\"\",\"\",(VLOOKUP($H8,所属競技者データ!$F$11:$L$110,7,FALSE)))","v":""},null,3,{"$f":"IF(所属競技者データ!P13=\"\",\"\",所属競技者データ!P13&\" \"&所属競技者データ!Q13)","v":""},null,null,null,null,{"$f":"IF($X8=\"\",\"\",(VLOOKUP($X8,所属競技者データ!$N$11:$T$110,2,FALSE)))","v":""},null,null,{"$f":"IF($X8=\"\",\"\",(VLOOKUP($X8,所属競技者データ!$N$11:$T$110,3,FALSE)))","v":""},{"$f":"IF($X8=\"\",\"\",(VLOOKUP($X8,所属競技者データ!$N$11:$T$110,4,FALSE)))","v":""},{"$f":"IF(X8=\"\",\"\",所属競技者データ!$I$6)","v":""},{"$f":"IF($X8=\"\",\"\",(VLOOKUP($X8,所属競技者データ!$N$11:$T$110,5,FALSE)))","v":""},{"$f":"IF($X8=\"\",\"\",(VLOOKUP($X8,所属競技者データ!$N$11:$T$110,6)))","v":""},{"$f":"IF($X8=\"\",\"\",(VLOOKUP($X8,所属競技者データ!$N$11:$T$110,7,FALSE)))","v":""},null,null,null,"　　〃　         ２年",100,{"$f":"COUNTIFS($J$6:$J$125,$AL8,$O$6:$O$125,2)","v":0},null,{"$f":"COUNTIFS($Z$6:$Z$125,$AL8,$AE$6:$AE$125,2)","v":0},null,null,null,null,null,null,null,null,null,null,null,null,null,"","","","","",null,"","",null,"","","","","",null,"",""]
[null,null,4,{"$f":"IF(所属競技者データ!H14=\"\",\"\",所属競技者データ!H14&\" \"&所属競技者データ!I14)","v":""},null,null,null,null,{"$f":"IF($H9=\"\",\"\",(VLOOKUP($H9,所属競技者データ!$F$11:$L$110,2,FALSE)))","v":""},null,null,{"$f":"IF($H9=\"\",\"\",(VLOOKUP($H9,所属競技者データ!$F$11:$L$110,3,FALSE)))","v":""},{"$f":"IF($H9=\"\",\"\",(VLOOKUP($H9,所属競技者データ!$F$11:$L$110,4,FALSE)))","v":""},{"$f":"IF(H9=\"\",\"\",所属競技者データ!$I$6)","v":""},{"$f":"IF($H9=\"\",\"\",(VLOOKUP($H9,所属競技者データ!$F$11:$L$110,5,FALSE)))","v":""},{"$f":"IF($H9=\"\",\"\",(VLOOKUP($H9,所属競技者データ!$F$11:$L$110,6)))","v":""},{"$f":"IF($H9=\"\",\"\",(VLOOKUP($H9,所属競技者データ!$F$11:$L$110,7,FALSE)))","v":""},null,4,{"$f":"IF(所属競技者データ!P14=\"\",\"\",所属競技者データ!P14&\" \"&所属競技者データ!Q14)","v":""},null,null,null,null,{"$f":"IF($X9=\"\",\"\",(VLOOKUP($X9,所属競技者データ!$N$11:$T$110,2,FALSE)))","v":""},null,null,{"$f":"IF($X9=\"\",\"\",(VLOOKUP($X9,所属競技者データ!$N$11:$T$110,3,FALSE)))","v":""},{"$f":"IF($X9=\"\",\"\",(VLOOKUP($X9,所属競技者データ!$N$11:$T$110,4,FALSE)))","v":""},{"$f":"IF(X9=\"\",\"\",所属競技者データ!$I$6)","v":""},{"$f":"IF($X9=\"\",\"\",(VLOOKUP($X9,所属競技者データ!$N$11:$T$110,5,FALSE)))","v":""},{"$f":"IF($X9=\"\",\"\",(VLOOKUP($X9,所属競技者データ!$N$11:$T$110,6)))","v":""},{"$f":"IF($X9=\"\",\"\",(VLOOKUP($X9,所属競技者データ!$N$11:$T$110,7,FALSE)))","v":""},null,null,null,"　　〃　         ３年",100,{"$f":"COUNTIFS($J$6:$J$125,$AL9,$O$6:$O$125,3)","v":0},null,{"$f":"COUNTIFS($Z$6:$Z$125,$AL9,$AE$6:$AE$125,3)","v":0},null,null,null,null,null,null,null,null,null,null,null,null,null,"","","","","",null,"","",null,"","","","","",null,"",""]
[null,null,5,{"$f":"IF(所属競技者データ!H15=\"\",\"\",所属競技者データ!H15&\" \"&所属競技者データ!I15)","v":""},null,null,null,null,{"$f":"IF($H10=\"\",\"\",(VLOOKUP($H10,所属競技者データ!$F$11:$L$110,2,FALSE)))","v":""},null,null,{"$f":"IF($H10=\"\",\"\",(VLOOKUP($H10,所属競技者データ!$F$11:$L$110,3,FALSE)))","v":""},{"$f":"IF($H10=\"\",\"\",(VLOOKUP($H10,所属競技者データ!$F$11:$L$110,4,FALSE)))","v":""},{"$f":"IF(H10=\"\",\"\",所属競技者データ!$I$6)","v":""},{"$f":"IF($H10=\"\",\"\",(VLOOKUP($H10,所属競技者データ!$F$11:$L$110,5,FALSE)))","v":""},{"$f":"IF($H10=\"\",\"\",(VLOOKUP($H10,所属競技者データ!$F$11:$L$110,6)))","v":""},{"$f":"IF($H10=\"\",\"\",(VLOOKUP($H10,所属競技者データ!$F$11:$L$110,7,FALSE)))","v":""},null,5,{"$f":"IF(所属競技者データ!P15=\"\",\"\",所属競技者データ!P15&\" \"&所属競技者データ!Q15)","v":""},null,null,null,null,{"$f":"IF($X10=\"\",\"\",(VLOOKUP($X10,所属競技者データ!$N$11:$T$110,2,FALSE)))","v":""},null,null,{"$f":"IF($X10=\"\",\"\",(VLOOKUP($X10,所属競技者データ!$N$11:$T$110,3,FALSE)))","v":""},{"$f":"IF($X10=\"\",\"\",(VLOOKUP($X10,所属競技者データ!$N$11:$T$110,4,FALSE)))","v":""},{"$f":"IF(X10=\"\",\"\",所属競技者データ!$I$6)","v":""},{"$f":"IF($X10=\"\",\"\",(VLOOKUP($X10,所属競技者データ!$N$11:$T$110,5,FALSE)))","v":""},{"$f":"IF($X10=\"\",\"\",(VLOOKUP($X10,所属競技者データ!$N$11:$T$110,6)))","v":""},{"$f":"IF($X10=\"\",\"\",(VLOOKUP($X10,所属競技者データ!$N$11:$T$110,7,FALSE)))","v":""},null,null,null,"共通２００ｍ",200,{"$f":"COUNTIFS(J$6:J$125,$AL10)","v":0},"人",{"$f":"COUNTIFS(Z$6:Z$125,$AL10)","v":0},"人",null,null,null,null,null,null,null,null,null,null,null,null,"","","","","",null,"","",null,"","","","","",null,"",""]
[null,null,6,{"$f":"IF(所属競技者データ!H16=\"\",\"\",所属競技者データ!H16&\" \"&所属競技者データ!I16)","v":""},null,null,null,null,{"$f":"IF($H11=\"\",\"\",(VLOOKUP($H11,所属競技者データ!$F$11:$L$110,2,FALSE)))","v":""},null,null,{"$f":"IF($H11=\"\",\"\",(VLOOKUP($H11,所属競技者データ!$F$11:$L$110,3,FALSE)))","v":""},{"$f":"IF($H11=\"\",\"\",(VLOOKUP($H11,所属競技者データ!$F$11:$L$110,4,FALSE)))","v":""},{"$f":"IF(H11=\"\",\"\",所属競技者データ!$I$6)","v":""},{"$f":"IF($H11=\"\",\"\",(VLOOKUP($H11,所属競技者データ!$F$11:$L$110,5,FALSE)))","v":""},{"$f":"IF($H11=\"\",\"\",(VLOOKUP($H11,所属競技者データ!$F$11:$L$110,6)))","v":""},{"$f":"IF($H11=\"\",\"\",(VLOOKUP($H11,所属競技者データ!$F$11:$L$110,7,FALSE)))","v":""},null,6,{"$f":"IF(所属競技者データ!P16=\"\",\"\",所属競技者データ!P16&\" \"&所属競技者データ!Q16)","v":""},null,null,null,null,{"$f":"IF($X11=\"\",\"\",(VLOOKUP($X11,所属競技者データ!$N$11:$T$110,2,FALSE)))","v":""},null,null,{"$f":"IF($X11=\"\",\"\",(VLOOKUP($X11,所属競技者データ!$N$11:$T$110,3,FALSE)))","v":""},{"$f":"IF($X11=\"\",\"\",(VLOOKUP($X11,所属競技者データ!$N$11:$T$110,4,FALSE)))","v":""},{"$f":"IF(X11=\"\",\"\",所属競技者データ!$I$6)","v":""},{"$f":"IF($X11=\"\",\"\",(VLOOKUP($X11,所属競技者データ!$N$11:$T$110,5,FALSE)))","v":""},{"$f":"IF($X11=\"\",\"\",(VLOOKUP($X11,所属競技者データ!$N$11:$T$110,6)))","v":""},{"$f":"IF($X11=\"\",\"\",(VLOOKUP($X11,所属競技者データ!$N$11:$T$110,7,FALSE)))","v":""},null,null,null,"共通４００ｍ",400,0,"人",0,"人",null,null,null,null,null,null,null,null,null,null,null,null,"","","","","",null,"","",null,"","","","","",null,"",""]
[null,null,7,{"$f":"IF(所属競技者データ!H17=\"\",\"\",所属競技者データ!H17&\" \"&所属競技者データ!I17)","v":""},null,null,null,null,{"$f":"IF($H12=\"\",\"\",(VLOOKUP($H12,所属競技者データ!$F$11:$L$110,2,FALSE)))","v":""},null,null,{"$f":"IF($H12=\"\",\"\",(VLOOKUP($H12,所属競技者データ!$F$11:$L$110,3,FALSE)))","v":""},{"$f":"IF($H12=\"\",\"\",(VLOOKUP($H12,所属競技者データ!$F$11:$L$110,4,FALSE)))","v":""},{"$f":"IF(H12=\"\",\"\",所属競技者データ!$I$6)","v":""},{"$f":"IF($H12=\"\",\"\",(VLOOKUP($H12,所属競技者データ!$F$11:$L$110,5,FALSE)))","v":""},{"$f":"IF($H12=\"\",\"\",(VLOOKUP($H12,所属競技者データ!$F$11:$L$110,6)))","v":""},{"$f":"IF($H12=\"\",\"\",(VLOOKUP($H12,所属競技者データ!$F$11:$L$110,7,FALSE)))","v":""},null,7,{"$f":"IF(所属競技者データ!P17=\"\",\"\",所属競技者データ!P17&\" \"&所属競技者データ!Q17)","v":""},null,null,null,null,{"$f":"IF($X12=\"\",\"\",(VLOOKUP($X12,所属競技者データ!$N$11:$T$110,2,FALSE)))","v":""},null,null,{"$f":"IF($X12=\"\",\"\",(VLOOKUP($X12,所属競技者データ!$N$11:$T$110,3,FALSE)))","v":""},{"$f":"IF($X12=\"\",\"\",(VLOOKUP($X12,所属競技者データ!$N$11:$T$110,4,FALSE)))","v":""},{"$f":"IF(X12=\"\",\"\",所属競技者データ!$I$6)","v":""},{"$f":"IF($X12=\"\",\"\",(VLOOKUP($X12,所属競技者データ!$N$11:$T$110,5,FALSE)))","v":""},{"$f":"IF($X12=\"\",\"\",(VLOOKUP($X12,所属競技者データ!$N$11:$T$110,6)))","v":""},{"$f":"IF($X12=\"\",\"\",(VLOOKUP($X12,所属競技者データ!$N$11:$T$110,7,FALSE)))","v":""},null,null,null,"共通８００ｍ",800,0,"人",0,"人",null,null,null,null,null,null,null,null,null,null,null,null,"","","","","",null,"","",null,"","","","","",null,"",""]
[null,null,8,{"$f":"IF(所属競技者データ!H18=\"\",\"\",所属競技者データ!H18&\" \"&所属競技者データ!I18)","v":""},null,null,null,null,{"$f":"IF($H13=\"\",\"\",(VLOOKUP($H13,所属競技者データ!$F$11:$L$110,2,FALSE)))","v":""},null,null,{"$f":"IF($H13=\"\",\"\",(VLOOKUP($H13,所属競技者データ!$F$11:$L$110,3,FALSE)))","v":""},{"$f":"IF($H13=\"\",\"\",(VLOOKUP($H13,所属競技者データ!$F$11:$L$110,4,FALSE)))","v":""},{"$f":"IF(H13=\"\",\"\",所属競技者データ!$I$6)","v":""},{"$f":"IF($H13=\"\",\"\",(VLOOKUP($H13,所属競技者データ!$F$11:$L$110,5,FALSE)))","v":""},{"$f":"IF($H13=\"\",\"\",(VLOOKUP($H13,所属競技者データ!$F$11:$L$110,6)))","v":""},{"$f":"IF($H13=\"\",\"\",(VLOOKUP($H13,所属競技者データ!$F$11:$L$110,7,FALSE)))","v":""},null,8,{"$f":"IF(所属競技者データ!P18=\"\",\"\",所属競技者データ!P18&\" \"&所属競技者データ!Q18)","v":""},null,null,null,null,{"$f":"IF($X13=\"\",\"\",(VLOOKUP($X13,所属競技者データ!$N$11:$T$110,2,FALSE)))","v":""},null,null,{"$f":"IF($X13=\"\",\"\",(VLOOKUP($X13,所属競技者データ!$N$11:$T$110,3,FALSE)))","v":""},{"$f":"IF($X13=\"\",\"\",(VLOOKUP($X13,所属競技者データ!$N$11:$T$110,4,FALSE)))","v":""},{"$f":"IF(X13=\"\",\"\",所属競技者データ!$I$6)","v":""},{"$f":"IF($X13=\"\",\"\",(VLOOKUP($X13,所属競技者データ!$N$11:$T$110,5,FALSE)))","v":""},{"$f":"IF($X13=\"\",\"\",(VLOOKUP($X13,所属競技者データ!$N$11:$T$110,6)))","v":""},{"$f":"IF($X13=\"\",\"\",(VLOOKUP($X13,所属競技者データ!$N$11:$T$110,7,FALSE)))","v":""},null,null,null,"　１５００ｍ　計",1500,0,"人",{"$f":"COUNTIFS(Z$6:Z$125,$AL13)","v":0},"人",null,null,null,null,null,null,null,null,null,null,null,null,"","","","","",null,"","",null,"","","","","",null,"",""]
[null,null,9,{"$f":"IF(所属競技者データ!H19=\"\",\"\",所属競技者データ!H19&\" \"&所属競技者データ!I19)","v":""},null,null,null,null,{"$f":"IF($H14=\"\",\"\",(VLOOKUP($H14,所属競技者データ!$F$11:$L$110,2,FALSE)))","v":""},null,null,{"$f":"IF($H14=\"\",\"\",(VLOOKUP($H14,所属競技者データ!$F$11:$L$110,3,FALSE)))","v":""},{"$f":"IF($H14=\"\",\"\",(VLOOKUP($H14,所属競技者データ!$F$11:$L$110,4,FALSE)))","v":""},{"$f":"IF(H14=\"\",\"\",所属競技者データ!$I$6)","v":""},{"$f":"IF($H14=\"\",\"\",(VLOOKUP($H14,所属競技者データ!$F$11:$L$110,5,FALSE)))","v":""},{"$f":"IF($H14=\"\",\"\",(VLOOKUP($H14,所属競技者データ!$F$11:$L$110,6)))","v":""},{"$f":"IF($H14=\"\",\"\",(VLOOKUP($H14,所属競技者データ!$F$11:$L$110,7,FALSE)))","v":""},null,9,{"$f":"IF(所属競技者データ!P19=\"\",\"\",所属競技者データ!P19&\" \"&所属競技者データ!Q19)","v":""},null,null,null,null,{"$f":"IF($X14=\"\",\"\",(VLOOKUP($X14,所属競技者データ!$N$11:$T$110,2,FALSE)))","v":""},null,null,{"$f":"IF($X14=\"\",\"\",(VLOOKUP($X14,所属競技者データ!$N$11:$T$110,3,FALSE)))","v":""},{"$f":"IF($X14=\"\",\"\",(VLOOKUP($X14,所属競技者データ!$N$11:$T$110,4,FALSE)))","v":""},{"$f":"IF(X14=\"\",\"\",所属競技者データ!$I$6)","v":""},{"$f":"IF($X14=\"\",\"\",(VLOOKUP($X14,所属競技者データ!$N$11:$T$110,5,FALSE)))","v":""},{"$f":"IF($X14=\"\",\"\",(VLOOKUP($X14,所属競技者データ!$N$11:$T$110,6)))","v":""},{"$f":"IF($X14=\"\",\"\",(VLOOKUP($X14,所属競技者データ!$N$11:$T$110,7,FALSE)))","v":""},null,null,null,"　　〃　         １年",1500,{"$f":"COUNTIFS(J$6:J$125,$AL14,O$6:O$125,1)","v":0},null,{"$f":"COUNTIFS(Z$6:Z$125,$AL14,AE$6:AE$125,1)","v":0},null,null,null,null,null,null,null,null,null,null,null,null,null,"","","","","",null,"","",null,"","","","","",null,"",""]
[null,null,10,{"$f":"IF(所属競技者データ!H20=\"\",\"\",所属競技者データ!H20&\" \"&所属競技者データ!I20)","v":""},null,null,null,null,{"$f":"IF($H15=\"\",\"\",(VLOOKUP($H15,所属競技者データ!$F$11:$L$110,2,FALSE)))","v":""},null,null,{"$f":"IF($H15=\"\",\"\",(VLOOKUP($H15,所属競技者データ!$F$11:$L$110,3,FALSE)))","v":""},{"$f":"IF($H15=\"\",\"\",(VLOOKUP($H15,所属競技者データ!$F$11:$L$110,4,FALSE)))","v":""},{"$f":"IF(H15=\"\",\"\",所属競技者データ!$I$6)","v":""},{"$f":"IF($H15=\"\",\"\",(VLOOKUP($H15,所属競技者データ!$F$11:$L$110,5,FALSE)))","v":""},{"$f":"IF($H15=\"\",\"\",(VLOOKUP($H15,所属競技者データ!$F$11:$L$110,6)))","v":""},{"$f":"IF($H15=\"\",\"\",(VLOOKUP($H15,所属競技者データ!$F$11:$L$110,7,FALSE)))","v":""},null,10,{"$f":"IF(所属競技者データ!P20=\"\",\"\",所属競技者データ!P20&\" \"&所属競技者データ!Q20)","v":""},null,null,null,null,{"$f":"IF($X15=\"\",\"\",(VLOOKUP($X15,所属競技者データ!$N$11:$T$110,2,FALSE)))","v":""},null,null,{"$f":"IF($X15=\"\",\"\",(VLOOKUP($X15,所属競技者データ!$N$11:$T$110,3,FALSE)))","v":""},{"$f":"IF($X15=\"\",\"\",(VLOOKUP($X15,所属競技者データ!$N$11:$T$110,4,FALSE)))","v":""},{"$f":"IF(X15=\"\",\"\",所属競技者データ!$I$6)","v":""},{"$f":"IF($X15=\"\",\"\",(VLOOKUP($X15,所属競技者データ!$N$11:$T$110,5,FALSE)))","v":""},{"$f":"IF($X15=\"\",\"\",(VLOOKUP($X15,所属競技者データ!$N$11:$T$110,6)))","v":""},{"$f":"IF($X15=\"\",\"\",(VLOOKUP($X15,所属競技者データ!$N$11:$T$110,7,FALSE)))","v":""},null,null,null,"　　〃　     ２、３年",1500,{"$f":"(COUNTIFS(J$6:J$125,$AL15,O$6:O$125,2))+(COUNTIFS(J$6:J$125,$AL15,O$6:O$125,3))","v":0},null,{"$f":"(COUNTIFS(Z$6:Z$125,$AL15,AE$6:AE$125,2))+(COUNTIFS(Z$6:Z$125,$AL15,AE$6:AE$125,3))","v":0},null,null,null,null,null,null,null,null,null,null,null,null,null,"","","","","",null,"","",null,"","","","","",null,"",""]
[null,null,11,{"$f":"IF(所属競技者データ!H21=\"\",\"\",所属競技者データ!H21&\" \"&所属競技者データ!I21)","v":""},null,null,null,null,{"$f":"IF($H16=\"\",\"\",(VLOOKUP($H16,所属競技者データ!$F$11:$L$110,2,FALSE)))","v":""},null,null,{"$f":"IF($H16=\"\",\"\",(VLOOKUP($H16,所属競技者データ!$F$11:$L$110,3,FALSE)))","v":""},{"$f":"IF($H16=\"\",\"\",(VLOOKUP($H16,所属競技者データ!$F$11:$L$110,4,FALSE)))","v":""},{"$f":"IF(H16=\"\",\"\",所属競技者データ!$I$6)","v":""},{"$f":"IF($H16=\"\",\"\",(VLOOKUP($H16,所属競技者データ!$F$11:$L$110,5,FALSE)))","v":""},{"$f":"IF($H16=\"\",\"\",(VLOOKUP($H16,所属競技者データ!$F$11:$L$110,6)))","v":""},{"$f":"IF($H16=\"\",\"\",(VLOOKUP($H16,所属競技者データ!$F$11:$L$110,7,FALSE)))","v":""},null,11,{"$f":"IF(所属競技者データ!P21=\"\",\"\",所属競技者データ!P21&\" \"&所属競技者データ!Q21)","v":""},null,null,null,null,{"$f":"IF($X16=\"\",\"\",(VLOOKUP($X16,所属競技者データ!$N$11:$T$110,2,FALSE)))","v":""},null,null,{"$f":"IF($X16=\"\",\"\",(VLOOKUP($X16,所属競技者データ!$N$11:$T$110,3,FALSE)))","v":""},{"$f":"IF($X16=\"\",\"\",(VLOOKUP($X16,所属競技者データ!$N$11:$T$110,4,FALSE)))","v":""},{"$f":"IF(X16=\"\",\"\",所属競技者データ!$I$6)","v":""},{"$f":"IF($X16=\"\",\"\",(VLOOKUP($X16,所属競技者データ!$N$11:$T$110,5,FALSE)))","v":""},{"$f":"IF($X16=\"\",\"\",(VLOOKUP($X16,所属競技者データ!$N$11:$T$110,6)))","v":""},{"$f":"IF($X16=\"\",\"\",(VLOOKUP($X16,所属競技者データ!$N$11:$T$110,7,FALSE)))","v":""},null,null,null,"共通３０００ｍ",3000,{"$f":"COUNTIFS(J$6:J$125,$AL16)","v":0},"人",0,"人",null,null,null,null,null,null,null,null,null,null,null,null,"","","","","",null,"","",null,"","","","",null,null,"",""]
[null,null,12,{"$f":"IF(所属競技者データ!H22=\"\",\"\",所属競技者データ!H22&\" \"&所属競技者データ!I22)","v":""},null,null,null,null,{"$f":"IF($H17=\"\",\"\",(VLOOKUP($H17,所属競技者データ!$F$11:$L$110,2,FALSE)))","v":""},null,null,{"$f":"IF($H17=\"\",\"\",(VLOOKUP($H17,所属競技者データ!$F$11:$L$110,3,FALSE)))","v":""},{"$f":"IF($H17=\"\",\"\",(VLOOKUP($H17,所属競技者データ!$F$11:$L$110,4,FALSE)))","v":""},{"$f":"IF(H17=\"\",\"\",所属競技者データ!$I$6)","v":""},{"$f":"IF($H17=\"\",\"\",(VLOOKUP($H17,所属競技者データ!$F$11:$L$110,5,FALSE)))","v":""},{"$f":"IF($H17=\"\",\"\",(VLOOKUP($H17,所属競技者データ!$F$11:$L$110,6)))","v":""},{"$f":"IF($H17=\"\",\"\",(VLOOKUP($H17,所属競技者データ!$F$11:$L$110,7,FALSE)))","v":""},null,12,{"$f":"IF(所属競技者データ!P22=\"\",\"\",所属競技者データ!P22&\" \"&所属競技者データ!Q22)","v":""},null,null,null,null,{"$f":"IF($X17=\"\",\"\",(VLOOKUP($X17,所属競技者データ!$N$11:$T$110,2,FALSE)))","v":""},null,null,{"$f":"IF($X17=\"\",\"\",(VLOOKUP($X17,所属競技者データ!$N$11:$T$110,3,FALSE)))","v":""},{"$f":"IF($X17=\"\",\"\",(VLOOKUP($X17,所属競技者データ!$N$11:$T$110,4,FALSE)))","v":""},{"$f":"IF(X17=\"\",\"\",所属競技者データ!$I$6)","v":""},{"$f":"IF($X17=\"\",\"\",(VLOOKUP($X17,所属競技者データ!$N$11:$T$110,5,FALSE)))","v":""},{"$f":"IF($X17=\"\",\"\",(VLOOKUP($X17,所属競技者データ!$N$11:$T$110,6)))","v":""},{"$f":"IF($X17=\"\",\"\",(VLOOKUP($X17,所属競技者データ!$N$11:$T$110,7,FALSE)))","v":""},null,null,null,"共通５０００ｍ",5000,0,"人",0,"人",null,null,null,null,null,null,null,null,null,null,null,null,"","","","","",null,"","",null,"","","","","",null,"",""]
[null,null,13,{"$f":"IF(所属競技者データ!H23=\"\",\"\",所属競技者データ!H23&\" \"&所属競技者データ!I23)","v":""},null,null,null,null,{"$f":"IF($H18=\"\",\"\",(VLOOKUP($H18,所属競技者データ!$F$11:$L$110,2,FALSE)))","v":""},null,null,{"$f":"IF($H18=\"\",\"\",(VLOOKUP($H18,所属競技者データ!$F$11:$L$110,3,FALSE)))","v":""},{"$f":"IF($H18=\"\",\"\",(VLOOKUP($H18,所属競技者データ!$F$11:$L$110,4,FALSE)))","v":""},{"$f":"IF(H18=\"\",\"\",所属競技者データ!$I$6)","v":""},{"$f":"IF($H18=\"\",\"\",(VLOOKUP($H18,所属競技者データ!$F$11:$L$110,5,FALSE)))","v":""},{"$f":"IF($H18=\"\",\"\",(VLOOKUP($H18,所属競技者データ!$F$11:$L$110,6)))","v":""},{"$f":"IF($H18=\"\",\"\",(VLOOKUP($H18,所属競技者データ!$F$11:$L$110,7,FALSE)))","v":""},null,13,{"$f":"IF(所属競技者データ!P23=\"\",\"\",所属競技者データ!P23&\" \"&所属競技者データ!Q23)","v":""},null,null,null,null,{"$f":"IF($X18=\"\",\"\",(VLOOKUP($X18,所属競技者データ!$N$11:$T$110,2,FALSE)))","v":""},null,null,{"$f":"IF($X18=\"\",\"\",(VLOOKUP($X18,所属競技者データ!$N$11:$T$110,3,FALSE)))","v":""},{"$f":"IF($X18=\"\",\"\",(VLOOKUP($X18,所属競技者データ!$N$11:$T$110,4,FALSE)))","v":""},{"$f":"IF(X18=\"\",\"\",所属競技者データ!$I$6)","v":""},{"$f":"IF($X18=\"\",\"\",(VLOOKUP($X18,所属競技者データ!$N$11:$T$110,5,FALSE)))","v":""},{"$f":"IF($X18=\"\",\"\",(VLOOKUP($X18,所属競技者データ!$N$11:$T$110,6)))","v":""},{"$f":"IF($X18=\"\",\"\",(VLOOKUP($X18,所属競技者データ!$N$11:$T$110,7,FALSE)))","v":""},null,null,null,"共通１００００ｍ",10000,{"$f":"COUNTIFS(J$6:J$125,$AL18)","v":0},"人",{"$f":"COUNTIFS(Z$6:Z$125,$AL18)","v":0},"人",null,null,null,null,null,null,null,null,null,null,null,null,"","","","","",null,"","",null,"","","","","",null,"",""]
[null,null,14,{"$f":"IF(所属競技者データ!H24=\"\",\"\",所属競技者データ!H24&\" \"&所属競技者データ!I24)","v":""},null,null,null,null,{"$f":"IF($H19=\"\",\"\",(VLOOKUP($H19,所属競技者データ!$F$11:$L$110,2,FALSE)))","v":""},null,null,{"$f":"IF($H19=\"\",\"\",(VLOOKUP($H19,所属競技者データ!$F$11:$L$110,3,FALSE)))","v":""},{"$f":"IF($H19=\"\",\"\",(VLOOKUP($H19,所属競技者データ!$F$11:$L$110,4,FALSE)))","v":""},{"$f":"IF(H19=\"\",\"\",所属競技者データ!$I$6)","v":""},{"$f":"IF($H19=\"\",\"\",(VLOOKUP($H19,所属競技者データ!$F$11:$L$110,5,FALSE)))","v":""},{"$f":"IF($H19=\"\",\"\",(VLOOKUP($H19,所属競技者データ!$F$11:$L$110,6)))","v":""},{"$f":"IF($H19=\"\",\"\",(VLOOKUP($H19,所属競技者データ!$F$11:$L$110,7,FALSE)))","v":""},null,14,{"$f":"IF(所属競技者データ!P24=\"\",\"\",所属競技者データ!P24&\" \"&所属競技者データ!Q24)","v":""},null,null,null,null,{"$f":"IF($X19=\"\",\"\",(VLOOKUP($X19,所属競技者データ!$N$11:$T$110,2,FALSE)))","v":""},null,null,{"$f":"IF($X19=\"\",\"\",(VLOOKUP($X19,所属競技者データ!$N$11:$T$110,3,FALSE)))","v":""},{"$f":"IF($X19=\"\",\"\",(VLOOKUP($X19,所属競技者データ!$N$11:$T$110,4,FALSE)))","v":""},{"$f":"IF(X19=\"\",\"\",所属競技者データ!$I$6)","v":""},{"$f":"IF($X19=\"\",\"\",(VLOOKUP($X19,所属競技者データ!$N$11:$T$110,5,FALSE)))","v":""},{"$f":"IF($X19=\"\",\"\",(VLOOKUP($X19,所属競技者データ!$N$11:$T$110,6)))","v":""},{"$f":"IF($X19=\"\",\"\",(VLOOKUP($X19,所属競技者データ!$N$11:$T$110,7,FALSE)))","v":""},null,null,null,"共通１００ｍＨ","100H",0,"人",0,"人",null,null,null,null,null,null,null,null,null,null,null,null,"","","","","",null,"","",null,"","","","","",null,"",""]
[null,null,15,{"$f":"IF(所属競技者データ!H25=\"\",\"\",所属競技者データ!H25&\" \"&所属競技者データ!I25)","v":""},null,null,null,null,{"$f":"IF($H20=\"\",\"\",(VLOOKUP($H20,所属競技者データ!$F$11:$L$110,2,FALSE)))","v":""},null,null,{"$f":"IF($H20=\"\",\"\",(VLOOKUP($H20,所属競技者データ!$F$11:$L$110,3,FALSE)))","v":""},{"$f":"IF($H20=\"\",\"\",(VLOOKUP($H20,所属競技者データ!$F$11:$L$110,4,FALSE)))","v":""},{"$f":"IF(H20=\"\",\"\",所属競技者データ!$I$6)","v":""},{"$f":"IF($H20=\"\",\"\",(VLOOKUP($H20,所属競技者データ!$F$11:$L$110,5,FALSE)))","v":""},{"$f":"IF($H20=\"\",\"\",(VLOOKUP($H20,所属競技者データ!$F$11:$L$110,6)))","v":""},{"$f":"IF($H20=\"\",\"\",(VLOOKUP($H20,所属競技者データ!$F$11:$L$110,7,FALSE)))","v":""},null,15,{"$f":"IF(所属競技者データ!P25=\"\",\"\",所属競技者データ!P25&\" \"&所属競技者データ!Q25)","v":""},null,null,null,null,{"$f":"IF($X20=\"\",\"\",(VLOOKUP($X20,所属競技者データ!$N$11:$T$110,2,FALSE)))","v":""},null,null,{"$f":"IF($X20=\"\",\"\",(VLOOKUP($X20,所属競技者データ!$N$11:$T$110,3,FALSE)))","v":""},{"$f":"IF($X20=\"\",\"\",(VLOOKUP($X20,所属競技者データ!$N$11:$T$110,4,FALSE)))","v":""},{"$f":"IF(X20=\"\",\"\",所属競技者データ!$I$6)","v":""},{"$f":"IF($X20=\"\",\"\",(VLOOKUP($X20,所属競技者データ!$N$11:$T$110,5,FALSE)))","v":""},{"$f":"IF($X20=\"\",\"\",(VLOOKUP($X20,所属競技者データ!$N$11:$T$110,6)))","v":""},{"$f":"IF($X20=\"\",\"\",(VLOOKUP($X20,所属競技者データ!$N$11:$T$110,7,FALSE)))","v":""},null,null,null,"共通１１０ｍＨ","110H",0,"人",0,"人",null,null,null,null,null,null,null,null,null,null,null,null,"","","","","",null,"","",null,"","","","","",null,"",""]
[null,null,16,{"$f":"IF(所属競技者データ!H26=\"\",\"\",所属競技者データ!H26&\" \"&所属競技者データ!I26)","v":""},null,null,null,null,{"$f":"IF($H21=\"\",\"\",(VLOOKUP($H21,所属競技者データ!$F$11:$L$110,2,FALSE)))","v":""},null,null,{"$f":"IF($H21=\"\",\"\",(VLOOKUP($H21,所属競技者データ!$F$11:$L$110,3,FALSE)))","v":""},{"$f":"IF($H21=\"\",\"\",(VLOOKUP($H21,所属競技者データ!$F$11:$L$110,4,FALSE)))","v":""},{"$f":"IF(H21=\"\",\"\",所属競技者データ!$I$6)","v":""},{"$f":"IF($H21=\"\",\"\",(VLOOKUP($H21,所属競技者データ!$F$11:$L$110,5,FALSE)))","v":""},{"$f":"IF($H21=\"\",\"\",(VLOOKUP($H21,所属競技者データ!$F$11:$L$110,6)))","v":""},{"$f":"IF($H21=\"\",\"\",(VLOOKUP($H21,所属競技者データ!$F$11:$L$110,7,FALSE)))","v":""},null,16,{"$f":"IF(所属競技者データ!P26=\"\",\"\",所属競技者データ!P26&\" \"&所属競技者データ!Q26)","v":""},null,null,null,null,{"$f":"IF($X21=\"\",\"\",(VLOOKUP($X21,所属競技者データ!$N$11:$T$110,2,FALSE)))","v":""},null,null,{"$f":"IF($X21=\"\",\"\",(VLOOKUP($X21,所属競技者データ!$N$11:$T$110,3,FALSE)))","v":""},{"$f":"IF($X21=\"\",\"\",(VLOOKUP($X21,所属競技者データ!$N$11:$T$110,4,FALSE)))","v":""},{"$f":"IF(X21=\"\",\"\",所属競技者データ!$I$6)","v":""},{"$f":"IF($X21=\"\",\"\",(VLOOKUP($X21,所属競技者データ!$N$11:$T$110,5,FALSE)))","v":""},{"$f":"IF($X21=\"\",\"\",(VLOOKUP($X21,所属競技者データ!$N$11:$T$110,6)))","v":""},{"$f":"IF($X21=\"\",\"\",(VLOOKUP($X21,所属競技者データ!$N$11:$T$110,7,FALSE)))","v":""},null,null,null,"共通４００ｍＨ","400H",0,"人",0,"人",null,null,null,null,null,null,null,null,null,null,null,null,"","","","","",null,"","",null,"","","","","",null,"",""]
[null,null,17,{"$f":"IF(所属競技者データ!H27=\"\",\"\",所属競技者データ!H27&\" \"&所属競技者データ!I27)","v":""},null,null,null,null,{"$f":"IF($H22=\"\",\"\",(VLOOKUP($H22,所属競技者データ!$F$11:$L$110,2,FALSE)))","v":""},null,null,{"$f":"IF($H22=\"\",\"\",(VLOOKUP($H22,所属競技者データ!$F$11:$L$110,3,FALSE)))","v":""},{"$f":"IF($H22=\"\",\"\",(VLOOKUP($H22,所属競技者データ!$F$11:$L$110,4,FALSE)))","v":""},{"$f":"IF(H22=\"\",\"\",所属競技者データ!$I$6)","v":""},{"$f":"IF($H22=\"\",\"\",(VLOOKUP($H22,所属競技者データ!$F$11:$L$110,5,FALSE)))","v":""},{"$f":"IF($H22=\"\",\"\",(VLOOKUP($H22,所属競技者データ!$F$11:$L$110,6)))","v":""},{"$f":"IF($H22=\"\",\"\",(VLOOKUP($H22,所属競技者データ!$F$11:$L$110,7,FALSE)))","v":""},null,17,{"$f":"IF(所属競技者データ!P27=\"\",\"\",所属競技者データ!P27&\" \"&所属競技者データ!Q27)","v":""},null,null,null,null,{"$f":"IF($X22=\"\",\"\",(VLOOKUP($X22,所属競技者データ!$N$11:$T$110,2,FALSE)))","v":""},null,null,{"$f":"IF($X22=\"\",\"\",(VLOOKUP($X22,所属競技者データ!$N$11:$T$110,3,FALSE)))","v":""},{"$f":"IF($X22=\"\",\"\",(VLOOKUP($X22,所属競技者データ!$N$11:$T$110,4,FALSE)))","v":""},{"$f":"IF(X22=\"\",\"\",所属競技者データ!$I$6)","v":""},{"$f":"IF($X22=\"\",\"\",(VLOOKUP($X22,所属競技者データ!$N$11:$T$110,5,FALSE)))","v":""},{"$f":"IF($X22=\"\",\"\",(VLOOKUP($X22,所属競技者データ!$N$11:$T$110,6)))","v":""},{"$f":"IF($X22=\"\",\"\",(VLOOKUP($X22,所属競技者データ!$N$11:$T$110,7,FALSE)))","v":""},null,null,null,"共通３０００ｍＳＣ","3000SC",{"$f":"COUNTIFS(J$6:J$125,$AL22)","v":0},"人",0,"人",null,null,null,null,null,null,null,null,null,null,null,null,"","","","","",null,"","",null,"","","","","",null,"",""]
[null,null,18,{"$f":"IF(所属競技者データ!H28=\"\",\"\",所属競技者データ!H28&\" \"&所属競技者データ!I28)","v":""},null,null,null,null,{"$f":"IF($H23=\"\",\"\",(VLOOKUP($H23,所属競技者データ!$F$11:$L$110,2,FALSE)))","v":""},null,null,{"$f":"IF($H23=\"\",\"\",(VLOOKUP($H23,所属競技者データ!$F$11:$L$110,3,FALSE)))","v":""},{"$f":"IF($H23=\"\",\"\",(VLOOKUP($H23,所属競技者データ!$F$11:$L$110,4,FALSE)))","v":""},{"$f":"IF(H23=\"\",\"\",所属競技者データ!$I$6)","v":""},{"$f":"IF($H23=\"\",\"\",(VLOOKUP($H23,所属競技者データ!$F$11:$L$110,5,FALSE)))","v":""},{"$f":"IF($H23=\"\",\"\",(VLOOKUP($H23,所属競技者データ!$F$11:$L$110,6)))","v":""},{"$f":"IF($H23=\"\",\"\",(VLOOKUP($H23,所属競技者データ!$F$11:$L$110,7,FALSE)))","v":""},null,18,{"$f":"IF(所属競技者データ!P28=\"\",\"\",所属競技者データ!P28&\" \"&所属競技者データ!Q28)","v":""},null,null,null,null,{"$f":"IF($X23=\"\",\"\",(VLOOKUP($X23,所属競技者データ!$N$11:$T$110,2,FALSE)))","v":""},null,null,{"$f":"IF($X23=\"\",\"\",(VLOOKUP($X23,所属競技者データ!$N$11:$T$110,3,FALSE)))","v":""},{"$f":"IF($X23=\"\",\"\",(VLOOKUP($X23,所属競技者データ!$N$11:$T$110,4,FALSE)))","v":""},{"$f":"IF(X23=\"\",\"\",所属競技者データ!$I$6)","v":""},{"$f":"IF($X23=\"\",\"\",(VLOOKUP($X23,所属競技者データ!$N$11:$T$110,5,FALSE)))","v":""},{"$f":"IF($X23=\"\",\"\",(VLOOKUP($X23,所属競技者データ!$N$11:$T$110,6)))","v":""},{"$f":"IF($X23=\"\",\"\",(VLOOKUP($X23,所属競技者データ!$N$11:$T$110,7,FALSE)))","v":""},null,null,null,"小学１０００ｍ",1000,{"$f":"COUNTIFS(J$6:J$125,$AL23)","v":0},"人",{"$f":"COUNTIFS(Z$6:Z$125,$AL23)","v":0},"人",null,null,null,null,null,null,null,null,null,null,null,null,"","","","","",null,"","",null,"","","","","",null,"",""]
[null,null,19,{"$f":"IF(所属競技者データ!H29=\"\",\"\",所属競技者データ!H29&\" \"&所属競技者データ!I29)","v":""},null,null,null,null,{"$f":"IF($H24=\"\",\"\",(VLOOKUP($H24,所属競技者データ!$F$11:$L$110,2,FALSE)))","v":""},null,null,{"$f":"IF($H24=\"\",\"\",(VLOOKUP($H24,所属競技者データ!$F$11:$L$110,3,FALSE)))","v":""},{"$f":"IF($H24=\"\",\"\",(VLOOKUP($H24,所属競技者データ!$F$11:$L$110,4,FALSE)))","v":""},{"$f":"IF(H24=\"\",\"\",所属競技者データ!$I$6)","v":""},{"$f":"IF($H24=\"\",\"\",(VLOOKUP($H24,所属競技者データ!$F$11:$L$110,5,FALSE)))","v":""},{"$f":"IF($H24=\"\",\"\",(VLOOKUP($H24,所属競技者データ!$F$11:$L$110,6)))","v":""},{"$f":"IF($H24=\"\",\"\",(VLOOKUP($H24,所属競技者データ!$F$11:$L$110,7,FALSE)))","v":""},null,19,{"$f":"IF(所属競技者データ!P29=\"\",\"\",所属競技者データ!P29&\" \"&所属競技者データ!Q29)","v":""},null,null,null,null,{"$f":"IF($X24=\"\",\"\",(VLOOKUP($X24,所属競技者データ!$N$11:$T$110,2,FALSE)))","v":""},null,null,{"$f":"IF($X24=\"\",\"\",(VLOOKUP($X24,所属競技者データ!$N$11:$T$110,3,FALSE)))","v":""},{"$f":"IF($X24=\"\",\"\",(VLOOKUP($X24,所属競技者データ!$N$11:$T$110,4,FALSE)))","v":""},{"$f":"IF(X24=\"\",\"\",所属競技者データ!$I$6)","v":""},{"$f":"IF($X24=\"\",\"\",(VLOOKUP($X24,所属競技者データ!$N$11:$T$110,5,FALSE)))","v":""},{"$f":"IF($X24=\"\",\"\",(VLOOKUP($X24,所属競技者データ!$N$11:$T$110,6)))","v":""},{"$f":"IF($X24=\"\",\"\",(VLOOKUP($X24,所属競技者データ!$N$11:$T$110,7,FALSE)))","v":""},null,null,null,"共通走高跳","HJ",0,"人",0,"人",null,null,null,null,null,null,null,null,null,null,null,null,"","","","","",null,"","",null,"","","","","",null,"",""]
[null,null,20,{"$f":"IF(所属競技者データ!H30=\"\",\"\",所属競技者データ!H30&\" \"&所属競技者データ!I30)","v":""},null,null,null,null,{"$f":"IF($H25=\"\",\"\",(VLOOKUP($H25,所属競技者データ!$F$11:$L$110,2,FALSE)))","v":""},null,null,{"$f":"IF($H25=\"\",\"\",(VLOOKUP($H25,所属競技者データ!$F$11:$L$110,3,FALSE)))","v":""},{"$f":"IF($H25=\"\",\"\",(VLOOKUP($H25,所属競技者データ!$F$11:$L$110,4,FALSE)))","v":""},{"$f":"IF(H25=\"\",\"\",所属競技者データ!$I$6)","v":""},{"$f":"IF($H25=\"\",\"\",(VLOOKUP($H25,所属競技者データ!$F$11:$L$110,5,FALSE)))","v":""},{"$f":"IF($H25=\"\",\"\",(VLOOKUP($H25,所属競技者データ!$F$11:$L$110,6)))","v":""},{"$f":"IF($H25=\"\",\"\",(VLOOKUP($H25,所属競技者データ!$F$11:$L$110,7,FALSE)))","v":""},null,20,{"$f":"IF(所属競技者データ!P30=\"\",\"\",所属競技者データ!P30&\" \"&所属競技者データ!Q30)","v":""},null,null,null,null,{"$f":"IF($X25=\"\",\"\",(VLOOKUP($X25,所属競技者データ!$N$11:$T$110,2,FALSE)))","v":""},null,null,{"$f":"IF($X25=\"\",\"\",(VLOOKUP($X25,所属競技者データ!$N$11:$T$110,3,FALSE)))","v":""},{"$f":"IF($X25=\"\",\"\",(VLOOKUP($X25,所属競技者データ!$N$11:$T$110,4,FALSE)))","v":""},{"$f":"IF(X25=\"\",\"\",所属競技者データ!$I$6)","v":""},{"$f":"IF($X25=\"\",\"\",(VLOOKUP($X25,所属競技者データ!$N$11:$T$110,5,FALSE)))","v":""},{"$f":"IF($X25=\"\",\"\",(VLOOKUP($X25,所属競技者データ!$N$11:$T$110,6)))","v":""},{"$f":"IF($X25=\"\",\"\",(VLOOKUP($X25,所属競技者データ!$N$11:$T$110,7,FALSE)))","v":""},null,null,null,"共通棒高跳","PV",0,"人",0,"人",null,null,null,null,null,null,null,null,null,null,null,null,"","","","","",null,"","",null,"","","","","",null,"",""]
[null,null,21,{"$f":"IF(所属競技者データ!H31=\"\",\"\",所属競技者データ!H31&\" \"&所属競技者データ!I31)","v":""},null,null,null,null,{"$f":"IF($H26=\"\",\"\",(VLOOKUP($H26,所属競技者データ!$F$11:$L$110,2,FALSE)))","v":""},null,null,{"$f":"IF($H26=\"\",\"\",(VLOOKUP($H26,所属競技者データ!$F$11:$L$110,3,FALSE)))","v":""},{"$f":"IF($H26=\"\",\"\",(VLOOKUP($H26,所属競技者データ!$F$11:$L$110,4,FALSE)))","v":""},{"$f":"IF(H26=\"\",\"\",所属競技者データ!$I$6)","v":""},{"$f":"IF($H26=\"\",\"\",(VLOOKUP($H26,所属競技者データ!$F$11:$L$110,5,FALSE)))","v":""},{"$f":"IF($H26=\"\",\"\",(VLOOKUP($H26,所属競技者データ!$F$11:$L$110,6)))","v":""},{"$f":"IF($H26=\"\",\"\",(VLOOKUP($H26,所属競技者データ!$F$11:$L$110,7,FALSE)))","v":""},null,21,{"$f":"IF(所属競技者データ!P31=\"\",\"\",所属競技者データ!P31&\" \"&所属競技者データ!Q31)","v":""},null,null,null,null,{"$f":"IF($X26=\"\",\"\",(VLOOKUP($X26,所属競技者データ!$N$11:$T$110,2,FALSE)))","v":""},null,null,{"$f":"IF($X26=\"\",\"\",(VLOOKUP($X26,所属競技者データ!$N$11:$T$110,3,FALSE)))","v":""},{"$f":"IF($X26=\"\",\"\",(VLOOKUP($X26,所属競技者データ!$N$11:$T$110,4,FALSE)))","v":""},{"$f":"IF(X26=\"\",\"\",所属競技者データ!$I$6)","v":""},{"$f":"IF($X26=\"\",\"\",(VLOOKUP($X26,所属競技者データ!$N$11:$T$110,5,FALSE)))","v":""},{"$f":"IF($X26=\"\",\"\",(VLOOKUP($X26,所属競技者データ!$N$11:$T$110,6)))","v":""},{"$f":"IF($X26=\"\",\"\",(VLOOKUP($X26,所属競技者データ!$N$11:$T$110,7,FALSE)))","v":""},null,null,null,"　　走幅跳　計","LJ",{"$f":"COUNTIFS(J$6:J$125,$AL26)","v":0},"人",{"$f":"COUNTIFS(Z$6:Z$125,$AL26)","v":0},"人",null,null,null,null,null,null,null,null,null,null,null,null,"","","","","",null,"","",null,"","","","","",null,"",""]
[null,null,22,{"$f":"IF(所属競技者データ!H32=\"\",\"\",所属競技者データ!H32&\" \"&所属競技者データ!I32)","v":""},null,null,null,null,{"$f":"IF($H27=\"\",\"\",(VLOOKUP($H27,所属競技者データ!$F$11:$L$110,2,FALSE)))","v":""},null,null,{"$f":"IF($H27=\"\",\"\",(VLOOKUP($H27,所属競技者データ!$F$11:$L$110,3,FALSE)))","v":""},{"$f":"IF($H27=\"\",\"\",(VLOOKUP($H27,所属競技者データ!$F$11:$L$110,4,FALSE)))","v":""},{"$f":"IF(H27=\"\",\"\",所属競技者データ!$I$6)","v":""},{"$f":"IF($H27=\"\",\"\",(VLOOKUP($H27,所属競技者データ!$F$11:$L$110,5,FALSE)))","v":""},{"$f":"IF($H27=\"\",\"\",(VLOOKUP($H27,所属競技者データ!$F$11:$L$110,6)))","v":""},{"$f":"IF($H27=\"\",\"\",(VLOOKUP($H27,所属競技者データ!$F$11:$L$110,7,FALSE)))","v":""},null,22,{"$f":"IF(所属競技者データ!P32=\"\",\"\",所属競技者データ!P32&\" \"&所属競技者データ!Q32)","v":""},null,null,null,null,{"$f":"IF($X27=\"\",\"\",(VLOOKUP($X27,所属競技者データ!$N$11:$T$110,2,FALSE)))","v":""},null,null,{"$f":"IF($X27=\"\",\"\",(VLOOKUP($X27,所属競技者データ!$N$11:$T$110,3,FALSE)))","v":""},{"$f":"IF($X27=\"\",\"\",(VLOOKUP($X27,所属競技者データ!$N$11:$T$110,4,FALSE)))","v":""},{"$f":"IF(X27=\"\",\"\",所属競技者データ!$I$6)","v":""},{"$f":"IF($X27=\"\",\"\",(VLOOKUP($X27,所属競技者データ!$N$11:$T$110,5,FALSE)))","v":""},{"$f":"IF($X27=\"\",\"\",(VLOOKUP($X27,所属競技者データ!$N$11:$T$110,6)))","v":""},{"$f":"IF($X27=\"\",\"\",(VLOOKUP($X27,所属競技者データ!$N$11:$T$110,7,FALSE)))","v":""},null,null,null,"　　〃　         １年","LJ",{"$f":"COUNTIFS(J$6:J$125,$AL27,O$6:O$125,1)","v":0},null,{"$f":"COUNTIFS(Z$6:Z$125,$AL27,AE$6:AE$125,1)","v":0},null,null,null,null,null,null,null,null,null,null,null,null,null,"","","","","",null,"","",null,"","","","","",null,"",""]
[null,null,23,{"$f":"IF(所属競技者データ!H33=\"\",\"\",所属競技者データ!H33&\" \"&所属競技者データ!I33)","v":""},null,null,null,null,{"$f":"IF($H28=\"\",\"\",(VLOOKUP($H28,所属競技者データ!$F$11:$L$110,2,FALSE)))","v":""},null,null,{"$f":"IF($H28=\"\",\"\",(VLOOKUP($H28,所属競技者データ!$F$11:$L$110,3,FALSE)))","v":""},{"$f":"IF($H28=\"\",\"\",(VLOOKUP($H28,所属競技者データ!$F$11:$L$110,4,FALSE)))","v":""},{"$f":"IF(H28=\"\",\"\",所属競技者データ!$I$6)","v":""},{"$f":"IF($H28=\"\",\"\",(VLOOKUP($H28,所属競技者データ!$F$11:$L$110,5,FALSE)))","v":""},{"$f":"IF($H28=\"\",\"\",(VLOOKUP($H28,所属競技者データ!$F$11:$L$110,6)))","v":""},{"$f":"IF($H28=\"\",\"\",(VLOOKUP($H28,所属競技者データ!$F$11:$L$110,7,FALSE)))","v":""},null,23,{"$f":"IF(所属競技者データ!P33=\"\",\"\",所属競技者データ!P33&\" \"&所属競技者データ!Q33)","v":""},null,null,null,null,{"$f":"IF($X28=\"\",\"\",(VLOOKUP($X28,所属競技者データ!$N$11:$T$110,2,FALSE)))","v":""},null,null,{"$f":"IF($X28=\"\",\"\",(VLOOKUP($X28,所属競技者データ!$N$11:$T$110,3,FALSE)))","v":""},{"$f":"IF($X28=\"\",\"\",(VLOOKUP($X28,所属競技者データ!$N$11:$T$110,4,FALSE)))","v":""},{"$f":"IF(X28=\"\",\"\",所属競技者データ!$I$6)","v":""},{"$f":"IF($X28=\"\",\"\",(VLOOKUP($X28,所属競技者データ!$N$11:$T$110,5,FALSE)))","v":""},{"$f":"IF($X28=\"\",\"\",(VLOOKUP($X28,所属競技者データ!$N$11:$T$110,6)))","v":""},{"$f":"IF($X28=\"\",\"\",(VLOOKUP($X28,所属競技者データ!$N$11:$T$110,7,FALSE)))","v":""},null,null,null,"　　〃     　２、３年","LJ",{"$f":"(COUNTIFS(J$6:J$125,$AL28,O$6:O$125,2))+(COUNTIFS(J$6:J$125,$AL28,O$6:O$125,3))","v":0},null,{"$f":"(COUNTIFS(Z$6:Z$125,$AL28,AE$6:AE$125,2))+(COUNTIFS(Z$6:Z$125,$AL28,AE$6:AE$125,3))","v":0},null,null,null,null,null,null,null,null,null,null,null,null,null,"","","","","",null,"","",null,"","","","","",null,"",""]
[null,null,24,{"$f":"IF(所属競技者データ!H34=\"\",\"\",所属競技者データ!H34&\" \"&所属競技者データ!I34)","v":""},null,null,null,null,{"$f":"IF($H29=\"\",\"\",(VLOOKUP($H29,所属競技者データ!$F$11:$L$110,2,FALSE)))","v":""},null,null,{"$f":"IF($H29=\"\",\"\",(VLOOKUP($H29,所属競技者データ!$F$11:$L$110,3,FALSE)))","v":""},{"$f":"IF($H29=\"\",\"\",(VLOOKUP($H29,所属競技者データ!$F$11:$L$110,4,FALSE)))","v":""},{"$f":"IF(H29=\"\",\"\",所属競技者データ!$I$6)","v":""},{"$f":"IF($H29=\"\",\"\",(VLOOKUP($H29,所属競技者データ!$F$11:$L$110,5,FALSE)))","v":""},{"$f":"IF($H29=\"\",\"\",(VLOOKUP($H29,所属競技者データ!$F$11:$L$110,6)))","v":""},{"$f":"IF($H29=\"\",\"\",(VLOOKUP($H29,所属競技者データ!$F$11:$L$110,7,FALSE)))","v":""},null,24,{"$f":"IF(所属競技者データ!P34=\"\",\"\",所属競技者データ!P34&\" \"&所属競技者データ!Q34)","v":""},null,null,null,null,{"$f":"IF($X29=\"\",\"\",(VLOOKUP($X29,所属競技者データ!$N$11:$T$110,2,FALSE)))","v":""},null,null,{"$f":"IF($X29=\"\",\"\",(VLOOKUP($X29,所属競技者データ!$N$11:$T$110,3,FALSE)))","v":""},{"$f":"IF($X29=\"\",\"\",(VLOOKUP($X29,所属競技者データ!$N$11:$T$110,4,FALSE)))","v":""},{"$f":"IF(X29=\"\",\"\",所属競技者データ!$I$6)","v":""},{"$f":"IF($X29=\"\",\"\",(VLOOKUP($X29,所属競技者データ!$N$11:$T$110,5,FALSE)))","v":""},{"$f":"IF($X29=\"\",\"\",(VLOOKUP($X29,所属競技者データ!$N$11:$T$110,6)))","v":""},{"$f":"IF($X29=\"\",\"\",(VLOOKUP($X29,所属競技者データ!$N$11:$T$110,7,FALSE)))","v":""},null,null,null,"共通砲丸投","SP",0,"人",0,"人",null,null,null,null,null,null,null,null,null,null,null,null,"","","","","",null,"","",null,"","","","","",null,"",""]
[null,null,25,{"$f":"IF(所属競技者データ!H35=\"\",\"\",所属競技者データ!H35&\" \"&所属競技者データ!I35)","v":""},null,null,null,null,{"$f":"IF($H30=\"\",\"\",(VLOOKUP($H30,所属競技者データ!$F$11:$L$110,2,FALSE)))","v":""},null,null,{"$f":"IF($H30=\"\",\"\",(VLOOKUP($H30,所属競技者データ!$F$11:$L$110,3,FALSE)))","v":""},{"$f":"IF($H30=\"\",\"\",(VLOOKUP($H30,所属競技者データ!$F$11:$L$110,4,FALSE)))","v":""},{"$f":"IF(H30=\"\",\"\",所属競技者データ!$I$6)","v":""},{"$f":"IF($H30=\"\",\"\",(VLOOKUP($H30,所属競技者データ!$F$11:$L$110,5,FALSE)))","v":""},{"$f":"IF($H30=\"\",\"\",(VLOOKUP($H30,所属競技者データ!$F$11:$L$110,6)))","v":""},{"$f":"IF($H30=\"\",\"\",(VLOOKUP($H30,所属競技者データ!$F$11:$L$110,7,FALSE)))","v":""},null,25,{"$f":"IF(所属競技者データ!P35=\"\",\"\",所属競技者データ!P35&\" \"&所属競技者データ!Q35)","v":""},null,null,null,null,{"$f":"IF($X30=\"\",\"\",(VLOOKUP($X30,所属競技者データ!$N$11:$T$110,2,FALSE)))","v":""},null,null,{"$f":"IF($X30=\"\",\"\",(VLOOKUP($X30,所属競技者データ!$N$11:$T$110,3,FALSE)))","v":""},{"$f":"IF($X30=\"\",\"\",(VLOOKUP($X30,所属競技者データ!$N$11:$T$110,4,FALSE)))","v":""},{"$f":"IF(X30=\"\",\"\",所属競技者データ!$I$6)","v":""},{"$f":"IF($X30=\"\",\"\",(VLOOKUP($X30,所属競技者データ!$N$11:$T$110,5,FALSE)))","v":""},{"$f":"IF($X30=\"\",\"\",(VLOOKUP($X30,所属競技者データ!$N$11:$T$110,6)))","v":""},{"$f":"IF($X30=\"\",\"\",(VLOOKUP($X30,所属競技者データ!$N$11:$T$110,7,FALSE)))","v":""},null,null,null,"共通円盤投","DT",0,"人",0,"人",null,null,null,null,null,null,null,null,null,null,null,null,"","","","","",null,"","",null,"","","","","",null,"",""]
[null,null,26,{"$f":"IF(所属競技者データ!H36=\"\",\"\",所属競技者データ!H36&\" \"&所属競技者データ!I36)","v":""},null,null,null,null,{"$f":"IF($H31=\"\",\"\",(VLOOKUP($H31,所属競技者データ!$F$11:$L$110,2,FALSE)))","v":""},null,null,{"$f":"IF($H31=\"\",\"\",(VLOOKUP($H31,所属競技者データ!$F$11:$L$110,3,FALSE)))","v":""},{"$f":"IF($H31=\"\",\"\",(VLOOKUP($H31,所属競技者データ!$F$11:$L$110,4,FALSE)))","v":""},{"$f":"IF(H31=\"\",\"\",所属競技者データ!$I$6)","v":""},{"$f":"IF($H31=\"\",\"\",(VLOOKUP($H31,所属競技者データ!$F$11:$L$110,5,FALSE)))","v":""},{"$f":"IF($H31=\"\",\"\",(VLOOKUP($H31,所属競技者データ!$F$11:$L$110,6)))","v":""},{"$f":"IF($H31=\"\",\"\",(VLOOKUP($H31,所属競技者データ!$F$11:$L$110,7,FALSE)))","v":""},null,26,{"$f":"IF(所属競技者データ!P36=\"\",\"\",所属競技者データ!P36&\" \"&所属競技者データ!Q36)","v":""},null,null,null,null,{"$f":"IF($X31=\"\",\"\",(VLOOKUP($X31,所属競技者データ!$N$11:$T$110,2,FALSE)))","v":""},null,null,{"$f":"IF($X31=\"\",\"\",(VLOOKUP($X31,所属競技者データ!$N$11:$T$110,3,FALSE)))","v":""},{"$f":"IF($X31=\"\",\"\",(VLOOKUP($X31,所属競技者データ!$N$11:$T$110,4,FALSE)))","v":""},{"$f":"IF(X31=\"\",\"\",所属競技者データ!$I$6)","v":""},{"$f":"IF($X31=\"\",\"\",(VLOOKUP($X31,所属競技者データ!$N$11:$T$110,5,FALSE)))","v":""},{"$f":"IF($X31=\"\",\"\",(VLOOKUP($X31,所属競技者データ!$N$11:$T$110,6)))","v":""},{"$f":"IF($X31=\"\",\"\",(VLOOKUP($X31,所属競技者データ!$N$11:$T$110,7,FALSE)))","v":""},null,null,null,"共通ヤリ投","JT",0,"人",0,"人",null,null,null,null,null,null,null,null,null,null,null,null,"","","","","",null,"","",null,"","","","","",null,"",""]
[null,null,27,{"$f":"IF(所属競技者データ!H37=\"\",\"\",所属競技者データ!H37&\" \"&所属競技者データ!I37)","v":""},null,null,null,null,{"$f":"IF($H32=\"\",\"\",(VLOOKUP($H32,所属競技者データ!$F$11:$L$110,2,FALSE)))","v":""},null,null,{"$f":"IF($H32=\"\",\"\",(VLOOKUP($H32,所属競技者データ!$F$11:$L$110,3,FALSE)))","v":""},{"$f":"IF($H32=\"\",\"\",(VLOOKUP($H32,所属競技者データ!$F$11:$L$110,4,FALSE)))","v":""},{"$f":"IF(H32=\"\",\"\",所属競技者データ!$I$6)","v":""},{"$f":"IF($H32=\"\",\"\",(VLOOKUP($H32,所属競技者データ!$F$11:$L$110,5,FALSE)))","v":""},{"$f":"IF($H32=\"\",\"\",(VLOOKUP($H32,所属競技者データ!$F$11:$L$110,6)))","v":""},{"$f":"IF($H32=\"\",\"\",(VLOOKUP($H32,所属競技者データ!$F$11:$L$110,7,FALSE)))","v":""},null,27,{"$f":"IF(所属競技者データ!P37=\"\",\"\",所属競技者データ!P37&\" \"&所属競技者データ!Q37)","v":""},null,null,null,null,{"$f":"IF($X32=\"\",\"\",(VLOOKUP($X32,所属競技者データ!$N$11:$T$110,2,FALSE)))","v":""},null,null,{"$f":"IF($X32=\"\",\"\",(VLOOKUP($X32,所属競技者データ!$N$11:$T$110,3,FALSE)))","v":""},{"$f":"IF($X32=\"\",\"\",(VLOOKUP($X32,所属競技者データ!$N$11:$T$110,4,FALSE)))","v":""},{"$f":"IF(X32=\"\",\"\",所属競技者データ!$I$6)","v":""},{"$f":"IF($X32=\"\",\"\",(VLOOKUP($X32,所属競技者データ!$N$11:$T$110,5,FALSE)))","v":""},{"$f":"IF($X32=\"\",\"\",(VLOOKUP($X32,所属競技者データ!$N$11:$T$110,6)))","v":""},{"$f":"IF($X32=\"\",\"\",(VLOOKUP($X32,所属競技者データ!$N$11:$T$110,7,FALSE)))","v":""},null,null,null,"共通4×100","400RSA",0,"人",0,"人",null,null,null,null,null,null,null,null,null,null,null,null,"","","","","",null,"","",null,"","","","","",null,"",""]
[null,null,28,{"$f":"IF(所属競技者データ!H38=\"\",\"\",所属競技者データ!H38&\" \"&所属競技者データ!I38)","v":""},null,null,null,null,{"$f":"IF($H33=\"\",\"\",(VLOOKUP($H33,所属競技者データ!$F$11:$L$110,2,FALSE)))","v":""},null,null,{"$f":"IF($H33=\"\",\"\",(VLOOKUP($H33,所属競技者データ!$F$11:$L$110,3,FALSE)))","v":""},{"$f":"IF($H33=\"\",\"\",(VLOOKUP($H33,所属競技者データ!$F$11:$L$110,4,FALSE)))","v":""},{"$f":"IF(H33=\"\",\"\",所属競技者データ!$I$6)","v":""},{"$f":"IF($H33=\"\",\"\",(VLOOKUP($H33,所属競技者データ!$F$11:$L$110,5,FALSE)))","v":""},{"$f":"IF($H33=\"\",\"\",(VLOOKUP($H33,所属競技者データ!$F$11:$L$110,6)))","v":""},{"$f":"IF($H33=\"\",\"\",(VLOOKUP($H33,所属競技者データ!$F$11:$L$110,7,FALSE)))","v":""},null,28,{"$f":"IF(所属競技者データ!P38=\"\",\"\",所属競技者データ!P38&\" \"&所属競技者データ!Q38)","v":""},null,null,null,null,{"$f":"IF($X33=\"\",\"\",(VLOOKUP($X33,所属競技者データ!$N$11:$T$110,2,FALSE)))","v":""},null,null,{"$f":"IF($X33=\"\",\"\",(VLOOKUP($X33,所属競技者データ!$N$11:$T$110,3,FALSE)))","v":""},{"$f":"IF($X33=\"\",\"\",(VLOOKUP($X33,所属競技者データ!$N$11:$T$110,4,FALSE)))","v":""},{"$f":"IF(X33=\"\",\"\",所属競技者データ!$I$6)","v":""},{"$f":"IF($X33=\"\",\"\",(VLOOKUP($X33,所属競技者データ!$N$11:$T$110,5,FALSE)))","v":""},{"$f":"IF($X33=\"\",\"\",(VLOOKUP($X33,所属競技者データ!$N$11:$T$110,6)))","v":""},{"$f":"IF($X33=\"\",\"\",(VLOOKUP($X33,所属競技者データ!$N$11:$T$110,7,FALSE)))","v":""},null,null,null,"〃","400RSB",0,"人",0,"人",null,null,null,null,null,null,null,null,null,null,null,null,"","","","","",null,"","",null,"","","","","",null,"",""]
[null,null,29,{"$f":"IF(所属競技者データ!H39=\"\",\"\",所属競技者データ!H39&\" \"&所属競技者データ!I39)","v":""},null,null,null,null,{"$f":"IF($H34=\"\",\"\",(VLOOKUP($H34,所属競技者データ!$F$11:$L$110,2,FALSE)))","v":""},null,null,{"$f":"IF($H34=\"\",\"\",(VLOOKUP($H34,所属競技者データ!$F$11:$L$110,3,FALSE)))","v":""},{"$f":"IF($H34=\"\",\"\",(VLOOKUP($H34,所属競技者データ!$F$11:$L$110,4,FALSE)))","v":""},{"$f":"IF(H34=\"\",\"\",所属競技者データ!$I$6)","v":""},{"$f":"IF($H34=\"\",\"\",(VLOOKUP($H34,所属競技者データ!$F$11:$L$110,5,FALSE)))","v":""},{"$f":"IF($H34=\"\",\"\",(VLOOKUP($H34,所属競技者データ!$F$11:$L$110,6)))","v":""},{"$f":"IF($H34=\"\",\"\",(VLOOKUP($H34,所属競技者データ!$F$11:$L$110,7,FALSE)))","v":""},null,29,{"$f":"IF(所属競技者データ!P39=\"\",\"\",所属競技者データ!P39&\" \"&所属競技者データ!Q39)","v":""},null,null,null,null,{"$f":"IF($X34=\"\",\"\",(VLOOKUP($X34,所属競技者データ!$N$11:$T$110,2,FALSE)))","v":""},null,null,{"$f":"IF($X34=\"\",\"\",(VLOOKUP($X34,所属競技者データ!$N$11:$T$110,3,FALSE)))","v":""},{"$f":"IF($X34=\"\",\"\",(VLOOKUP($X34,所属競技者データ!$N$11:$T$110,4,FALSE)))","v":""},{"$f":"IF(X34=\"\",\"\",所属競技者データ!$I$6)","v":""},{"$f":"IF($X34=\"\",\"\",(VLOOKUP($X34,所属競技者データ!$N$11:$T$110,5,FALSE)))","v":""},{"$f":"IF($X34=\"\",\"\",(VLOOKUP($X34,所属競技者データ!$N$11:$T$110,6)))","v":""},{"$f":"IF($X34=\"\",\"\",(VLOOKUP($X34,所属競技者データ!$N$11:$T$110,7,FALSE)))","v":""},null,null,null,"〃","400RSC",{"$f":"COUNTIFS(J$6:J$125,$AL34)","v":0},"人",{"$f":"COUNTIFS(Z$6:Z$125,$AL34)","v":0},"人",null,null,null,null,null,null,null,null,null,null,null,null,"","","","","",null,"","",null,"","","","","",null,"",""]
[null,null,30,{"$f":"IF(所属競技者データ!H40=\"\",\"\",所属競技者データ!H40&\" \"&所属競技者データ!I40)","v":""},null,null,null,null,{"$f":"IF($H35=\"\",\"\",(VLOOKUP($H35,所属競技者データ!$F$11:$L$110,2,FALSE)))","v":""},null,null,{"$f":"IF($H35=\"\",\"\",(VLOOKUP($H35,所属競技者データ!$F$11:$L$110,3,FALSE)))","v":""},{"$f":"IF($H35=\"\",\"\",(VLOOKUP($H35,所属競技者データ!$F$11:$L$110,4,FALSE)))","v":""},{"$f":"IF(H35=\"\",\"\",所属競技者データ!$I$6)","v":""},{"$f":"IF($H35=\"\",\"\",(VLOOKUP($H35,所属競技者データ!$F$11:$L$110,5,FALSE)))","v":""},{"$f":"IF($H35=\"\",\"\",(VLOOKUP($H35,所属競技者データ!$F$11:$L$110,6)))","v":""},{"$f":"IF($H35=\"\",\"\",(VLOOKUP($H35,所属競技者データ!$F$11:$L$110,7,FALSE)))","v":""},null,30,{"$f":"IF(所属競技者データ!P40=\"\",\"\",所属競技者データ!P40&\" \"&所属競技者データ!Q40)","v":""},null,null,null,null,{"$f":"IF($X35=\"\",\"\",(VLOOKUP($X35,所属競技者データ!$N$11:$T$110,2,FALSE)))","v":""},null,null,{"$f":"IF($X35=\"\",\"\",(VLOOKUP($X35,所属競技者データ!$N$11:$T$110,3,FALSE)))","v":""},{"$f":"IF($X35=\"\",\"\",(VLOOKUP($X35,所属競技者データ!$N$11:$T$110,4,FALSE)))","v":""},{"$f":"IF(X35=\"\",\"\",所属競技者データ!$I$6)","v":""},{"$f":"IF($X35=\"\",\"\",(VLOOKUP($X35,所属競技者データ!$N$11:$T$110,5,FALSE)))","v":""},{"$f":"IF($X35=\"\",\"\",(VLOOKUP($X35,所属競技者データ!$N$11:$T$110,6)))","v":""},{"$f":"IF($X35=\"\",\"\",(VLOOKUP($X35,所属競技者データ!$N$11:$T$110,7,FALSE)))","v":""},null,null,null,"〃","400RSD",0,"人",0,"人",null,null,null,null,null,null,null,null,null,null,null,null,"","","","","",null,"","",null,"","","","","",null,"",""]
[null,null,31,{"$f":"IF(所属競技者データ!H41=\"\",\"\",所属競技者データ!H41&\" \"&所属競技者データ!I41)","v":""},null,null,null,null,{"$f":"IF($H36=\"\",\"\",(VLOOKUP($H36,所属競技者データ!$F$11:$L$110,2,FALSE)))","v":""},null,null,{"$f":"IF($H36=\"\",\"\",(VLOOKUP($H36,所属競技者データ!$F$11:$L$110,3,FALSE)))","v":""},{"$f":"IF($H36=\"\",\"\",(VLOOKUP($H36,所属競技者データ!$F$11:$L$110,4,FALSE)))","v":""},{"$f":"IF(H36=\"\",\"\",所属競技者データ!$I$6)","v":""},{"$f":"IF($H36=\"\",\"\",(VLOOKUP($H36,所属競技者データ!$F$11:$L$110,5,FALSE)))","v":""},{"$f":"IF($H36=\"\",\"\",(VLOOKUP($H36,所属競技者データ!$F$11:$L$110,6)))","v":""},{"$f":"IF($H36=\"\",\"\",(VLOOKUP($H36,所属競技者データ!$F$11:$L$110,7,FALSE)))","v":""},null,31,{"$f":"IF(所属競技者データ!P41=\"\",\"\",所属競技者データ!P41&\" \"&所属競技者データ!Q41)","v":""},null,null,null,null,{"$f":"IF($X36=\"\",\"\",(VLOOKUP($X36,所属競技者データ!$N$11:$T$110,2,FALSE)))","v":""},null,null,{"$f":"IF($X36=\"\",\"\",(VLOOKUP($X36,所属競技者データ!$N$11:$T$110,3,FALSE)))","v":""},{"$f":"IF($X36=\"\",\"\",(VLOOKUP($X36,所属競技者データ!$N$11:$T$110,4,FALSE)))","v":""},{"$f":"IF(X36=\"\",\"\",所属競技者データ!$I$6)","v":""},{"$f":"IF($X36=\"\",\"\",(VLOOKUP($X36,所属競技者データ!$N$11:$T$110,5,FALSE)))","v":""},{"$f":"IF($X36=\"\",\"\",(VLOOKUP($X36,所属競技者データ!$N$11:$T$110,6)))","v":""},{"$f":"IF($X36=\"\",\"\",(VLOOKUP($X36,所属競技者データ!$N$11:$T$110,7,FALSE)))","v":""},null,null,null,"共通4×４００","1600RSA",0,"人",0,"人",null,null,null,null,null,null,null,null,null,null,null,null,"","","","","",null,"","",null,"","","","","",null,"",""]
[null,null,32,{"$f":"IF(所属競技者データ!H42=\"\",\"\",所属競技者データ!H42&\" \"&所属競技者データ!I42)","v":""},null,null,null,null,{"$f":"IF($H37=\"\",\"\",(VLOOKUP($H37,所属競技者データ!$F$11:$L$110,2,FALSE)))","v":""},null,null,{"$f":"IF($H37=\"\",\"\",(VLOOKUP($H37,所属競技者データ!$F$11:$L$110,3,FALSE)))","v":""},{"$f":"IF($H37=\"\",\"\",(VLOOKUP($H37,所属競技者データ!$F$11:$L$110,4,FALSE)))","v":""},{"$f":"IF(H37=\"\",\"\",所属競技者データ!$I$6)","v":""},{"$f":"IF($H37=\"\",\"\",(VLOOKUP($H37,所属競技者データ!$F$11:$L$110,5,FALSE)))","v":""},{"$f":"IF($H37=\"\",\"\",(VLOOKUP($H37,所属競技者データ!$F$11:$L$110,6)))","v":""},{"$f":"IF($H37=\"\",\"\",(VLOOKUP($H37,所属競技者データ!$F$11:$L$110,7,FALSE)))","v":""},null,32,{"$f":"IF(所属競技者データ!P42=\"\",\"\",所属競技者データ!P42&\" \"&所属競技者データ!Q42)","v":""},null,null,null,null,{"$f":"IF($X37=\"\",\"\",(VLOOKUP($X37,所属競技者データ!$N$11:$T$110,2,FALSE)))","v":""},null,null,{"$f":"IF($X37=\"\",\"\",(VLOOKUP($X37,所属競技者データ!$N$11:$T$110,3,FALSE)))","v":""},{"$f":"IF($X37=\"\",\"\",(VLOOKUP($X37,所属競技者データ!$N$11:$T$110,4,FALSE)))","v":""},{"$f":"IF(X37=\"\",\"\",所属競技者データ!$I$6)","v":""},{"$f":"IF($X37=\"\",\"\",(VLOOKUP($X37,所属競技者データ!$N$11:$T$110,5,FALSE)))","v":""},{"$f":"IF($X37=\"\",\"\",(VLOOKUP($X37,所属競技者データ!$N$11:$T$110,6)))","v":""},{"$f":"IF($X37=\"\",\"\",(VLOOKUP($X37,所属競技者データ!$N$11:$T$110,7,FALSE)))","v":""},null,null,null,"〃","1600RSB",0,"人",0,"人",null,null,null,null,null,null,null,null,null,null,null,null,"","","","","",null,"","",null,"","","","","",null,"",""]
[null,null,33,{"$f":"IF(所属競技者データ!H43=\"\",\"\",所属競技者データ!H43&\" \"&所属競技者データ!I43)","v":""},null,null,null,null,{"$f":"IF($H38=\"\",\"\",(VLOOKUP($H38,所属競技者データ!$F$11:$L$110,2,FALSE)))","v":""},null,null,{"$f":"IF($H38=\"\",\"\",(VLOOKUP($H38,所属競技者データ!$F$11:$L$110,3,FALSE)))","v":""},{"$f":"IF($H38=\"\",\"\",(VLOOKUP($H38,所属競技者データ!$F$11:$L$110,4,FALSE)))","v":""},{"$f":"IF(H38=\"\",\"\",所属競技者データ!$I$6)","v":""},{"$f":"IF($H38=\"\",\"\",(VLOOKUP($H38,所属競技者データ!$F$11:$L$110,5,FALSE)))","v":""},{"$f":"IF($H38=\"\",\"\",(VLOOKUP($H38,所属競技者データ!$F$11:$L$110,6)))","v":""},{"$f":"IF($H38=\"\",\"\",(VLOOKUP($H38,所属競技者データ!$F$11:$L$110,7,FALSE)))","v":""},null,33,{"$f":"IF(所属競技者データ!P43=\"\",\"\",所属競技者データ!P43&\" \"&所属競技者データ!Q43)","v":""},null,null,null,null,{"$f":"IF($X38=\"\",\"\",(VLOOKUP($X38,所属競技者データ!$N$11:$T$110,2,FALSE)))","v":""},null,null,{"$f":"IF($X38=\"\",\"\",(VLOOKUP($X38,所属競技者データ!$N$11:$T$110,3,FALSE)))","v":""},{"$f":"IF($X38=\"\",\"\",(VLOOKUP($X38,所属競技者データ!$N$11:$T$110,4,FALSE)))","v":""},{"$f":"IF(X38=\"\",\"\",所属競技者データ!$I$6)","v":""},{"$f":"IF($X38=\"\",\"\",(VLOOKUP($X38,所属競技者データ!$N$11:$T$110,5,FALSE)))","v":""},{"$f":"IF($X38=\"\",\"\",(VLOOKUP($X38,所属競技者データ!$N$11:$T$110,6)))","v":""},{"$f":"IF($X38=\"\",\"\",(VLOOKUP($X38,所属競技者データ!$N$11:$T$110,7,FALSE)))","v":""},null,null,null,"〃","1600RSC",0,"人",0,"人",null,null,null,null,null,null,null,null,null,null,null,null,"","","","","",null,"","",null,"","","","","",null,"",""]
[null,null,34,{"$f":"IF(所属競技者データ!H44=\"\",\"\",所属競技者データ!H44&\" \"&所属競技者データ!I44)","v":""},null,null,null,null,{"$f":"IF($H39=\"\",\"\",(VLOOKUP($H39,所属競技者データ!$F$11:$L$110,2,FALSE)))","v":""},null,null,{"$f":"IF($H39=\"\",\"\",(VLOOKUP($H39,所属競技者データ!$F$11:$L$110,3,FALSE)))","v":""},{"$f":"IF($H39=\"\",\"\",(VLOOKUP($H39,所属競技者データ!$F$11:$L$110,4,FALSE)))","v":""},{"$f":"IF(H39=\"\",\"\",所属競技者データ!$I$6)","v":""},{"$f":"IF($H39=\"\",\"\",(VLOOKUP($H39,所属競技者データ!$F$11:$L$110,5,FALSE)))","v":""},{"$f":"IF($H39=\"\",\"\",(VLOOKUP($H39,所属競技者データ!$F$11:$L$110,6)))","v":""},{"$f":"IF($H39=\"\",\"\",(VLOOKUP($H39,所属競技者データ!$F$11:$L$110,7,FALSE)))","v":""},null,34,{"$f":"IF(所属競技者データ!P44=\"\",\"\",所属競技者データ!P44&\" \"&所属競技者データ!Q44)","v":""},null,null,null,null,{"$f":"IF($X39=\"\",\"\",(VLOOKUP($X39,所属競技者データ!$N$11:$T$110,2,FALSE)))","v":""},null,null,{"$f":"IF($X39=\"\",\"\",(VLOOKUP($X39,所属競技者データ!$N$11:$T$110,3,FALSE)))","v":""},{"$f":"IF($X39=\"\",\"\",(VLOOKUP($X39,所属競技者データ!$N$11:$T$110,4,FALSE)))","v":""},{"$f":"IF(X39=\"\",\"\",所属競技者データ!$I$6)","v":""},{"$f":"IF($X39=\"\",\"\",(VLOOKUP($X39,所属競技者データ!$N$11:$T$110,5,FALSE)))","v":""},{"$f":"IF($X39=\"\",\"\",(VLOOKUP($X39,所属競技者データ!$N$11:$T$110,6)))","v":""},{"$f":"IF($X39=\"\",\"\",(VLOOKUP($X39,所属競技者データ!$N$11:$T$110,7,FALSE)))","v":""},null,null,null,"〃","1600RSD",0,"人",0,"人",null,null,null,null,null,null,null,null,null,null,null,null,"","","","","",null,"","",null,"","","","","",null,"",""]
[null,null,35,{"$f":"IF(所属競技者データ!H45=\"\",\"\",所属競技者データ!H45&\" \"&所属競技者データ!I45)","v":""},null,null,null,null,{"$f":"IF($H40=\"\",\"\",(VLOOKUP($H40,所属競技者データ!$F$11:$L$110,2,FALSE)))","v":""},null,null,{"$f":"IF($H40=\"\",\"\",(VLOOKUP($H40,所属競技者データ!$F$11:$L$110,3,FALSE)))","v":""},{"$f":"IF($H40=\"\",\"\",(VLOOKUP($H40,所属競技者データ!$F$11:$L$110,4,FALSE)))","v":""},{"$f":"IF(H40=\"\",\"\",所属競技者データ!$I$6)","v":""},{"$f":"IF($H40=\"\",\"\",(VLOOKUP($H40,所属競技者データ!$F$11:$L$110,5,FALSE)))","v":""},{"$f":"IF($H40=\"\",\"\",(VLOOKUP($H40,所属競技者データ!$F$11:$L$110,6)))","v":""},{"$f":"IF($H40=\"\",\"\",(VLOOKUP($H40,所属競技者データ!$F$11:$L$110,7,FALSE)))","v":""},null,35,{"$f":"IF(所属競技者データ!P45=\"\",\"\",所属競技者データ!P45&\" \"&所属競技者データ!Q45)","v":""},null,null,null,null,{"$f":"IF($X40=\"\",\"\",(VLOOKUP($X40,所属競技者データ!$N$11:$T$110,2,FALSE)))","v":""},null,null,{"$f":"IF($X40=\"\",\"\",(VLOOKUP($X40,所属競技者データ!$N$11:$T$110,3,FALSE)))","v":""},{"$f":"IF($X40=\"\",\"\",(VLOOKUP($X40,所属競技者データ!$N$11:$T$110,4,FALSE)))","v":""},{"$f":"IF(X40=\"\",\"\",所属競技者データ!$I$6)","v":""},{"$f":"IF($X40=\"\",\"\",(VLOOKUP($X40,所属競技者データ!$N$11:$T$110,5,FALSE)))","v":""},{"$f":"IF($X40=\"\",\"\",(VLOOKUP($X40,所属競技者データ!$N$11:$T$110,6)))","v":""},{"$f":"IF($X40=\"\",\"\",(VLOOKUP($X40,所属競技者データ!$N$11:$T$110,7,FALSE)))","v":""},null,null,null,"中学混成四種","4D",{"$f":"COUNTIFS(J$6:J$125,$AL40)","v":0},"人",{"$f":"COUNTIFS(Z$6:Z$125,$AL40)","v":0},"人",null,null,null,null,null,null,null,null,null,null,null,null,"","","","","",null,"","",null,"","","","","",null,"",""]
[null,null,36,{"$f":"IF(所属競技者データ!H46=\"\",\"\",所属競技者データ!H46&\" \"&所属競技者データ!I46)","v":""},null,null,null,null,{"$f":"IF($H41=\"\",\"\",(VLOOKUP($H41,所属競技者データ!$F$11:$L$110,2,FALSE)))","v":""},null,null,{"$f":"IF($H41=\"\",\"\",(VLOOKUP($H41,所属競技者データ!$F$11:$L$110,3,FALSE)))","v":""},{"$f":"IF($H41=\"\",\"\",(VLOOKUP($H41,所属競技者データ!$F$11:$L$110,4,FALSE)))","v":""},{"$f":"IF(H41=\"\",\"\",所属競技者データ!$I$6)","v":""},{"$f":"IF($H41=\"\",\"\",(VLOOKUP($H41,所属競技者データ!$F$11:$L$110,5,FALSE)))","v":""},{"$f":"IF($H41=\"\",\"\",(VLOOKUP($H41,所属競技者データ!$F$11:$L$110,6)))","v":""},{"$f":"IF($H41=\"\",\"\",(VLOOKUP($H41,所属競技者データ!$F$11:$L$110,7,FALSE)))","v":""},null,36,{"$f":"IF(所属競技者データ!P46=\"\",\"\",所属競技者データ!P46&\" \"&所属競技者データ!Q46)","v":""},null,null,null,null,{"$f":"IF($X41=\"\",\"\",(VLOOKUP($X41,所属競技者データ!$N$11:$T$110,2,FALSE)))","v":""},null,null,{"$f":"IF($X41=\"\",\"\",(VLOOKUP($X41,所属競技者データ!$N$11:$T$110,3,FALSE)))","v":""},{"$f":"IF($X41=\"\",\"\",(VLOOKUP($X41,所属競技者データ!$N$11:$T$110,4,FALSE)))","v":""},{"$f":"IF(X41=\"\",\"\",所属競技者データ!$I$6)","v":""},{"$f":"IF($X41=\"\",\"\",(VLOOKUP($X41,所属競技者データ!$N$11:$T$110,5,FALSE)))","v":""},{"$f":"IF($X41=\"\",\"\",(VLOOKUP($X41,所属競技者データ!$N$11:$T$110,6)))","v":""},{"$f":"IF($X41=\"\",\"\",(VLOOKUP($X41,所属競技者データ!$N$11:$T$110,7,FALSE)))","v":""},null,null,null,null,null,null,null,null,null,null,null,null,null,null,null,null,null,null,null,null,null,"","","","","",null,"","",null,"","","","","",null,"",""]
[null,null,37,{"$f":"IF(所属競技者データ!H47=\"\",\"\",所属競技者データ!H47&\" \"&所属競技者データ!I47)","v":""},null,null,null,null,{"$f":"IF($H42=\"\",\"\",(VLOOKUP($H42,所属競技者データ!$F$11:$L$110,2,FALSE)))","v":""},null,null,{"$f":"IF($H42=\"\",\"\",(VLOOKUP($H42,所属競技者データ!$F$11:$L$110,3,FALSE)))","v":""},{"$f":"IF($H42=\"\",\"\",(VLOOKUP($H42,所属競技者データ!$F$11:$L$110,4,FALSE)))","v":""},{"$f":"IF(H42=\"\",\"\",所属競技者データ!$I$6)","v":""},{"$f":"IF($H42=\"\",\"\",(VLOOKUP($H42,所属競技者データ!$F$11:$L$110,5,FALSE)))","v":""},{"$f":"IF($H42=\"\",\"\",(VLOOKUP($H42,所属競技者データ!$F$11:$L$110,6)))","v":""},{"$f":"IF($H42=\"\",\"\",(VLOOKUP($H42,所属競技者データ!$F$11:$L$110,7,FALSE)))","v":""},null,37,{"$f":"IF(所属競技者データ!P47=\"\",\"\",所属競技者データ!P47&\" \"&所属競技者データ!Q47)","v":""},null,null,null,null,{"$f":"IF($X42=\"\",\"\",(VLOOKUP($X42,所属競技者データ!$N$11:$T$110,2,FALSE)))","v":""},null,null,{"$f":"IF($X42=\"\",\"\",(VLOOKUP($X42,所属競技者データ!$N$11:$T$110,3,FALSE)))","v":""},{"$f":"IF($X42=\"\",\"\",(VLOOKUP($X42,所属競技者データ!$N$11:$T$110,4,FALSE)))","v":""},{"$f":"IF(X42=\"\",\"\",所属競技者データ!$I$6)","v":""},{"$f":"IF($X42=\"\",\"\",(VLOOKUP($X42,所属競技者データ!$N$11:$T$110,5,FALSE)))","v":""},{"$f":"IF($X42=\"\",\"\",(VLOOKUP($X42,所属競技者データ!$N$11:$T$110,6)))","v":""},{"$f":"IF($X42=\"\",\"\",(VLOOKUP($X42,所属競技者データ!$N$11:$T$110,7,FALSE)))","v":""},null,null,null,null,null,null,null,null,null,null,null,null,null,null,null,null,null,null,null,null,null,"","","","","",null,"","",null,"","","","","",null,"",""]
[null,null,38,{"$f":"IF(所属競技者データ!H48=\"\",\"\",所属競技者データ!H48&\" \"&所属競技者データ!I48)","v":""},null,null,null,null,{"$f":"IF($H43=\"\",\"\",(VLOOKUP($H43,所属競技者データ!$F$11:$L$110,2,FALSE)))","v":""},null,null,{"$f":"IF($H43=\"\",\"\",(VLOOKUP($H43,所属競技者データ!$F$11:$L$110,3,FALSE)))","v":""},{"$f":"IF($H43=\"\",\"\",(VLOOKUP($H43,所属競技者データ!$F$11:$L$110,4,FALSE)))","v":""},{"$f":"IF(H43=\"\",\"\",所属競技者データ!$I$6)","v":""},{"$f":"IF($H43=\"\",\"\",(VLOOKUP($H43,所属競技者データ!$F$11:$L$110,5,FALSE)))","v":""},{"$f":"IF($H43=\"\",\"\",(VLOOKUP($H43,所属競技者データ!$F$11:$L$110,6)))","v":""},{"$f":"IF($H43=\"\",\"\",(VLOOKUP($H43,所属競技者データ!$F$11:$L$110,7,FALSE)))","v":""},null,38,{"$f":"IF(所属競技者データ!P48=\"\",\"\",所属競技者データ!P48&\" \"&所属競技者データ!Q48)","v":""},null,null,null,null,{"$f":"IF($X43=\"\",\"\",(VLOOKUP($X43,所属競技者データ!$N$11:$T$110,2,FALSE)))","v":""},null,null,{"$f":"IF($X43=\"\",\"\",(VLOOKUP($X43,所属競技者データ!$N$11:$T$110,3,FALSE)))","v":""},{"$f":"IF($X43=\"\",\"\",(VLOOKUP($X43,所属競技者データ!$N$11:$T$110,4,FALSE)))","v":""},{"$f":"IF(X43=\"\",\"\",所属競技者データ!$I$6)","v":""},{"$f":"IF($X43=\"\",\"\",(VLOOKUP($X43,所属競技者データ!$N$11:$T$110,5,FALSE)))","v":""},{"$f":"IF($X43=\"\",\"\",(VLOOKUP($X43,所属競技者データ!$N$11:$T$110,6)))","v":""},{"$f":"IF($X43=\"\",\"\",(VLOOKUP($X43,所属競技者データ!$N$11:$T$110,7,FALSE)))","v":""},null,null,null,null,null,null,null,null,null,null,null,null,null,null,null,null,null,null,null,null,null,"","","","","",null,"","",null,"","","","","",null,"",""]
[null,null,39,{"$f":"IF(所属競技者データ!H49=\"\",\"\",所属競技者データ!H49&\" \"&所属競技者データ!I49)","v":""},null,null,null,null,{"$f":"IF($H44=\"\",\"\",(VLOOKUP($H44,所属競技者データ!$F$11:$L$110,2,FALSE)))","v":""},null,null,{"$f":"IF($H44=\"\",\"\",(VLOOKUP($H44,所属競技者データ!$F$11:$L$110,3,FALSE)))","v":""},{"$f":"IF($H44=\"\",\"\",(VLOOKUP($H44,所属競技者データ!$F$11:$L$110,4,FALSE)))","v":""},{"$f":"IF(H44=\"\",\"\",所属競技者データ!$I$6)","v":""},{"$f":"IF($H44=\"\",\"\",(VLOOKUP($H44,所属競技者データ!$F$11:$L$110,5,FALSE)))","v":""},{"$f":"IF($H44=\"\",\"\",(VLOOKUP($H44,所属競技者データ!$F$11:$L$110,6)))","v":""},{"$f":"IF($H44=\"\",\"\",(VLOOKUP($H44,所属競技者データ!$F$11:$L$110,7,FALSE)))","v":""},null,39,{"$f":"IF(所属競技者データ!P49=\"\",\"\",所属競技者データ!P49&\" \"&所属競技者データ!Q49)","v":""},null,null,null,null,{"$f":"IF($X44=\"\",\"\",(VLOOKUP($X44,所属競技者データ!$N$11:$T$110,2,FALSE)))","v":""},null,null,{"$f":"IF($X44=\"\",\"\",(VLOOKUP($X44,所属競技者データ!$N$11:$T$110,3,FALSE)))","v":""},{"$f":"IF($X44=\"\",\"\",(VLOOKUP($X44,所属競技者データ!$N$11:$T$110,4,FALSE)))","v":""},{"$f":"IF(X44=\"\",\"\",所属競技者データ!$I$6)","v":""},{"$f":"IF($X44=\"\",\"\",(VLOOKUP($X44,所属競技者データ!$N$11:$T$110,5,FALSE)))","v":""},{"$f":"IF($X44=\"\",\"\",(VLOOKUP($X44,所属競技者データ!$N$11:$T$110,6)))","v":""},{"$f":"IF($X44=\"\",\"\",(VLOOKUP($X44,所属競技者データ!$N$11:$T$110,7,FALSE)))","v":""},null,null,null,null,null,null,null,null,null,null,null,null,null,null,null,null,null,null,null,null,null,"","","","","",null,"","",null,"","","","","",null,"",""]
[null,null,40,{"$f":"IF(所属競技者データ!H50=\"\",\"\",所属競技者データ!H50&\" \"&所属競技者データ!I50)","v":""},null,null,null,null,{"$f":"IF($H45=\"\",\"\",(VLOOKUP($H45,所属競技者データ!$F$11:$L$110,2,FALSE)))","v":""},null,null,{"$f":"IF($H45=\"\",\"\",(VLOOKUP($H45,所属競技者データ!$F$11:$L$110,3,FALSE)))","v":""},{"$f":"IF($H45=\"\",\"\",(VLOOKUP($H45,所属競技者データ!$F$11:$L$110,4,FALSE)))","v":""},{"$f":"IF(H45=\"\",\"\",所属競技者データ!$I$6)","v":""},{"$f":"IF($H45=\"\",\"\",(VLOOKUP($H45,所属競技者データ!$F$11:$L$110,5,FALSE)))","v":""},{"$f":"IF($H45=\"\",\"\",(VLOOKUP($H45,所属競技者データ!$F$11:$L$110,6)))","v":""},{"$f":"IF($H45=\"\",\"\",(VLOOKUP($H45,所属競技者データ!$F$11:$L$110,7,FALSE)))","v":""},null,40,{"$f":"IF(所属競技者データ!P50=\"\",\"\",所属競技者データ!P50&\" \"&所属競技者データ!Q50)","v":""},null,null,null,null,{"$f":"IF($X45=\"\",\"\",(VLOOKUP($X45,所属競技者データ!$N$11:$T$110,2,FALSE)))","v":""},null,null,{"$f":"IF($X45=\"\",\"\",(VLOOKUP($X45,所属競技者データ!$N$11:$T$110,3,FALSE)))","v":""},{"$f":"IF($X45=\"\",\"\",(VLOOKUP($X45,所属競技者データ!$N$11:$T$110,4,FALSE)))","v":""},{"$f":"IF(X45=\"\",\"\",所属競技者データ!$I$6)","v":""},{"$f":"IF($X45=\"\",\"\",(VLOOKUP($X45,所属競技者データ!$N$11:$T$110,5,FALSE)))","v":""},{"$f":"IF($X45=\"\",\"\",(VLOOKUP($X45,所属競技者データ!$N$11:$T$110,6)))","v":""},{"$f":"IF($X45=\"\",\"\",(VLOOKUP($X45,所属競技者データ!$N$11:$T$110,7,FALSE)))","v":""},null,null,null,null,null,null,null,null,null,null,null,null,null,null,null,null,null,null,null,null,null,"","","","","",null,"","",null,"","","","","",null,"",""]
[null,null,41,{"$f":"IF(所属競技者データ!H51=\"\",\"\",所属競技者データ!H51&\" \"&所属競技者データ!I51)","v":""},null,null,null,null,{"$f":"IF($H46=\"\",\"\",(VLOOKUP($H46,所属競技者データ!$F$11:$L$110,2,FALSE)))","v":""},null,null,{"$f":"IF($H46=\"\",\"\",(VLOOKUP($H46,所属競技者データ!$F$11:$L$110,3,FALSE)))","v":""},{"$f":"IF($H46=\"\",\"\",(VLOOKUP($H46,所属競技者データ!$F$11:$L$110,4,FALSE)))","v":""},{"$f":"IF(H46=\"\",\"\",所属競技者データ!$I$6)","v":""},{"$f":"IF($H46=\"\",\"\",(VLOOKUP($H46,所属競技者データ!$F$11:$L$110,5,FALSE)))","v":""},{"$f":"IF($H46=\"\",\"\",(VLOOKUP($H46,所属競技者データ!$F$11:$L$110,6)))","v":""},{"$f":"IF($H46=\"\",\"\",(VLOOKUP($H46,所属競技者データ!$F$11:$L$110,7,FALSE)))","v":""},null,41,{"$f":"IF(所属競技者データ!P51=\"\",\"\",所属競技者データ!P51&\" \"&所属競技者データ!Q51)","v":""},null,null,null,null,{"$f":"IF($X46=\"\",\"\",(VLOOKUP($X46,所属競技者データ!$N$11:$T$110,2,FALSE)))","v":""},null,null,{"$f":"IF($X46=\"\",\"\",(VLOOKUP($X46,所属競技者データ!$N$11:$T$110,3,FALSE)))","v":""},{"$f":"IF($X46=\"\",\"\",(VLOOKUP($X46,所属競技者データ!$N$11:$T$110,4,FALSE)))","v":""},{"$f":"IF(X46=\"\",\"\",所属競技者データ!$I$6)","v":""},{"$f":"IF($X46=\"\",\"\",(VLOOKUP($X46,所属競技者データ!$N$11:$T$110,5,FALSE)))","v":""},{"$f":"IF($X46=\"\",\"\",(VLOOKUP($X46,所属競技者データ!$N$11:$T$110,6)))","v":""},{"$f":"IF($X46=\"\",\"\",(VLOOKUP($X46,所属競技者データ!$N$11:$T$110,7,FALSE)))","v":""},null,null,null,null,null,null,null,null,null,null,null,null,null,null,null,null,null,null,null,null,null,"","","","","",null,"","",null,"","","","","",null,"",""]
[null,null,42,{"$f":"IF(所属競技者データ!H52=\"\",\"\",所属競技者データ!H52&\" \"&所属競技者データ!I52)","v":""},null,null,null,null,{"$f":"IF($H47=\"\",\"\",(VLOOKUP($H47,所属競技者データ!$F$11:$L$110,2,FALSE)))","v":""},null,null,{"$f":"IF($H47=\"\",\"\",(VLOOKUP($H47,所属競技者データ!$F$11:$L$110,3,FALSE)))","v":""},{"$f":"IF($H47=\"\",\"\",(VLOOKUP($H47,所属競技者データ!$F$11:$L$110,4,FALSE)))","v":""},{"$f":"IF(H47=\"\",\"\",所属競技者データ!$I$6)","v":""},{"$f":"IF($H47=\"\",\"\",(VLOOKUP($H47,所属競技者データ!$F$11:$L$110,5,FALSE)))","v":""},{"$f":"IF($H47=\"\",\"\",(VLOOKUP($H47,所属競技者データ!$F$11:$L$110,6)))","v":""},{"$f":"IF($H47=\"\",\"\",(VLOOKUP($H47,所属競技者データ!$F$11:$L$110,7,FALSE)))","v":""},null,42,{"$f":"IF(所属競技者データ!P52=\"\",\"\",所属競技者データ!P52&\" \"&所属競技者データ!Q52)","v":""},null,null,null,null,{"$f":"IF($X47=\"\",\"\",(VLOOKUP($X47,所属競技者データ!$N$11:$T$110,2,FALSE)))","v":""},null,null,{"$f":"IF($X47=\"\",\"\",(VLOOKUP($X47,所属競技者データ!$N$11:$T$110,3,FALSE)))","v":""},{"$f":"IF($X47=\"\",\"\",(VLOOKUP($X47,所属競技者データ!$N$11:$T$110,4,FALSE)))","v":""},{"$f":"IF(X47=\"\",\"\",所属競技者データ!$I$6)","v":""},{"$f":"IF($X47=\"\",\"\",(VLOOKUP($X47,所属競技者データ!$N$11:$T$110,5,FALSE)))","v":""},{"$f":"IF($X47=\"\",\"\",(VLOOKUP($X47,所属競技者データ!$N$11:$T$110,6)))","v":""},{"$f":"IF($X47=\"\",\"\",(VLOOKUP($X47,所属競技者データ!$N$11:$T$110,7,FALSE)))","v":""},null,null,null,null,null,null,null,null,null,null,null,null,null,null,null,null,null,null,null,null,null,"","","","","",null,"","",null,"","","","","",null,"",""]
[null,null,43,{"$f":"IF(所属競技者データ!H53=\"\",\"\",所属競技者データ!H53&\" \"&所属競技者データ!I53)","v":""},null,null,null,null,{"$f":"IF($H48=\"\",\"\",(VLOOKUP($H48,所属競技者データ!$F$11:$L$110,2,FALSE)))","v":""},null,null,{"$f":"IF($H48=\"\",\"\",(VLOOKUP($H48,所属競技者データ!$F$11:$L$110,3,FALSE)))","v":""},{"$f":"IF($H48=\"\",\"\",(VLOOKUP($H48,所属競技者データ!$F$11:$L$110,4,FALSE)))","v":""},{"$f":"IF(H48=\"\",\"\",所属競技者データ!$I$6)","v":""},{"$f":"IF($H48=\"\",\"\",(VLOOKUP($H48,所属競技者データ!$F$11:$L$110,5,FALSE)))","v":""},{"$f":"IF($H48=\"\",\"\",(VLOOKUP($H48,所属競技者データ!$F$11:$L$110,6)))","v":""},{"$f":"IF($H48=\"\",\"\",(VLOOKUP($H48,所属競技者データ!$F$11:$L$110,7,FALSE)))","v":""},null,43,{"$f":"IF(所属競技者データ!P53=\"\",\"\",所属競技者データ!P53&\" \"&所属競技者データ!Q53)","v":""},null,null,null,null,{"$f":"IF($X48=\"\",\"\",(VLOOKUP($X48,所属競技者データ!$N$11:$T$110,2,FALSE)))","v":""},null,null,{"$f":"IF($X48=\"\",\"\",(VLOOKUP($X48,所属競技者データ!$N$11:$T$110,3,FALSE)))","v":""},{"$f":"IF($X48=\"\",\"\",(VLOOKUP($X48,所属競技者データ!$N$11:$T$110,4,FALSE)))","v":""},{"$f":"IF(X48=\"\",\"\",所属競技者データ!$I$6)","v":""},{"$f":"IF($X48=\"\",\"\",(VLOOKUP($X48,所属競技者データ!$N$11:$T$110,5,FALSE)))","v":""},{"$f":"IF($X48=\"\",\"\",(VLOOKUP($X48,所属競技者データ!$N$11:$T$110,6)))","v":""},{"$f":"IF($X48=\"\",\"\",(VLOOKUP($X48,所属競技者データ!$N$11:$T$110,7,FALSE)))","v":""},null,null,null,null,null,null,null,null,null,null,null,null,null,null,null,null,null,null,null,null,null,"","","","","",null,"","",null,"","","","","",null,"",""]
[null,null,44,{"$f":"IF(所属競技者データ!H54=\"\",\"\",所属競技者データ!H54&\" \"&所属競技者データ!I54)","v":""},null,null,null,null,{"$f":"IF($H49=\"\",\"\",(VLOOKUP($H49,所属競技者データ!$F$11:$L$110,2,FALSE)))","v":""},null,null,{"$f":"IF($H49=\"\",\"\",(VLOOKUP($H49,所属競技者データ!$F$11:$L$110,3,FALSE)))","v":""},{"$f":"IF($H49=\"\",\"\",(VLOOKUP($H49,所属競技者データ!$F$11:$L$110,4,FALSE)))","v":""},{"$f":"IF(H49=\"\",\"\",所属競技者データ!$I$6)","v":""},{"$f":"IF($H49=\"\",\"\",(VLOOKUP($H49,所属競技者データ!$F$11:$L$110,5,FALSE)))","v":""},{"$f":"IF($H49=\"\",\"\",(VLOOKUP($H49,所属競技者データ!$F$11:$L$110,6)))","v":""},{"$f":"IF($H49=\"\",\"\",(VLOOKUP($H49,所属競技者データ!$F$11:$L$110,7,FALSE)))","v":""},null,44,{"$f":"IF(所属競技者データ!P54=\"\",\"\",所属競技者データ!P54&\" \"&所属競技者データ!Q54)","v":""},null,null,null,null,{"$f":"IF($X49=\"\",\"\",(VLOOKUP($X49,所属競技者データ!$N$11:$T$110,2,FALSE)))","v":""},null,null,{"$f":"IF($X49=\"\",\"\",(VLOOKUP($X49,所属競技者データ!$N$11:$T$110,3,FALSE)))","v":""},{"$f":"IF($X49=\"\",\"\",(VLOOKUP($X49,所属競技者データ!$N$11:$T$110,4,FALSE)))","v":""},{"$f":"IF(X49=\"\",\"\",所属競技者データ!$I$6)","v":""},{"$f":"IF($X49=\"\",\"\",(VLOOKUP($X49,所属競技者データ!$N$11:$T$110,5,FALSE)))","v":""},{"$f":"IF($X49=\"\",\"\",(VLOOKUP($X49,所属競技者データ!$N$11:$T$110,6)))","v":""},{"$f":"IF($X49=\"\",\"\",(VLOOKUP($X49,所属競技者データ!$N$11:$T$110,7,FALSE)))","v":""},null,null,null,null,null,null,null,null,null,null,null,null,null,null,null,null,null,null,null,null,null,"","","","","",null,"","",null,"","","","","",null,"",""]
[null,null,45,{"$f":"IF(所属競技者データ!H55=\"\",\"\",所属競技者データ!H55&\" \"&所属競技者データ!I55)","v":""},null,null,null,null,{"$f":"IF($H50=\"\",\"\",(VLOOKUP($H50,所属競技者データ!$F$11:$L$110,2,FALSE)))","v":""},null,null,{"$f":"IF($H50=\"\",\"\",(VLOOKUP($H50,所属競技者データ!$F$11:$L$110,3,FALSE)))","v":""},{"$f":"IF($H50=\"\",\"\",(VLOOKUP($H50,所属競技者データ!$F$11:$L$110,4,FALSE)))","v":""},{"$f":"IF(H50=\"\",\"\",所属競技者データ!$I$6)","v":""},{"$f":"IF($H50=\"\",\"\",(VLOOKUP($H50,所属競技者データ!$F$11:$L$110,5,FALSE)))","v":""},{"$f":"IF($H50=\"\",\"\",(VLOOKUP($H50,所属競技者データ!$F$11:$L$110,6)))","v":""},{"$f":"IF($H50=\"\",\"\",(VLOOKUP($H50,所属競技者データ!$F$11:$L$110,7,FALSE)))","v":""},null,45,{"$f":"IF(所属競技者データ!P55=\"\",\"\",所属競技者データ!P55&\" \"&所属競技者データ!Q55)","v":""},null,null,null,null,{"$f":"IF($X50=\"\",\"\",(VLOOKUP($X50,所属競技者データ!$N$11:$T$110,2,FALSE)))","v":""},null,null,{"$f":"IF($X50=\"\",\"\",(VLOOKUP($X50,所属競技者データ!$N$11:$T$110,3,FALSE)))","v":""},{"$f":"IF($X50=\"\",\"\",(VLOOKUP($X50,所属競技者データ!$N$11:$T$110,4,FALSE)))","v":""},{"$f":"IF(X50=\"\",\"\",所属競技者データ!$I$6)","v":""},{"$f":"IF($X50=\"\",\"\",(VLOOKUP($X50,所属競技者データ!$N$11:$T$110,5,FALSE)))","v":""},{"$f":"IF($X50=\"\",\"\",(VLOOKUP($X50,所属競技者データ!$N$11:$T$110,6)))","v":""},{"$f":"IF($X50=\"\",\"\",(VLOOKUP($X50,所属競技者データ!$N$11:$T$110,7,FALSE)))","v":""},null,null,null,null,null,null,null,null,null,null,null,null,null,null,null,null,null,null,null,null,null,"","","","","",null,"","",null,"","","","","",null,"",""]
[null,null,46,{"$f":"IF(所属競技者データ!H56=\"\",\"\",所属競技者データ!H56&\" \"&所属競技者データ!I56)","v":""},null,null,null,null,{"$f":"IF($H51=\"\",\"\",(VLOOKUP($H51,所属競技者データ!$F$11:$L$110,2,FALSE)))","v":""},null,null,{"$f":"IF($H51=\"\",\"\",(VLOOKUP($H51,所属競技者データ!$F$11:$L$110,3,FALSE)))","v":""},{"$f":"IF($H51=\"\",\"\",(VLOOKUP($H51,所属競技者データ!$F$11:$L$110,4,FALSE)))","v":""},{"$f":"IF(H51=\"\",\"\",所属競技者データ!$I$6)","v":""},{"$f":"IF($H51=\"\",\"\",(VLOOKUP($H51,所属競技者データ!$F$11:$L$110,5,FALSE)))","v":""},{"$f":"IF($H51=\"\",\"\",(VLOOKUP($H51,所属競技者データ!$F$11:$L$110,6)))","v":""},{"$f":"IF($H51=\"\",\"\",(VLOOKUP($H51,所属競技者データ!$F$11:$L$110,7,FALSE)))","v":""},null,46,{"$f":"IF(所属競技者データ!P56=\"\",\"\",所属競技者データ!P56&\" \"&所属競技者データ!Q56)","v":""},null,null,null,null,{"$f":"IF($X51=\"\",\"\",(VLOOKUP($X51,所属競技者データ!$N$11:$T$110,2,FALSE)))","v":""},null,null,{"$f":"IF($X51=\"\",\"\",(VLOOKUP($X51,所属競技者データ!$N$11:$T$110,3,FALSE)))","v":""},{"$f":"IF($X51=\"\",\"\",(VLOOKUP($X51,所属競技者データ!$N$11:$T$110,4,FALSE)))","v":""},{"$f":"IF(X51=\"\",\"\",所属競技者データ!$I$6)","v":""},{"$f":"IF($X51=\"\",\"\",(VLOOKUP($X51,所属競技者データ!$N$11:$T$110,5,FALSE)))","v":""},{"$f":"IF($X51=\"\",\"\",(VLOOKUP($X51,所属競技者データ!$N$11:$T$110,6)))","v":""},{"$f":"IF($X51=\"\",\"\",(VLOOKUP($X51,所属競技者データ!$N$11:$T$110,7,FALSE)))","v":""},null,null,null,null,null,null,null,null,null,null,null,null,null,null,null,null,null,null,null,null,null,"","","","","",null,"","",null,"","","","","",null,"",""]
[null,null,47,{"$f":"IF(所属競技者データ!H57=\"\",\"\",所属競技者データ!H57&\" \"&所属競技者データ!I57)","v":""},null,null,null,null,{"$f":"IF($H52=\"\",\"\",(VLOOKUP($H52,所属競技者データ!$F$11:$L$110,2,FALSE)))","v":""},null,null,{"$f":"IF($H52=\"\",\"\",(VLOOKUP($H52,所属競技者データ!$F$11:$L$110,3,FALSE)))","v":""},{"$f":"IF($H52=\"\",\"\",(VLOOKUP($H52,所属競技者データ!$F$11:$L$110,4,FALSE)))","v":""},{"$f":"IF(H52=\"\",\"\",所属競技者データ!$I$6)","v":""},{"$f":"IF($H52=\"\",\"\",(VLOOKUP($H52,所属競技者データ!$F$11:$L$110,5,FALSE)))","v":""},{"$f":"IF($H52=\"\",\"\",(VLOOKUP($H52,所属競技者データ!$F$11:$L$110,6)))","v":""},{"$f":"IF($H52=\"\",\"\",(VLOOKUP($H52,所属競技者データ!$F$11:$L$110,7,FALSE)))","v":""},null,47,{"$f":"IF(所属競技者データ!P57=\"\",\"\",所属競技者データ!P57&\" \"&所属競技者データ!Q57)","v":""},null,null,null,null,{"$f":"IF($X52=\"\",\"\",(VLOOKUP($X52,所属競技者データ!$N$11:$T$110,2,FALSE)))","v":""},null,null,{"$f":"IF($X52=\"\",\"\",(VLOOKUP($X52,所属競技者データ!$N$11:$T$110,3,FALSE)))","v":""},{"$f":"IF($X52=\"\",\"\",(VLOOKUP($X52,所属競技者データ!$N$11:$T$110,4,FALSE)))","v":""},{"$f":"IF(X52=\"\",\"\",所属競技者データ!$I$6)","v":""},{"$f":"IF($X52=\"\",\"\",(VLOOKUP($X52,所属競技者データ!$N$11:$T$110,5,FALSE)))","v":""},{"$f":"IF($X52=\"\",\"\",(VLOOKUP($X52,所属競技者データ!$N$11:$T$110,6)))","v":""},{"$f":"IF($X52=\"\",\"\",(VLOOKUP($X52,所属競技者データ!$N$11:$T$110,7,FALSE)))","v":""},null,null,null,null,null,null,null,null,null,null,null,null,null,null,null,null,null,null,null,null,null,"","","","","",null,"","",null,"","","","","",null,"",""]
[null,null,48,{"$f":"IF(所属競技者データ!H58=\"\",\"\",所属競技者データ!H58&\" \"&所属競技者データ!I58)","v":""},null,null,null,null,{"$f":"IF($H53=\"\",\"\",(VLOOKUP($H53,所属競技者データ!$F$11:$L$110,2,FALSE)))","v":""},null,null,{"$f":"IF($H53=\"\",\"\",(VLOOKUP($H53,所属競技者データ!$F$11:$L$110,3,FALSE)))","v":""},{"$f":"IF($H53=\"\",\"\",(VLOOKUP($H53,所属競技者データ!$F$11:$L$110,4,FALSE)))","v":""},{"$f":"IF(H53=\"\",\"\",所属競技者データ!$I$6)","v":""},{"$f":"IF($H53=\"\",\"\",(VLOOKUP($H53,所属競技者データ!$F$11:$L$110,5,FALSE)))","v":""},{"$f":"IF($H53=\"\",\"\",(VLOOKUP($H53,所属競技者データ!$F$11:$L$110,6)))","v":""},{"$f":"IF($H53=\"\",\"\",(VLOOKUP($H53,所属競技者データ!$F$11:$L$110,7,FALSE)))","v":""},null,48,{"$f":"IF(所属競技者データ!P58=\"\",\"\",所属競技者データ!P58&\" \"&所属競技者データ!Q58)","v":""},null,null,null,null,{"$f":"IF($X53=\"\",\"\",(VLOOKUP($X53,所属競技者データ!$N$11:$T$110,2,FALSE)))","v":""},null,null,{"$f":"IF($X53=\"\",\"\",(VLOOKUP($X53,所属競技者データ!$N$11:$T$110,3,FALSE)))","v":""},{"$f":"IF($X53=\"\",\"\",(VLOOKUP($X53,所属競技者データ!$N$11:$T$110,4,FALSE)))","v":""},{"$f":"IF(X53=\"\",\"\",所属競技者データ!$I$6)","v":""},{"$f":"IF($X53=\"\",\"\",(VLOOKUP($X53,所属競技者データ!$N$11:$T$110,5,FALSE)))","v":""},{"$f":"IF($X53=\"\",\"\",(VLOOKUP($X53,所属競技者データ!$N$11:$T$110,6)))","v":""},{"$f":"IF($X53=\"\",\"\",(VLOOKUP($X53,所属競技者データ!$N$11:$T$110,7,FALSE)))","v":""},null,null,null,null,null,null,null,null,null,null,null,null,null,null,null,null,null,null,null,null,null,"","","","","",null,"","",null,"","","","","",null,"",""]
[null,null,49,{"$f":"IF(所属競技者データ!H59=\"\",\"\",所属競技者データ!H59&\" \"&所属競技者データ!I59)","v":""},null,null,null,null,{"$f":"IF($H54=\"\",\"\",(VLOOKUP($H54,所属競技者データ!$F$11:$L$110,2,FALSE)))","v":""},null,null,{"$f":"IF($H54=\"\",\"\",(VLOOKUP($H54,所属競技者データ!$F$11:$L$110,3,FALSE)))","v":""},{"$f":"IF($H54=\"\",\"\",(VLOOKUP($H54,所属競技者データ!$F$11:$L$110,4,FALSE)))","v":""},{"$f":"IF(H54=\"\",\"\",所属競技者データ!$I$6)","v":""},{"$f":"IF($H54=\"\",\"\",(VLOOKUP($H54,所属競技者データ!$F$11:$L$110,5,FALSE)))","v":""},{"$f":"IF($H54=\"\",\"\",(VLOOKUP($H54,所属競技者データ!$F$11:$L$110,6)))","v":""},{"$f":"IF($H54=\"\",\"\",(VLOOKUP($H54,所属競技者データ!$F$11:$L$110,7,FALSE)))","v":""},null,49,{"$f":"IF(所属競技者データ!P59=\"\",\"\",所属競技者データ!P59&\" \"&所属競技者データ!Q59)","v":""},null,null,null,null,{"$f":"IF($X54=\"\",\"\",(VLOOKUP($X54,所属競技者データ!$N$11:$T$110,2,FALSE)))","v":""},null,null,{"$f":"IF($X54=\"\",\"\",(VLOOKUP($X54,所属競技者データ!$N$11:$T$110,3,FALSE)))","v":""},{"$f":"IF($X54=\"\",\"\",(VLOOKUP($X54,所属競技者データ!$N$11:$T$110,4,FALSE)))","v":""},{"$f":"IF(X54=\"\",\"\",所属競技者データ!$I$6)","v":""},{"$f":"IF($X54=\"\",\"\",(VLOOKUP($X54,所属競技者データ!$N$11:$T$110,5,FALSE)))","v":""},{"$f":"IF($X54=\"\",\"\",(VLOOKUP($X54,所属競技者データ!$N$11:$T$110,6)))","v":""},{"$f":"IF($X54=\"\",\"\",(VLOOKUP($X54,所属競技者データ!$N$11:$T$110,7,FALSE)))","v":""},null,null,null,null,null,null,null,null,null,null,null,null,null,null,null,null,null,null,null,null,null,"","","","","",null,"","",null,"","","","","",null,"",""]
[null,null,50,{"$f":"IF(所属競技者データ!H60=\"\",\"\",所属競技者データ!H60&\" \"&所属競技者データ!I60)","v":""},null,null,null,null,{"$f":"IF($H55=\"\",\"\",(VLOOKUP($H55,所属競技者データ!$F$11:$L$110,2,FALSE)))","v":""},null,null,{"$f":"IF($H55=\"\",\"\",(VLOOKUP($H55,所属競技者データ!$F$11:$L$110,3,FALSE)))","v":""},{"$f":"IF($H55=\"\",\"\",(VLOOKUP($H55,所属競技者データ!$F$11:$L$110,4,FALSE)))","v":""},{"$f":"IF(H55=\"\",\"\",所属競技者データ!$I$6)","v":""},{"$f":"IF($H55=\"\",\"\",(VLOOKUP($H55,所属競技者データ!$F$11:$L$110,5,FALSE)))","v":""},{"$f":"IF($H55=\"\",\"\",(VLOOKUP($H55,所属競技者データ!$F$11:$L$110,6)))","v":""},{"$f":"IF($H55=\"\",\"\",(VLOOKUP($H55,所属競技者データ!$F$11:$L$110,7,FALSE)))","v":""},null,50,{"$f":"IF(所属競技者データ!P60=\"\",\"\",所属競技者データ!P60&\" \"&所属競技者データ!Q60)","v":""},null,null,null,null,{"$f":"IF($X55=\"\",\"\",(VLOOKUP($X55,所属競技者データ!$N$11:$T$110,2,FALSE)))","v":""},null,null,{"$f":"IF($X55=\"\",\"\",(VLOOKUP($X55,所属競技者データ!$N$11:$T$110,3,FALSE)))","v":""},{"$f":"IF($X55=\"\",\"\",(VLOOKUP($X55,所属競技者データ!$N$11:$T$110,4,FALSE)))","v":""},{"$f":"IF(X55=\"\",\"\",所属競技者データ!$I$6)","v":""},{"$f":"IF($X55=\"\",\"\",(VLOOKUP($X55,所属競技者データ!$N$11:$T$110,5,FALSE)))","v":""},{"$f":"IF($X55=\"\",\"\",(VLOOKUP($X55,所属競技者データ!$N$11:$T$110,6)))","v":""},{"$f":"IF($X55=\"\",\"\",(VLOOKUP($X55,所属競技者データ!$N$11:$T$110,7,FALSE)))","v":""},null,null,null,null,null,null,null,null,null,null,null,null,null,null,null,null,null,null,null,null,null,"","","","","",null,"","",null,"","","","","",null,"",""]
[null,null,51,{"$f":"IF(所属競技者データ!H61=\"\",\"\",所属競技者データ!H61&\" \"&所属競技者データ!I61)","v":""},null,null,null,null,{"$f":"IF($H56=\"\",\"\",(VLOOKUP($H56,所属競技者データ!$F$11:$L$110,2,FALSE)))","v":""},null,null,{"$f":"IF($H56=\"\",\"\",(VLOOKUP($H56,所属競技者データ!$F$11:$L$110,3,FALSE)))","v":""},{"$f":"IF($H56=\"\",\"\",(VLOOKUP($H56,所属競技者データ!$F$11:$L$110,4,FALSE)))","v":""},{"$f":"IF(H56=\"\",\"\",所属競技者データ!$I$6)","v":""},{"$f":"IF($H56=\"\",\"\",(VLOOKUP($H56,所属競技者データ!$F$11:$L$110,5,FALSE)))","v":""},{"$f":"IF($H56=\"\",\"\",(VLOOKUP($H56,所属競技者データ!$F$11:$L$110,6)))","v":""},{"$f":"IF($H56=\"\",\"\",(VLOOKUP($H56,所属競技者データ!$F$11:$L$110,7,FALSE)))","v":""},null,51,{"$f":"IF(所属競技者データ!P61=\"\",\"\",所属競技者データ!P61&\" \"&所属競技者データ!Q61)","v":""},null,null,null,null,{"$f":"IF($X56=\"\",\"\",(VLOOKUP($X56,所属競技者データ!$N$11:$T$110,2,FALSE)))","v":""},null,null,{"$f":"IF($X56=\"\",\"\",(VLOOKUP($X56,所属競技者データ!$N$11:$T$110,3,FALSE)))","v":""},{"$f":"IF($X56=\"\",\"\",(VLOOKUP($X56,所属競技者データ!$N$11:$T$110,4,FALSE)))","v":""},{"$f":"IF(X56=\"\",\"\",所属競技者データ!$I$6)","v":""},{"$f":"IF($X56=\"\",\"\",(VLOOKUP($X56,所属競技者データ!$N$11:$T$110,5,FALSE)))","v":""},{"$f":"IF($X56=\"\",\"\",(VLOOKUP($X56,所属競技者データ!$N$11:$T$110,6)))","v":""},{"$f":"IF($X56=\"\",\"\",(VLOOKUP($X56,所属競技者データ!$N$11:$T$110,7,FALSE)))","v":""},null,null,null,null,null,null,null,null,null,null,null,null,null,null,null,null,null,null,null,null,null,"","","","","",null,"","",null,"","","","","",null,"",""]
[null,null,52,{"$f":"IF(所属競技者データ!H62=\"\",\"\",所属競技者データ!H62&\" \"&所属競技者データ!I62)","v":""},null,null,null,null,{"$f":"IF($H57=\"\",\"\",(VLOOKUP($H57,所属競技者データ!$F$11:$L$110,2,FALSE)))","v":""},null,null,{"$f":"IF($H57=\"\",\"\",(VLOOKUP($H57,所属競技者データ!$F$11:$L$110,3,FALSE)))","v":""},{"$f":"IF($H57=\"\",\"\",(VLOOKUP($H57,所属競技者データ!$F$11:$L$110,4,FALSE)))","v":""},{"$f":"IF(H57=\"\",\"\",所属競技者データ!$I$6)","v":""},{"$f":"IF($H57=\"\",\"\",(VLOOKUP($H57,所属競技者データ!$F$11:$L$110,5,FALSE)))","v":""},{"$f":"IF($H57=\"\",\"\",(VLOOKUP($H57,所属競技者データ!$F$11:$L$110,6)))","v":""},{"$f":"IF($H57=\"\",\"\",(VLOOKUP($H57,所属競技者データ!$F$11:$L$110,7,FALSE)))","v":""},null,52,{"$f":"IF(所属競技者データ!P62=\"\",\"\",所属競技者データ!P62&\" \"&所属競技者データ!Q62)","v":""},null,null,null,null,{"$f":"IF($X57=\"\",\"\",(VLOOKUP($X57,所属競技者データ!$N$11:$T$110,2,FALSE)))","v":""},null,null,{"$f":"IF($X57=\"\",\"\",(VLOOKUP($X57,所属競技者データ!$N$11:$T$110,3,FALSE)))","v":""},{"$f":"IF($X57=\"\",\"\",(VLOOKUP($X57,所属競技者データ!$N$11:$T$110,4,FALSE)))","v":""},{"$f":"IF(X57=\"\",\"\",所属競技者データ!$I$6)","v":""},{"$f":"IF($X57=\"\",\"\",(VLOOKUP($X57,所属競技者データ!$N$11:$T$110,5,FALSE)))","v":""},{"$f":"IF($X57=\"\",\"\",(VLOOKUP($X57,所属競技者データ!$N$11:$T$110,6)))","v":""},{"$f":"IF($X57=\"\",\"\",(VLOOKUP($X57,所属競技者データ!$N$11:$T$110,7,FALSE)))","v":""},null,null,null,null,null,null,null,null,null,null,null,null,null,null,null,null,null,null,null,null,null,"","","","","",null,"","",null,"","","","","",null,"",""]
[null,null,53,{"$f":"IF(所属競技者データ!H63=\"\",\"\",所属競技者データ!H63&\" \"&所属競技者データ!I63)","v":""},null,null,null,null,{"$f":"IF($H58=\"\",\"\",(VLOOKUP($H58,所属競技者データ!$F$11:$L$110,2,FALSE)))","v":""},null,null,{"$f":"IF($H58=\"\",\"\",(VLOOKUP($H58,所属競技者データ!$F$11:$L$110,3,FALSE)))","v":""},{"$f":"IF($H58=\"\",\"\",(VLOOKUP($H58,所属競技者データ!$F$11:$L$110,4,FALSE)))","v":""},{"$f":"IF(H58=\"\",\"\",所属競技者データ!$I$6)","v":""},{"$f":"IF($H58=\"\",\"\",(VLOOKUP($H58,所属競技者データ!$F$11:$L$110,5,FALSE)))","v":""},{"$f":"IF($H58=\"\",\"\",(VLOOKUP($H58,所属競技者データ!$F$11:$L$110,6)))","v":""},{"$f":"IF($H58=\"\",\"\",(VLOOKUP($H58,所属競技者データ!$F$11:$L$110,7,FALSE)))","v":""},null,53,{"$f":"IF(所属競技者データ!P63=\"\",\"\",所属競技者データ!P63&\" \"&所属競技者データ!Q63)","v":""},null,null,null,null,{"$f":"IF($X58=\"\",\"\",(VLOOKUP($X58,所属競技者データ!$N$11:$T$110,2,FALSE)))","v":""},null,null,{"$f":"IF($X58=\"\",\"\",(VLOOKUP($X58,所属競技者データ!$N$11:$T$110,3,FALSE)))","v":""},{"$f":"IF($X58=\"\",\"\",(VLOOKUP($X58,所属競技者データ!$N$11:$T$110,4,FALSE)))","v":""},{"$f":"IF(X58=\"\",\"\",所属競技者データ!$I$6)","v":""},{"$f":"IF($X58=\"\",\"\",(VLOOKUP($X58,所属競技者データ!$N$11:$T$110,5,FALSE)))","v":""},{"$f":"IF($X58=\"\",\"\",(VLOOKUP($X58,所属競技者データ!$N$11:$T$110,6)))","v":""},{"$f":"IF($X58=\"\",\"\",(VLOOKUP($X58,所属競技者データ!$N$11:$T$110,7,FALSE)))","v":""},null,null,null,null,null,null,null,null,null,null,null,null,null,null,null,null,null,null,null,null,null,"","","","","",null,"","",null,"","","","","",null,"",""]
[null,null,54,{"$f":"IF(所属競技者データ!H64=\"\",\"\",所属競技者データ!H64&\" \"&所属競技者データ!I64)","v":""},null,null,null,null,{"$f":"IF($H59=\"\",\"\",(VLOOKUP($H59,所属競技者データ!$F$11:$L$110,2,FALSE)))","v":""},null,null,{"$f":"IF($H59=\"\",\"\",(VLOOKUP($H59,所属競技者データ!$F$11:$L$110,3,FALSE)))","v":""},{"$f":"IF($H59=\"\",\"\",(VLOOKUP($H59,所属競技者データ!$F$11:$L$110,4,FALSE)))","v":""},{"$f":"IF(H59=\"\",\"\",所属競技者データ!$I$6)","v":""},{"$f":"IF($H59=\"\",\"\",(VLOOKUP($H59,所属競技者データ!$F$11:$L$110,5,FALSE)))","v":""},{"$f":"IF($H59=\"\",\"\",(VLOOKUP($H59,所属競技者データ!$F$11:$L$110,6)))","v":""},{"$f":"IF($H59=\"\",\"\",(VLOOKUP($H59,所属競技者データ!$F$11:$L$110,7,FALSE)))","v":""},null,54,{"$f":"IF(所属競技者データ!P64=\"\",\"\",所属競技者データ!P64&\" \"&所属競技者データ!Q64)","v":""},null,null,null,null,{"$f":"IF($X59=\"\",\"\",(VLOOKUP($X59,所属競技者データ!$N$11:$T$110,2,FALSE)))","v":""},null,null,{"$f":"IF($X59=\"\",\"\",(VLOOKUP($X59,所属競技者データ!$N$11:$T$110,3,FALSE)))","v":""},{"$f":"IF($X59=\"\",\"\",(VLOOKUP($X59,所属競技者データ!$N$11:$T$110,4,FALSE)))","v":""},{"$f":"IF(X59=\"\",\"\",所属競技者データ!$I$6)","v":""},{"$f":"IF($X59=\"\",\"\",(VLOOKUP($X59,所属競技者データ!$N$11:$T$110,5,FALSE)))","v":""},{"$f":"IF($X59=\"\",\"\",(VLOOKUP($X59,所属競技者データ!$N$11:$T$110,6)))","v":""},{"$f":"IF($X59=\"\",\"\",(VLOOKUP($X59,所属競技者データ!$N$11:$T$110,7,FALSE)))","v":""},null,null,null,null,null,null,null,null,null,null,null,null,null,null,null,null,null,null,null,null,null,"","","","","",null,"","",null,"","","","","",null,"",""]
[null,null,55,{"$f":"IF(所属競技者データ!H65=\"\",\"\",所属競技者データ!H65&\" \"&所属競技者データ!I65)","v":""},null,null,null,null,{"$f":"IF($H60=\"\",\"\",(VLOOKUP($H60,所属競技者データ!$F$11:$L$110,2,FALSE)))","v":""},null,null,{"$f":"IF($H60=\"\",\"\",(VLOOKUP($H60,所属競技者データ!$F$11:$L$110,3,FALSE)))","v":""},{"$f":"IF($H60=\"\",\"\",(VLOOKUP($H60,所属競技者データ!$F$11:$L$110,4,FALSE)))","v":""},{"$f":"IF(H60=\"\",\"\",所属競技者データ!$I$6)","v":""},{"$f":"IF($H60=\"\",\"\",(VLOOKUP($H60,所属競技者データ!$F$11:$L$110,5,FALSE)))","v":""},{"$f":"IF($H60=\"\",\"\",(VLOOKUP($H60,所属競技者データ!$F$11:$L$110,6)))","v":""},{"$f":"IF($H60=\"\",\"\",(VLOOKUP($H60,所属競技者データ!$F$11:$L$110,7,FALSE)))","v":""},null,55,{"$f":"IF(所属競技者データ!P65=\"\",\"\",所属競技者データ!P65&\" \"&所属競技者データ!Q65)","v":""},null,null,null,null,{"$f":"IF($X60=\"\",\"\",(VLOOKUP($X60,所属競技者データ!$N$11:$T$110,2,FALSE)))","v":""},null,null,{"$f":"IF($X60=\"\",\"\",(VLOOKUP($X60,所属競技者データ!$N$11:$T$110,3,FALSE)))","v":""},{"$f":"IF($X60=\"\",\"\",(VLOOKUP($X60,所属競技者データ!$N$11:$T$110,4,FALSE)))","v":""},{"$f":"IF(X60=\"\",\"\",所属競技者データ!$I$6)","v":""},{"$f":"IF($X60=\"\",\"\",(VLOOKUP($X60,所属競技者データ!$N$11:$T$110,5,FALSE)))","v":""},{"$f":"IF($X60=\"\",\"\",(VLOOKUP($X60,所属競技者データ!$N$11:$T$110,6)))","v":""},{"$f":"IF($X60=\"\",\"\",(VLOOKUP($X60,所属競技者データ!$N$11:$T$110,7,FALSE)))","v":""},null,null,null,null,null,null,null,null,null,null,null,null,null,null,null,null,null,null,null,null,null,"","","","","",null,"","",null,"","","","","",null,"",""]
[null,null,56,{"$f":"IF(所属競技者データ!H66=\"\",\"\",所属競技者データ!H66&\" \"&所属競技者データ!I66)","v":""},null,null,null,null,{"$f":"IF($H61=\"\",\"\",(VLOOKUP($H61,所属競技者データ!$F$11:$L$110,2,FALSE)))","v":""},null,null,{"$f":"IF($H61=\"\",\"\",(VLOOKUP($H61,所属競技者データ!$F$11:$L$110,3,FALSE)))","v":""},{"$f":"IF($H61=\"\",\"\",(VLOOKUP($H61,所属競技者データ!$F$11:$L$110,4,FALSE)))","v":""},{"$f":"IF(H61=\"\",\"\",所属競技者データ!$I$6)","v":""},{"$f":"IF($H61=\"\",\"\",(VLOOKUP($H61,所属競技者データ!$F$11:$L$110,5,FALSE)))","v":""},{"$f":"IF($H61=\"\",\"\",(VLOOKUP($H61,所属競技者データ!$F$11:$L$110,6)))","v":""},{"$f":"IF($H61=\"\",\"\",(VLOOKUP($H61,所属競技者データ!$F$11:$L$110,7,FALSE)))","v":""},null,56,{"$f":"IF(所属競技者データ!P66=\"\",\"\",所属競技者データ!P66&\" \"&所属競技者データ!Q66)","v":""},null,null,null,null,{"$f":"IF($X61=\"\",\"\",(VLOOKUP($X61,所属競技者データ!$N$11:$T$110,2,FALSE)))","v":""},null,null,{"$f":"IF($X61=\"\",\"\",(VLOOKUP($X61,所属競技者データ!$N$11:$T$110,3,FALSE)))","v":""},{"$f":"IF($X61=\"\",\"\",(VLOOKUP($X61,所属競技者データ!$N$11:$T$110,4,FALSE)))","v":""},{"$f":"IF(X61=\"\",\"\",所属競技者データ!$I$6)","v":""},{"$f":"IF($X61=\"\",\"\",(VLOOKUP($X61,所属競技者データ!$N$11:$T$110,5,FALSE)))","v":""},{"$f":"IF($X61=\"\",\"\",(VLOOKUP($X61,所属競技者データ!$N$11:$T$110,6)))","v":""},{"$f":"IF($X61=\"\",\"\",(VLOOKUP($X61,所属競技者データ!$N$11:$T$110,7,FALSE)))","v":""},null,null,null,null,null,null,null,null,null,null,null,null,null,null,null,null,null,null,null,null,null,"","","","","",null,"","",null,"","","","","",null,"",""]
[null,null,57,{"$f":"IF(所属競技者データ!H67=\"\",\"\",所属競技者データ!H67&\" \"&所属競技者データ!I67)","v":""},null,null,null,null,{"$f":"IF($H62=\"\",\"\",(VLOOKUP($H62,所属競技者データ!$F$11:$L$110,2,FALSE)))","v":""},null,null,{"$f":"IF($H62=\"\",\"\",(VLOOKUP($H62,所属競技者データ!$F$11:$L$110,3,FALSE)))","v":""},{"$f":"IF($H62=\"\",\"\",(VLOOKUP($H62,所属競技者データ!$F$11:$L$110,4,FALSE)))","v":""},{"$f":"IF(H62=\"\",\"\",所属競技者データ!$I$6)","v":""},{"$f":"IF($H62=\"\",\"\",(VLOOKUP($H62,所属競技者データ!$F$11:$L$110,5,FALSE)))","v":""},{"$f":"IF($H62=\"\",\"\",(VLOOKUP($H62,所属競技者データ!$F$11:$L$110,6)))","v":""},{"$f":"IF($H62=\"\",\"\",(VLOOKUP($H62,所属競技者データ!$F$11:$L$110,7,FALSE)))","v":""},null,57,{"$f":"IF(所属競技者データ!P67=\"\",\"\",所属競技者データ!P67&\" \"&所属競技者データ!Q67)","v":""},null,null,null,null,{"$f":"IF($X62=\"\",\"\",(VLOOKUP($X62,所属競技者データ!$N$11:$T$110,2,FALSE)))","v":""},null,null,{"$f":"IF($X62=\"\",\"\",(VLOOKUP($X62,所属競技者データ!$N$11:$T$110,3,FALSE)))","v":""},{"$f":"IF($X62=\"\",\"\",(VLOOKUP($X62,所属競技者データ!$N$11:$T$110,4,FALSE)))","v":""},{"$f":"IF(X62=\"\",\"\",所属競技者データ!$I$6)","v":""},{"$f":"IF($X62=\"\",\"\",(VLOOKUP($X62,所属競技者データ!$N$11:$T$110,5,FALSE)))","v":""},{"$f":"IF($X62=\"\",\"\",(VLOOKUP($X62,所属競技者データ!$N$11:$T$110,6)))","v":""},{"$f":"IF($X62=\"\",\"\",(VLOOKUP($X62,所属競技者データ!$N$11:$T$110,7,FALSE)))","v":""},null,null,null,null,null,null,null,null,null,null,null,null,null,null,null,null,null,null,null,null,null,"","","","","",null,"","",null,"","","","","",null,"",""]
[null,null,58,{"$f":"IF(所属競技者データ!H68=\"\",\"\",所属競技者データ!H68&\" \"&所属競技者データ!I68)","v":""},null,null,null,null,{"$f":"IF($H63=\"\",\"\",(VLOOKUP($H63,所属競技者データ!$F$11:$L$110,2,FALSE)))","v":""},null,null,{"$f":"IF($H63=\"\",\"\",(VLOOKUP($H63,所属競技者データ!$F$11:$L$110,3,FALSE)))","v":""},{"$f":"IF($H63=\"\",\"\",(VLOOKUP($H63,所属競技者データ!$F$11:$L$110,4,FALSE)))","v":""},{"$f":"IF(H63=\"\",\"\",所属競技者データ!$I$6)","v":""},{"$f":"IF($H63=\"\",\"\",(VLOOKUP($H63,所属競技者データ!$F$11:$L$110,5,FALSE)))","v":""},{"$f":"IF($H63=\"\",\"\",(VLOOKUP($H63,所属競技者データ!$F$11:$L$110,6)))","v":""},{"$f":"IF($H63=\"\",\"\",(VLOOKUP($H63,所属競技者データ!$F$11:$L$110,7,FALSE)))","v":""},null,58,{"$f":"IF(所属競技者データ!P68=\"\",\"\",所属競技者データ!P68&\" \"&所属競技者データ!Q68)","v":""},null,null,null,null,{"$f":"IF($X63=\"\",\"\",(VLOOKUP($X63,所属競技者データ!$N$11:$T$110,2,FALSE)))","v":""},null,null,{"$f":"IF($X63=\"\",\"\",(VLOOKUP($X63,所属競技者データ!$N$11:$T$110,3,FALSE)))","v":""},{"$f":"IF($X63=\"\",\"\",(VLOOKUP($X63,所属競技者データ!$N$11:$T$110,4,FALSE)))","v":""},{"$f":"IF(X63=\"\",\"\",所属競技者データ!$I$6)","v":""},{"$f":"IF($X63=\"\",\"\",(VLOOKUP($X63,所属競技者データ!$N$11:$T$110,5,FALSE)))","v":""},{"$f":"IF($X63=\"\",\"\",(VLOOKUP($X63,所属競技者データ!$N$11:$T$110,6)))","v":""},{"$f":"IF($X63=\"\",\"\",(VLOOKUP($X63,所属競技者データ!$N$11:$T$110,7,FALSE)))","v":""},null,null,null,null,null,null,null,null,null,null,null,null,null,null,null,null,null,null,null,null,null,"","","","","",null,"","",null,"","","","","",null,"",""]
[null,null,59,{"$f":"IF(所属競技者データ!H69=\"\",\"\",所属競技者データ!H69&\" \"&所属競技者データ!I69)","v":""},null,null,null,null,{"$f":"IF($H64=\"\",\"\",(VLOOKUP($H64,所属競技者データ!$F$11:$L$110,2,FALSE)))","v":""},null,null,{"$f":"IF($H64=\"\",\"\",(VLOOKUP($H64,所属競技者データ!$F$11:$L$110,3,FALSE)))","v":""},{"$f":"IF($H64=\"\",\"\",(VLOOKUP($H64,所属競技者データ!$F$11:$L$110,4,FALSE)))","v":""},{"$f":"IF(H64=\"\",\"\",所属競技者データ!$I$6)","v":""},{"$f":"IF($H64=\"\",\"\",(VLOOKUP($H64,所属競技者データ!$F$11:$L$110,5,FALSE)))","v":""},{"$f":"IF($H64=\"\",\"\",(VLOOKUP($H64,所属競技者データ!$F$11:$L$110,6)))","v":""},{"$f":"IF($H64=\"\",\"\",(VLOOKUP($H64,所属競技者データ!$F$11:$L$110,7,FALSE)))","v":""},null,59,{"$f":"IF(所属競技者データ!P69=\"\",\"\",所属競技者データ!P69&\" \"&所属競技者データ!Q69)","v":""},null,null,null,null,{"$f":"IF($X64=\"\",\"\",(VLOOKUP($X64,所属競技者データ!$N$11:$T$110,2,FALSE)))","v":""},null,null,{"$f":"IF($X64=\"\",\"\",(VLOOKUP($X64,所属競技者データ!$N$11:$T$110,3,FALSE)))","v":""},{"$f":"IF($X64=\"\",\"\",(VLOOKUP($X64,所属競技者データ!$N$11:$T$110,4,FALSE)))","v":""},{"$f":"IF(X64=\"\",\"\",所属競技者データ!$I$6)","v":""},{"$f":"IF($X64=\"\",\"\",(VLOOKUP($X64,所属競技者データ!$N$11:$T$110,5,FALSE)))","v":""},{"$f":"IF($X64=\"\",\"\",(VLOOKUP($X64,所属競技者データ!$N$11:$T$110,6)))","v":""},{"$f":"IF($X64=\"\",\"\",(VLOOKUP($X64,所属競技者データ!$N$11:$T$110,7,FALSE)))","v":""},null,null,null,null,null,null,null,null,null,null,null,null,null,null,null,null,null,null,null,null,null,"","","","","",null,"","",null,"","","","","",null,"",""]
[null,null,60,{"$f":"IF(所属競技者データ!H70=\"\",\"\",所属競技者データ!H70&\" \"&所属競技者データ!I70)","v":""},null,null,null,null,{"$f":"IF($H65=\"\",\"\",(VLOOKUP($H65,所属競技者データ!$F$11:$L$110,2,FALSE)))","v":""},null,null,{"$f":"IF($H65=\"\",\"\",(VLOOKUP($H65,所属競技者データ!$F$11:$L$110,3,FALSE)))","v":""},{"$f":"IF($H65=\"\",\"\",(VLOOKUP($H65,所属競技者データ!$F$11:$L$110,4,FALSE)))","v":""},{"$f":"IF(H65=\"\",\"\",所属競技者データ!$I$6)","v":""},{"$f":"IF($H65=\"\",\"\",(VLOOKUP($H65,所属競技者データ!$F$11:$L$110,5,FALSE)))","v":""},{"$f":"IF($H65=\"\",\"\",(VLOOKUP($H65,所属競技者データ!$F$11:$L$110,6)))","v":""},{"$f":"IF($H65=\"\",\"\",(VLOOKUP($H65,所属競技者データ!$F$11:$L$110,7,FALSE)))","v":""},null,60,{"$f":"IF(所属競技者データ!P70=\"\",\"\",所属競技者データ!P70&\" \"&所属競技者データ!Q70)","v":""},null,null,null,null,{"$f":"IF($X65=\"\",\"\",(VLOOKUP($X65,所属競技者データ!$N$11:$T$110,2,FALSE)))","v":""},null,null,{"$f":"IF($X65=\"\",\"\",(VLOOKUP($X65,所属競技者データ!$N$11:$T$110,3,FALSE)))","v":""},{"$f":"IF($X65=\"\",\"\",(VLOOKUP($X65,所属競技者データ!$N$11:$T$110,4,FALSE)))","v":""},{"$f":"IF(X65=\"\",\"\",所属競技者データ!$I$6)","v":""},{"$f":"IF($X65=\"\",\"\",(VLOOKUP($X65,所属競技者データ!$N$11:$T$110,5,FALSE)))","v":""},{"$f":"IF($X65=\"\",\"\",(VLOOKUP($X65,所属競技者データ!$N$11:$T$110,6)))","v":""},{"$f":"IF($X65=\"\",\"\",(VLOOKUP($X65,所属競技者データ!$N$11:$T$110,7,FALSE)))","v":""},null,null,null,null,null,null,null,null,null,null,null,null,null,null,null,null,null,null,null,null,null,"","","","","",null,"","",null,"","","","","",null,"",""]
[null,null,61,{"$f":"IF(所属競技者データ!H71=\"\",\"\",所属競技者データ!H71&\" \"&所属競技者データ!I71)","v":""},null,null,null,null,{"$f":"IF($H66=\"\",\"\",(VLOOKUP($H66,所属競技者データ!$F$11:$L$110,2,FALSE)))","v":""},null,null,{"$f":"IF($H66=\"\",\"\",(VLOOKUP($H66,所属競技者データ!$F$11:$L$110,3,FALSE)))","v":""},{"$f":"IF($H66=\"\",\"\",(VLOOKUP($H66,所属競技者データ!$F$11:$L$110,4,FALSE)))","v":""},{"$f":"IF(H66=\"\",\"\",所属競技者データ!$I$6)","v":""},{"$f":"IF($H66=\"\",\"\",(VLOOKUP($H66,所属競技者データ!$F$11:$L$110,5,FALSE)))","v":""},{"$f":"IF($H66=\"\",\"\",(VLOOKUP($H66,所属競技者データ!$F$11:$L$110,6)))","v":""},{"$f":"IF($H66=\"\",\"\",(VLOOKUP($H66,所属競技者データ!$F$11:$L$110,7,FALSE)))","v":""},null,61,{"$f":"IF(所属競技者データ!P71=\"\",\"\",所属競技者データ!P71&\" \"&所属競技者データ!Q71)","v":""},null,null,null,null,{"$f":"IF($X66=\"\",\"\",(VLOOKUP($X66,所属競技者データ!$N$11:$T$110,2,FALSE)))","v":""},null,null,{"$f":"IF($X66=\"\",\"\",(VLOOKUP($X66,所属競技者データ!$N$11:$T$110,3,FALSE)))","v":""},{"$f":"IF($X66=\"\",\"\",(VLOOKUP($X66,所属競技者データ!$N$11:$T$110,4,FALSE)))","v":""},{"$f":"IF(X66=\"\",\"\",所属競技者データ!$I$6)","v":""},{"$f":"IF($X66=\"\",\"\",(VLOOKUP($X66,所属競技者データ!$N$11:$T$110,5,FALSE)))","v":""},{"$f":"IF($X66=\"\",\"\",(VLOOKUP($X66,所属競技者データ!$N$11:$T$110,6)))","v":""},{"$f":"IF($X66=\"\",\"\",(VLOOKUP($X66,所属競技者データ!$N$11:$T$110,7,FALSE)))","v":""},null,null,null,null,null,null,null,null,null,null,null,null,null,null,null,null,null,null,null,null,null,"","","","","",null,"","",null,"","","","","",null,"",""]
[null,null,62,{"$f":"IF(所属競技者データ!H72=\"\",\"\",所属競技者データ!H72&\" \"&所属競技者データ!I72)","v":""},null,null,null,null,{"$f":"IF($H67=\"\",\"\",(VLOOKUP($H67,所属競技者データ!$F$11:$L$110,2,FALSE)))","v":""},null,null,{"$f":"IF($H67=\"\",\"\",(VLOOKUP($H67,所属競技者データ!$F$11:$L$110,3,FALSE)))","v":""},{"$f":"IF($H67=\"\",\"\",(VLOOKUP($H67,所属競技者データ!$F$11:$L$110,4,FALSE)))","v":""},{"$f":"IF(H67=\"\",\"\",所属競技者データ!$I$6)","v":""},{"$f":"IF($H67=\"\",\"\",(VLOOKUP($H67,所属競技者データ!$F$11:$L$110,5,FALSE)))","v":""},{"$f":"IF($H67=\"\",\"\",(VLOOKUP($H67,所属競技者データ!$F$11:$L$110,6)))","v":""},{"$f":"IF($H67=\"\",\"\",(VLOOKUP($H67,所属競技者データ!$F$11:$L$110,7,FALSE)))","v":""},null,62,{"$f":"IF(所属競技者データ!P72=\"\",\"\",所属競技者データ!P72&\" \"&所属競技者データ!Q72)","v":""},null,null,null,null,{"$f":"IF($X67=\"\",\"\",(VLOOKUP($X67,所属競技者データ!$N$11:$T$110,2,FALSE)))","v":""},null,null,{"$f":"IF($X67=\"\",\"\",(VLOOKUP($X67,所属競技者データ!$N$11:$T$110,3,FALSE)))","v":""},{"$f":"IF($X67=\"\",\"\",(VLOOKUP($X67,所属競技者データ!$N$11:$T$110,4,FALSE)))","v":""},{"$f":"IF(X67=\"\",\"\",所属競技者データ!$I$6)","v":""},{"$f":"IF($X67=\"\",\"\",(VLOOKUP($X67,所属競技者データ!$N$11:$T$110,5,FALSE)))","v":""},{"$f":"IF($X67=\"\",\"\",(VLOOKUP($X67,所属競技者データ!$N$11:$T$110,6)))","v":""},{"$f":"IF($X67=\"\",\"\",(VLOOKUP($X67,所属競技者データ!$N$11:$T$110,7,FALSE)))","v":""},null,null,null,null,null,null,null,null,null,null,null,null,null,null,null,null,null,null,null,null,null,"","","","","",null,"","",null,"","","","","",null,"",""]
[null,null,63,{"$f":"IF(所属競技者データ!H73=\"\",\"\",所属競技者データ!H73&\" \"&所属競技者データ!I73)","v":""},null,null,null,null,{"$f":"IF($H68=\"\",\"\",(VLOOKUP($H68,所属競技者データ!$F$11:$L$110,2,FALSE)))","v":""},null,null,{"$f":"IF($H68=\"\",\"\",(VLOOKUP($H68,所属競技者データ!$F$11:$L$110,3,FALSE)))","v":""},{"$f":"IF($H68=\"\",\"\",(VLOOKUP($H68,所属競技者データ!$F$11:$L$110,4,FALSE)))","v":""},{"$f":"IF(H68=\"\",\"\",所属競技者データ!$I$6)","v":""},{"$f":"IF($H68=\"\",\"\",(VLOOKUP($H68,所属競技者データ!$F$11:$L$110,5,FALSE)))","v":""},{"$f":"IF($H68=\"\",\"\",(VLOOKUP($H68,所属競技者データ!$F$11:$L$110,6)))","v":""},{"$f":"IF($H68=\"\",\"\",(VLOOKUP($H68,所属競技者データ!$F$11:$L$110,7,FALSE)))","v":""},null,63,{"$f":"IF(所属競技者データ!P73=\"\",\"\",所属競技者データ!P73&\" \"&所属競技者データ!Q73)","v":""},null,null,null,null,{"$f":"IF($X68=\"\",\"\",(VLOOKUP($X68,所属競技者データ!$N$11:$T$110,2,FALSE)))","v":""},null,null,{"$f":"IF($X68=\"\",\"\",(VLOOKUP($X68,所属競技者データ!$N$11:$T$110,3,FALSE)))","v":""},{"$f":"IF($X68=\"\",\"\",(VLOOKUP($X68,所属競技者データ!$N$11:$T$110,4,FALSE)))","v":""},{"$f":"IF(X68=\"\",\"\",所属競技者データ!$I$6)","v":""},{"$f":"IF($X68=\"\",\"\",(VLOOKUP($X68,所属競技者データ!$N$11:$T$110,5,FALSE)))","v":""},{"$f":"IF($X68=\"\",\"\",(VLOOKUP($X68,所属競技者データ!$N$11:$T$110,6)))","v":""},{"$f":"IF($X68=\"\",\"\",(VLOOKUP($X68,所属競技者データ!$N$11:$T$110,7,FALSE)))","v":""},null,null,null,null,null,null,null,null,null,null,null,null,null,null,null,null,null,null,null,null,null,"","","","","",null,"","",null,"","","","","",null,"",""]
[null,null,64,{"$f":"IF(所属競技者データ!H74=\"\",\"\",所属競技者データ!H74&\" \"&所属競技者データ!I74)","v":""},null,null,null,null,{"$f":"IF($H69=\"\",\"\",(VLOOKUP($H69,所属競技者データ!$F$11:$L$110,2,FALSE)))","v":""},null,null,{"$f":"IF($H69=\"\",\"\",(VLOOKUP($H69,所属競技者データ!$F$11:$L$110,3,FALSE)))","v":""},{"$f":"IF($H69=\"\",\"\",(VLOOKUP($H69,所属競技者データ!$F$11:$L$110,4,FALSE)))","v":""},{"$f":"IF(H69=\"\",\"\",所属競技者データ!$I$6)","v":""},{"$f":"IF($H69=\"\",\"\",(VLOOKUP($H69,所属競技者データ!$F$11:$L$110,5,FALSE)))","v":""},{"$f":"IF($H69=\"\",\"\",(VLOOKUP($H69,所属競技者データ!$F$11:$L$110,6)))","v":""},{"$f":"IF($H69=\"\",\"\",(VLOOKUP($H69,所属競技者データ!$F$11:$L$110,7,FALSE)))","v":""},null,64,{"$f":"IF(所属競技者データ!P74=\"\",\"\",所属競技者データ!P74&\" \"&所属競技者データ!Q74)","v":""},null,null,null,null,{"$f":"IF($X69=\"\",\"\",(VLOOKUP($X69,所属競技者データ!$N$11:$T$110,2,FALSE)))","v":""},null,null,{"$f":"IF($X69=\"\",\"\",(VLOOKUP($X69,所属競技者データ!$N$11:$T$110,3,FALSE)))","v":""},{"$f":"IF($X69=\"\",\"\",(VLOOKUP($X69,所属競技者データ!$N$11:$T$110,4,FALSE)))","v":""},{"$f":"IF(X69=\"\",\"\",所属競技者データ!$I$6)","v":""},{"$f":"IF($X69=\"\",\"\",(VLOOKUP($X69,所属競技者データ!$N$11:$T$110,5,FALSE)))","v":""},{"$f":"IF($X69=\"\",\"\",(VLOOKUP($X69,所属競技者データ!$N$11:$T$110,6)))","v":""},{"$f":"IF($X69=\"\",\"\",(VLOOKUP($X69,所属競技者データ!$N$11:$T$110,7,FALSE)))","v":""},null,null,null,null,null,null,null,null,null,null,null,null,null,null,null,null,null,null,null,null,null,"","","","","",null,"","",null,"","","","","",null,"",""]
[null,null,65,{"$f":"IF(所属競技者データ!H75=\"\",\"\",所属競技者データ!H75&\" \"&所属競技者データ!I75)","v":""},null,null,null,null,{"$f":"IF($H70=\"\",\"\",(VLOOKUP($H70,所属競技者データ!$F$11:$L$110,2,FALSE)))","v":""},null,null,{"$f":"IF($H70=\"\",\"\",(VLOOKUP($H70,所属競技者データ!$F$11:$L$110,3,FALSE)))","v":""},{"$f":"IF($H70=\"\",\"\",(VLOOKUP($H70,所属競技者データ!$F$11:$L$110,4,FALSE)))","v":""},{"$f":"IF(H70=\"\",\"\",所属競技者データ!$I$6)","v":""},{"$f":"IF($H70=\"\",\"\",(VLOOKUP($H70,所属競技者データ!$F$11:$L$110,5,FALSE)))","v":""},{"$f":"IF($H70=\"\",\"\",(VLOOKUP($H70,所属競技者データ!$F$11:$L$110,6)))","v":""},{"$f":"IF($H70=\"\",\"\",(VLOOKUP($H70,所属競技者データ!$F$11:$L$110,7,FALSE)))","v":""},null,65,{"$f":"IF(所属競技者データ!P75=\"\",\"\",所属競技者データ!P75&\" \"&所属競技者データ!Q75)","v":""},null,null,null,null,{"$f":"IF($X70=\"\",\"\",(VLOOKUP($X70,所属競技者データ!$N$11:$T$110,2,FALSE)))","v":""},null,null,{"$f":"IF($X70=\"\",\"\",(VLOOKUP($X70,所属競技者データ!$N$11:$T$110,3,FALSE)))","v":""},{"$f":"IF($X70=\"\",\"\",(VLOOKUP($X70,所属競技者データ!$N$11:$T$110,4,FALSE)))","v":""},{"$f":"IF(X70=\"\",\"\",所属競技者データ!$I$6)","v":""},{"$f":"IF($X70=\"\",\"\",(VLOOKUP($X70,所属競技者データ!$N$11:$T$110,5,FALSE)))","v":""},{"$f":"IF($X70=\"\",\"\",(VLOOKUP($X70,所属競技者データ!$N$11:$T$110,6)))","v":""},{"$f":"IF($X70=\"\",\"\",(VLOOKUP($X70,所属競技者データ!$N$11:$T$110,7,FALSE)))","v":""},null,null,null,null,null,null,null,null,null,null,null,null,null,null,null,null,null,null,null,null,null,"","","","","",null,"","",null,"","","","","",null,"",""]
[null,null,66,{"$f":"IF(所属競技者データ!H76=\"\",\"\",所属競技者データ!H76&\" \"&所属競技者データ!I76)","v":""},null,null,null,null,{"$f":"IF($H71=\"\",\"\",(VLOOKUP($H71,所属競技者データ!$F$11:$L$110,2,FALSE)))","v":""},null,null,{"$f":"IF($H71=\"\",\"\",(VLOOKUP($H71,所属競技者データ!$F$11:$L$110,3,FALSE)))","v":""},{"$f":"IF($H71=\"\",\"\",(VLOOKUP($H71,所属競技者データ!$F$11:$L$110,4,FALSE)))","v":""},{"$f":"IF(H71=\"\",\"\",所属競技者データ!$I$6)","v":""},{"$f":"IF($H71=\"\",\"\",(VLOOKUP($H71,所属競技者データ!$F$11:$L$110,5,FALSE)))","v":""},{"$f":"IF($H71=\"\",\"\",(VLOOKUP($H71,所属競技者データ!$F$11:$L$110,6)))","v":""},{"$f":"IF($H71=\"\",\"\",(VLOOKUP($H71,所属競技者データ!$F$11:$L$110,7,FALSE)))","v":""},null,66,{"$f":"IF(所属競技者データ!P76=\"\",\"\",所属競技者データ!P76&\" \"&所属競技者データ!Q76)","v":""},null,null,null,null,{"$f":"IF($X71=\"\",\"\",(VLOOKUP($X71,所属競技者データ!$N$11:$T$110,2,FALSE)))","v":""},null,null,{"$f":"IF($X71=\"\",\"\",(VLOOKUP($X71,所属競技者データ!$N$11:$T$110,3,FALSE)))","v":""},{"$f":"IF($X71=\"\",\"\",(VLOOKUP($X71,所属競技者データ!$N$11:$T$110,4,FALSE)))","v":""},{"$f":"IF(X71=\"\",\"\",所属競技者データ!$I$6)","v":""},{"$f":"IF($X71=\"\",\"\",(VLOOKUP($X71,所属競技者データ!$N$11:$T$110,5,FALSE)))","v":""},{"$f":"IF($X71=\"\",\"\",(VLOOKUP($X71,所属競技者データ!$N$11:$T$110,6)))","v":""},{"$f":"IF($X71=\"\",\"\",(VLOOKUP($X71,所属競技者データ!$N$11:$T$110,7,FALSE)))","v":""},null,null,null,null,null,null,null,null,null,null,null,null,null,null,null,null,null,null,null,null,null,{"$f":"IF($H71=\"\",\"\",(ASC(I71)))","v":""},{"$f":"IF($H71=\"\",\"\",(ASC(J71)))","v":""},{"$f":"IF($H71=\"\",\"\",(ASC(K71)))","v":""},{"$f":"IF($H71=\"\",\"\",(ASC(L71)))","v":""},{"$f":"IF($H71=\"\",\"\",(ASC(M71)))","v":""},null,{"$f":"IF($H71=\"\",\"\",(ASC(N71)))","v":""},{"$f":"IF($H71=\"\",\"\",(ASC(O71)))","v":""},null,{"$f":"IF($X71=\"\",\"\",(ASC(Y71)))","v":""},{"$f":"IF($X71=\"\",\"\",(ASC(Z71)))","v":""},{"$f":"IF($X71=\"\",\"\",(ASC(AA71)))","v":""},{"$f":"IF($X71=\"\",\"\",(ASC(AB71)))","v":""},{"$f":"IF($X71=\"\",\"\",(ASC(AC71)))","v":""},null,{"$f":"IF($X71=\"\",\"\",(ASC(AD71)))","v":""},{"$f":"IF($X71=\"\",\"\",(ASC(AE71)))","v":""}]
[null,null,67,{"$f":"IF(所属競技者データ!H77=\"\",\"\",所属競技者データ!H77&\" \"&所属競技者データ!I77)","v":""},null,null,null,null,{"$f":"IF($H72=\"\",\"\",(VLOOKUP($H72,所属競技者データ!$F$11:$L$110,2,FALSE)))","v":""},null,null,{"$f":"IF($H72=\"\",\"\",(VLOOKUP($H72,所属競技者データ!$F$11:$L$110,3,FALSE)))","v":""},{"$f":"IF($H72=\"\",\"\",(VLOOKUP($H72,所属競技者データ!$F$11:$L$110,4,FALSE)))","v":""},{"$f":"IF(H72=\"\",\"\",所属競技者データ!$I$6)","v":""},{"$f":"IF($H72=\"\",\"\",(VLOOKUP($H72,所属競技者データ!$F$11:$L$110,5,FALSE)))","v":""},{"$f":"IF($H72=\"\",\"\",(VLOOKUP($H72,所属競技者データ!$F$11:$L$110,6)))","v":""},{"$f":"IF($H72=\"\",\"\",(VLOOKUP($H72,所属競技者データ!$F$11:$L$110,7,FALSE)))","v":""},null,67,{"$f":"IF(所属競技者データ!P77=\"\",\"\",所属競技者データ!P77&\" \"&所属競技者データ!Q77)","v":""},null,null,null,null,{"$f":"IF($X72=\"\",\"\",(VLOOKUP($X72,所属競技者データ!$N$11:$T$110,2,FALSE)))","v":""},null,null,{"$f":"IF($X72=\"\",\"\",(VLOOKUP($X72,所属競技者データ!$N$11:$T$110,3,FALSE)))","v":""},{"$f":"IF($X72=\"\",\"\",(VLOOKUP($X72,所属競技者データ!$N$11:$T$110,4,FALSE)))","v":""},{"$f":"IF(X72=\"\",\"\",所属競技者データ!$I$6)","v":""},{"$f":"IF($X72=\"\",\"\",(VLOOKUP($X72,所属競技者データ!$N$11:$T$110,5,FALSE)))","v":""},{"$f":"IF($X72=\"\",\"\",(VLOOKUP($X72,所属競技者データ!$N$11:$T$110,6)))","v":""},{"$f":"IF($X72=\"\",\"\",(VLOOKUP($X72,所属競技者データ!$N$11:$T$110,7,FALSE)))","v":""},null,null,null,null,null,null,null,null,null,null,null,null,null,null,null,null,null,null,null,null,null,"","","","","",null,"","",null,"","","","","",null,"",""]
[null,null,68,{"$f":"IF(所属競技者データ!H78=\"\",\"\",所属競技者データ!H78&\" \"&所属競技者データ!I78)","v":""},null,null,null,null,{"$f":"IF($H73=\"\",\"\",(VLOOKUP($H73,所属競技者データ!$F$11:$L$110,2,FALSE)))","v":""},null,null,{"$f":"IF($H73=\"\",\"\",(VLOOKUP($H73,所属競技者データ!$F$11:$L$110,3,FALSE)))","v":""},{"$f":"IF($H73=\"\",\"\",(VLOOKUP($H73,所属競技者データ!$F$11:$L$110,4,FALSE)))","v":""},{"$f":"IF(H73=\"\",\"\",所属競技者データ!$I$6)","v":""},{"$f":"IF($H73=\"\",\"\",(VLOOKUP($H73,所属競技者データ!$F$11:$L$110,5,FALSE)))","v":""},{"$f":"IF($H73=\"\",\"\",(VLOOKUP($H73,所属競技者データ!$F$11:$L$110,6)))","v":""},{"$f":"IF($H73=\"\",\"\",(VLOOKUP($H73,所属競技者データ!$F$11:$L$110,7,FALSE)))","v":""},null,68,{"$f":"IF(所属競技者データ!P78=\"\",\"\",所属競技者データ!P78&\" \"&所属競技者データ!Q78)","v":""},null,null,null,null,{"$f":"IF($X73=\"\",\"\",(VLOOKUP($X73,所属競技者データ!$N$11:$T$110,2,FALSE)))","v":""},null,null,{"$f":"IF($X73=\"\",\"\",(VLOOKUP($X73,所属競技者データ!$N$11:$T$110,3,FALSE)))","v":""},{"$f":"IF($X73=\"\",\"\",(VLOOKUP($X73,所属競技者データ!$N$11:$T$110,4,FALSE)))","v":""},{"$f":"IF(X73=\"\",\"\",所属競技者データ!$I$6)","v":""},{"$f":"IF($X73=\"\",\"\",(VLOOKUP($X73,所属競技者データ!$N$11:$T$110,5,FALSE)))","v":""},{"$f":"IF($X73=\"\",\"\",(VLOOKUP($X73,所属競技者データ!$N$11:$T$110,6)))","v":""},{"$f":"IF($X73=\"\",\"\",(VLOOKUP($X73,所属競技者データ!$N$11:$T$110,7,FALSE)))","v":""},null,null,null,null,null,null,null,null,null,null,null,null,null,null,null,null,null,null,null,null,null,"","","","","",null,"","",null,"","","","","",null,"",""]
[null,null,69,{"$f":"IF(所属競技者データ!H79=\"\",\"\",所属競技者データ!H79&\" \"&所属競技者データ!I79)","v":""},null,null,null,null,{"$f":"IF($H74=\"\",\"\",(VLOOKUP($H74,所属競技者データ!$F$11:$L$110,2,FALSE)))","v":""},null,null,{"$f":"IF($H74=\"\",\"\",(VLOOKUP($H74,所属競技者データ!$F$11:$L$110,3,FALSE)))","v":""},{"$f":"IF($H74=\"\",\"\",(VLOOKUP($H74,所属競技者データ!$F$11:$L$110,4,FALSE)))","v":""},{"$f":"IF(H74=\"\",\"\",所属競技者データ!$I$6)","v":""},{"$f":"IF($H74=\"\",\"\",(VLOOKUP($H74,所属競技者データ!$F$11:$L$110,5,FALSE)))","v":""},{"$f":"IF($H74=\"\",\"\",(VLOOKUP($H74,所属競技者データ!$F$11:$L$110,6)))","v":""},{"$f":"IF($H74=\"\",\"\",(VLOOKUP($H74,所属競技者データ!$F$11:$L$110,7,FALSE)))","v":""},null,69,{"$f":"IF(所属競技者データ!P79=\"\",\"\",所属競技者データ!P79&\" \"&所属競技者データ!Q79)","v":""},null,null,null,null,{"$f":"IF($X74=\"\",\"\",(VLOOKUP($X74,所属競技者データ!$N$11:$T$110,2,FALSE)))","v":""},null,null,{"$f":"IF($X74=\"\",\"\",(VLOOKUP($X74,所属競技者データ!$N$11:$T$110,3,FALSE)))","v":""},{"$f":"IF($X74=\"\",\"\",(VLOOKUP($X74,所属競技者データ!$N$11:$T$110,4,FALSE)))","v":""},{"$f":"IF(X74=\"\",\"\",所属競技者データ!$I$6)","v":""},{"$f":"IF($X74=\"\",\"\",(VLOOKUP($X74,所属競技者データ!$N$11:$T$110,5,FALSE)))","v":""},{"$f":"IF($X74=\"\",\"\",(VLOOKUP($X74,所属競技者データ!$N$11:$T$110,6)))","v":""},{"$f":"IF($X74=\"\",\"\",(VLOOKUP($X74,所属競技者データ!$N$11:$T$110,7,FALSE)))","v":""},null,null,null,null,null,null,null,null,null,null,null,null,null,null,null,null,null,null,null,null,null,"","","","","",null,"","",null,"","","","","",null,"",""]
[null,null,70,{"$f":"IF(所属競技者データ!H80=\"\",\"\",所属競技者データ!H80&\" \"&所属競技者データ!I80)","v":""},null,null,null,null,{"$f":"IF($H75=\"\",\"\",(VLOOKUP($H75,所属競技者データ!$F$11:$L$110,2,FALSE)))","v":""},null,null,{"$f":"IF($H75=\"\",\"\",(VLOOKUP($H75,所属競技者データ!$F$11:$L$110,3,FALSE)))","v":""},{"$f":"IF($H75=\"\",\"\",(VLOOKUP($H75,所属競技者データ!$F$11:$L$110,4,FALSE)))","v":""},{"$f":"IF(H75=\"\",\"\",所属競技者データ!$I$6)","v":""},{"$f":"IF($H75=\"\",\"\",(VLOOKUP($H75,所属競技者データ!$F$11:$L$110,5,FALSE)))","v":""},{"$f":"IF($H75=\"\",\"\",(VLOOKUP($H75,所属競技者データ!$F$11:$L$110,6)))","v":""},{"$f":"IF($H75=\"\",\"\",(VLOOKUP($H75,所属競技者データ!$F$11:$L$110,7,FALSE)))","v":""},null,70,{"$f":"IF(所属競技者データ!P80=\"\",\"\",所属競技者データ!P80&\" \"&所属競技者データ!Q80)","v":""},null,null,null,null,{"$f":"IF($X75=\"\",\"\",(VLOOKUP($X75,所属競技者データ!$N$11:$T$110,2,FALSE)))","v":""},null,null,{"$f":"IF($X75=\"\",\"\",(VLOOKUP($X75,所属競技者データ!$N$11:$T$110,3,FALSE)))","v":""},{"$f":"IF($X75=\"\",\"\",(VLOOKUP($X75,所属競技者データ!$N$11:$T$110,4,FALSE)))","v":""},{"$f":"IF(X75=\"\",\"\",所属競技者データ!$I$6)","v":""},{"$f":"IF($X75=\"\",\"\",(VLOOKUP($X75,所属競技者データ!$N$11:$T$110,5,FALSE)))","v":""},{"$f":"IF($X75=\"\",\"\",(VLOOKUP($X75,所属競技者データ!$N$11:$T$110,6)))","v":""},{"$f":"IF($X75=\"\",\"\",(VLOOKUP($X75,所属競技者データ!$N$11:$T$110,7,FALSE)))","v":""},null,null,null,null,null,null,null,null,null,null,null,null,null,null,null,null,null,null,null,null,null,"","","","","",null,"","",null,"","","","","",null,"",""]
[null,null,71,{"$f":"IF(所属競技者データ!H81=\"\",\"\",所属競技者データ!H81&\" \"&所属競技者データ!I81)","v":""},null,null,null,null,{"$f":"IF($H76=\"\",\"\",(VLOOKUP($H76,所属競技者データ!$F$11:$L$110,2,FALSE)))","v":""},null,null,{"$f":"IF($H76=\"\",\"\",(VLOOKUP($H76,所属競技者データ!$F$11:$L$110,3,FALSE)))","v":""},{"$f":"IF($H76=\"\",\"\",(VLOOKUP($H76,所属競技者データ!$F$11:$L$110,4,FALSE)))","v":""},{"$f":"IF(H76=\"\",\"\",所属競技者データ!$I$6)","v":""},{"$f":"IF($H76=\"\",\"\",(VLOOKUP($H76,所属競技者データ!$F$11:$L$110,5,FALSE)))","v":""},{"$f":"IF($H76=\"\",\"\",(VLOOKUP($H76,所属競技者データ!$F$11:$L$110,6)))","v":""},{"$f":"IF($H76=\"\",\"\",(VLOOKUP($H76,所属競技者データ!$F$11:$L$110,7,FALSE)))","v":""},null,71,{"$f":"IF(所属競技者データ!P81=\"\",\"\",所属競技者データ!P81&\" \"&所属競技者データ!Q81)","v":""},null,null,null,null,{"$f":"IF($X76=\"\",\"\",(VLOOKUP($X76,所属競技者データ!$N$11:$T$110,2,FALSE)))","v":""},null,null,{"$f":"IF($X76=\"\",\"\",(VLOOKUP($X76,所属競技者データ!$N$11:$T$110,3,FALSE)))","v":""},{"$f":"IF($X76=\"\",\"\",(VLOOKUP($X76,所属競技者データ!$N$11:$T$110,4,FALSE)))","v":""},{"$f":"IF(X76=\"\",\"\",所属競技者データ!$I$6)","v":""},{"$f":"IF($X76=\"\",\"\",(VLOOKUP($X76,所属競技者データ!$N$11:$T$110,5,FALSE)))","v":""},{"$f":"IF($X76=\"\",\"\",(VLOOKUP($X76,所属競技者データ!$N$11:$T$110,6)))","v":""},{"$f":"IF($X76=\"\",\"\",(VLOOKUP($X76,所属競技者データ!$N$11:$T$110,7,FALSE)))","v":""},null,null,null,null,null,null,null,null,null,null,null,null,null,null,null,null,null,null,null,null,null,"","","","","",null,"","",null,"","","","","",null,"",""]
[null,null,72,{"$f":"IF(所属競技者データ!H82=\"\",\"\",所属競技者データ!H82&\" \"&所属競技者データ!I82)","v":""},null,null,null,null,{"$f":"IF($H77=\"\",\"\",(VLOOKUP($H77,所属競技者データ!$F$11:$L$110,2,FALSE)))","v":""},null,null,{"$f":"IF($H77=\"\",\"\",(VLOOKUP($H77,所属競技者データ!$F$11:$L$110,3,FALSE)))","v":""},{"$f":"IF($H77=\"\",\"\",(VLOOKUP($H77,所属競技者データ!$F$11:$L$110,4,FALSE)))","v":""},{"$f":"IF(H77=\"\",\"\",所属競技者データ!$I$6)","v":""},{"$f":"IF($H77=\"\",\"\",(VLOOKUP($H77,所属競技者データ!$F$11:$L$110,5,FALSE)))","v":""},{"$f":"IF($H77=\"\",\"\",(VLOOKUP($H77,所属競技者データ!$F$11:$L$110,6)))","v":""},{"$f":"IF($H77=\"\",\"\",(VLOOKUP($H77,所属競技者データ!$F$11:$L$110,7,FALSE)))","v":""},null,72,{"$f":"IF(所属競技者データ!P82=\"\",\"\",所属競技者データ!P82&\" \"&所属競技者データ!Q82)","v":""},null,null,null,null,{"$f":"IF($X77=\"\",\"\",(VLOOKUP($X77,所属競技者データ!$N$11:$T$110,2,FALSE)))","v":""},null,null,{"$f":"IF($X77=\"\",\"\",(VLOOKUP($X77,所属競技者データ!$N$11:$T$110,3,FALSE)))","v":""},{"$f":"IF($X77=\"\",\"\",(VLOOKUP($X77,所属競技者データ!$N$11:$T$110,4,FALSE)))","v":""},{"$f":"IF(X77=\"\",\"\",所属競技者データ!$I$6)","v":""},{"$f":"IF($X77=\"\",\"\",(VLOOKUP($X77,所属競技者データ!$N$11:$T$110,5,FALSE)))","v":""},{"$f":"IF($X77=\"\",\"\",(VLOOKUP($X77,所属競技者データ!$N$11:$T$110,6)))","v":""},{"$f":"IF($X77=\"\",\"\",(VLOOKUP($X77,所属競技者データ!$N$11:$T$110,7,FALSE)))","v":""},null,null,null,null,null,null,null,null,null,null,null,null,null,null,null,null,null,null,null,null,null,"","","","","",null,"","",null,"","","","","",null,"",""]
[null,null,73,{"$f":"IF(所属競技者データ!H83=\"\",\"\",所属競技者データ!H83&\" \"&所属競技者データ!I83)","v":""},null,null,null,null,{"$f":"IF($H78=\"\",\"\",(VLOOKUP($H78,所属競技者データ!$F$11:$L$110,2,FALSE)))","v":""},null,null,{"$f":"IF($H78=\"\",\"\",(VLOOKUP($H78,所属競技者データ!$F$11:$L$110,3,FALSE)))","v":""},{"$f":"IF($H78=\"\",\"\",(VLOOKUP($H78,所属競技者データ!$F$11:$L$110,4,FALSE)))","v":""},{"$f":"IF(H78=\"\",\"\",所属競技者データ!$I$6)","v":""},{"$f":"IF($H78=\"\",\"\",(VLOOKUP($H78,所属競技者データ!$F$11:$L$110,5,FALSE)))","v":""},{"$f":"IF($H78=\"\",\"\",(VLOOKUP($H78,所属競技者データ!$F$11:$L$110,6)))","v":""},{"$f":"IF($H78=\"\",\"\",(VLOOKUP($H78,所属競技者データ!$F$11:$L$110,7,FALSE)))","v":""},null,73,{"$f":"IF(所属競技者データ!P83=\"\",\"\",所属競技者データ!P83&\" \"&所属競技者データ!Q83)","v":""},null,null,null,null,{"$f":"IF($X78=\"\",\"\",(VLOOKUP($X78,所属競技者データ!$N$11:$T$110,2,FALSE)))","v":""},null,null,{"$f":"IF($X78=\"\",\"\",(VLOOKUP($X78,所属競技者データ!$N$11:$T$110,3,FALSE)))","v":""},{"$f":"IF($X78=\"\",\"\",(VLOOKUP($X78,所属競技者データ!$N$11:$T$110,4,FALSE)))","v":""},{"$f":"IF(X78=\"\",\"\",所属競技者データ!$I$6)","v":""},{"$f":"IF($X78=\"\",\"\",(VLOOKUP($X78,所属競技者データ!$N$11:$T$110,5,FALSE)))","v":""},{"$f":"IF($X78=\"\",\"\",(VLOOKUP($X78,所属競技者データ!$N$11:$T$110,6)))","v":""},{"$f":"IF($X78=\"\",\"\",(VLOOKUP($X78,所属競技者データ!$N$11:$T$110,7,FALSE)))","v":""},null,null,null,null,null,null,null,null,null,null,null,null,null,null,null,null,null,null,null,null,null,"","","","","",null,"","",null,"","","","","",null,"",""]
[null,null,74,{"$f":"IF(所属競技者データ!H84=\"\",\"\",所属競技者データ!H84&\" \"&所属競技者データ!I84)","v":""},null,null,null,null,{"$f":"IF($H79=\"\",\"\",(VLOOKUP($H79,所属競技者データ!$F$11:$L$110,2,FALSE)))","v":""},null,null,{"$f":"IF($H79=\"\",\"\",(VLOOKUP($H79,所属競技者データ!$F$11:$L$110,3,FALSE)))","v":""},{"$f":"IF($H79=\"\",\"\",(VLOOKUP($H79,所属競技者データ!$F$11:$L$110,4,FALSE)))","v":""},{"$f":"IF(H79=\"\",\"\",所属競技者データ!$I$6)","v":""},{"$f":"IF($H79=\"\",\"\",(VLOOKUP($H79,所属競技者データ!$F$11:$L$110,5,FALSE)))","v":""},{"$f":"IF($H79=\"\",\"\",(VLOOKUP($H79,所属競技者データ!$F$11:$L$110,6)))","v":""},{"$f":"IF($H79=\"\",\"\",(VLOOKUP($H79,所属競技者データ!$F$11:$L$110,7,FALSE)))","v":""},null,74,{"$f":"IF(所属競技者データ!P84=\"\",\"\",所属競技者データ!P84&\" \"&所属競技者データ!Q84)","v":""},null,null,null,null,{"$f":"IF($X79=\"\",\"\",(VLOOKUP($X79,所属競技者データ!$N$11:$T$110,2,FALSE)))","v":""},null,null,{"$f":"IF($X79=\"\",\"\",(VLOOKUP($X79,所属競技者データ!$N$11:$T$110,3,FALSE)))","v":""},{"$f":"IF($X79=\"\",\"\",(VLOOKUP($X79,所属競技者データ!$N$11:$T$110,4,FALSE)))","v":""},{"$f":"IF(X79=\"\",\"\",所属競技者データ!$I$6)","v":""},{"$f":"IF($X79=\"\",\"\",(VLOOKUP($X79,所属競技者データ!$N$11:$T$110,5,FALSE)))","v":""},{"$f":"IF($X79=\"\",\"\",(VLOOKUP($X79,所属競技者データ!$N$11:$T$110,6)))","v":""},{"$f":"IF($X79=\"\",\"\",(VLOOKUP($X79,所属競技者データ!$N$11:$T$110,7,FALSE)))","v":""},null,null,null,null,null,null,null,null,null,null,null,null,null,null,null,null,null,null,null,null,null,"","","","","",null,"","",null,"","","","","",null,"",""]
[null,null,75,{"$f":"IF(所属競技者データ!H85=\"\",\"\",所属競技者データ!H85&\" \"&所属競技者データ!I85)","v":""},null,null,null,null,{"$f":"IF($H80=\"\",\"\",(VLOOKUP($H80,所属競技者データ!$F$11:$L$110,2,FALSE)))","v":""},null,null,{"$f":"IF($H80=\"\",\"\",(VLOOKUP($H80,所属競技者データ!$F$11:$L$110,3,FALSE)))","v":""},{"$f":"IF($H80=\"\",\"\",(VLOOKUP($H80,所属競技者データ!$F$11:$L$110,4,FALSE)))","v":""},{"$f":"IF(H80=\"\",\"\",所属競技者データ!$I$6)","v":""},{"$f":"IF($H80=\"\",\"\",(VLOOKUP($H80,所属競技者データ!$F$11:$L$110,5,FALSE)))","v":""},{"$f":"IF($H80=\"\",\"\",(VLOOKUP($H80,所属競技者データ!$F$11:$L$110,6)))","v":""},{"$f":"IF($H80=\"\",\"\",(VLOOKUP($H80,所属競技者データ!$F$11:$L$110,7,FALSE)))","v":""},null,75,{"$f":"IF(所属競技者データ!P85=\"\",\"\",所属競技者データ!P85&\" \"&所属競技者データ!Q85)","v":""},null,null,null,null,{"$f":"IF($X80=\"\",\"\",(VLOOKUP($X80,所属競技者データ!$N$11:$T$110,2,FALSE)))","v":""},null,null,{"$f":"IF($X80=\"\",\"\",(VLOOKUP($X80,所属競技者データ!$N$11:$T$110,3,FALSE)))","v":""},{"$f":"IF($X80=\"\",\"\",(VLOOKUP($X80,所属競技者データ!$N$11:$T$110,4,FALSE)))","v":""},{"$f":"IF(X80=\"\",\"\",所属競技者データ!$I$6)","v":""},{"$f":"IF($X80=\"\",\"\",(VLOOKUP($X80,所属競技者データ!$N$11:$T$110,5,FALSE)))","v":""},{"$f":"IF($X80=\"\",\"\",(VLOOKUP($X80,所属競技者データ!$N$11:$T$110,6)))","v":""},{"$f":"IF($X80=\"\",\"\",(VLOOKUP($X80,所属競技者データ!$N$11:$T$110,7,FALSE)))","v":""},null,null,null,null,null,null,null,null,null,null,null,null,null,null,null,null,null,null,null,null,null,"","","","","",null,"","",null,"","","","","",null,"",""]
[null,null,76,{"$f":"IF(所属競技者データ!H86=\"\",\"\",所属競技者データ!H86&\" \"&所属競技者データ!I86)","v":""},null,null,null,null,{"$f":"IF($H81=\"\",\"\",(VLOOKUP($H81,所属競技者データ!$F$11:$L$110,2,FALSE)))","v":""},null,null,{"$f":"IF($H81=\"\",\"\",(VLOOKUP($H81,所属競技者データ!$F$11:$L$110,3,FALSE)))","v":""},{"$f":"IF($H81=\"\",\"\",(VLOOKUP($H81,所属競技者データ!$F$11:$L$110,4,FALSE)))","v":""},{"$f":"IF(H81=\"\",\"\",所属競技者データ!$I$6)","v":""},{"$f":"IF($H81=\"\",\"\",(VLOOKUP($H81,所属競技者データ!$F$11:$L$110,5,FALSE)))","v":""},{"$f":"IF($H81=\"\",\"\",(VLOOKUP($H81,所属競技者データ!$F$11:$L$110,6)))","v":""},{"$f":"IF($H81=\"\",\"\",(VLOOKUP($H81,所属競技者データ!$F$11:$L$110,7,FALSE)))","v":""},null,76,{"$f":"IF(所属競技者データ!P86=\"\",\"\",所属競技者データ!P86&\" \"&所属競技者データ!Q86)","v":""},null,null,null,null,{"$f":"IF($X81=\"\",\"\",(VLOOKUP($X81,所属競技者データ!$N$11:$T$110,2,FALSE)))","v":""},null,null,{"$f":"IF($X81=\"\",\"\",(VLOOKUP($X81,所属競技者データ!$N$11:$T$110,3,FALSE)))","v":""},{"$f":"IF($X81=\"\",\"\",(VLOOKUP($X81,所属競技者データ!$N$11:$T$110,4,FALSE)))","v":""},{"$f":"IF(X81=\"\",\"\",所属競技者データ!$I$6)","v":""},{"$f":"IF($X81=\"\",\"\",(VLOOKUP($X81,所属競技者データ!$N$11:$T$110,5,FALSE)))","v":""},{"$f":"IF($X81=\"\",\"\",(VLOOKUP($X81,所属競技者データ!$N$11:$T$110,6)))","v":""},{"$f":"IF($X81=\"\",\"\",(VLOOKUP($X81,所属競技者データ!$N$11:$T$110,7,FALSE)))","v":""},null,null,null,null,null,null,null,null,null,null,null,null,null,null,null,null,null,null,null,null,null,"","","","","",null,"","",null,"","","","","",null,"",""]
[null,null,77,{"$f":"IF(所属競技者データ!H87=\"\",\"\",所属競技者データ!H87&\" \"&所属競技者データ!I87)","v":""},null,null,null,null,{"$f":"IF($H82=\"\",\"\",(VLOOKUP($H82,所属競技者データ!$F$11:$L$110,2,FALSE)))","v":""},null,null,{"$f":"IF($H82=\"\",\"\",(VLOOKUP($H82,所属競技者データ!$F$11:$L$110,3,FALSE)))","v":""},{"$f":"IF($H82=\"\",\"\",(VLOOKUP($H82,所属競技者データ!$F$11:$L$110,4,FALSE)))","v":""},{"$f":"IF(H82=\"\",\"\",所属競技者データ!$I$6)","v":""},{"$f":"IF($H82=\"\",\"\",(VLOOKUP($H82,所属競技者データ!$F$11:$L$110,5,FALSE)))","v":""},{"$f":"IF($H82=\"\",\"\",(VLOOKUP($H82,所属競技者データ!$F$11:$L$110,6)))","v":""},{"$f":"IF($H82=\"\",\"\",(VLOOKUP($H82,所属競技者データ!$F$11:$L$110,7,FALSE)))","v":""},null,77,{"$f":"IF(所属競技者データ!P87=\"\",\"\",所属競技者データ!P87&\" \"&所属競技者データ!Q87)","v":""},null,null,null,null,{"$f":"IF($X82=\"\",\"\",(VLOOKUP($X82,所属競技者データ!$N$11:$T$110,2,FALSE)))","v":""},null,null,{"$f":"IF($X82=\"\",\"\",(VLOOKUP($X82,所属競技者データ!$N$11:$T$110,3,FALSE)))","v":""},{"$f":"IF($X82=\"\",\"\",(VLOOKUP($X82,所属競技者データ!$N$11:$T$110,4,FALSE)))","v":""},{"$f":"IF(X82=\"\",\"\",所属競技者データ!$I$6)","v":""},{"$f":"IF($X82=\"\",\"\",(VLOOKUP($X82,所属競技者データ!$N$11:$T$110,5,FALSE)))","v":""},{"$f":"IF($X82=\"\",\"\",(VLOOKUP($X82,所属競技者データ!$N$11:$T$110,6)))","v":""},{"$f":"IF($X82=\"\",\"\",(VLOOKUP($X82,所属競技者データ!$N$11:$T$110,7,FALSE)))","v":""},null,null,null,null,null,null,null,null,null,null,null,null,null,null,null,null,null,null,null,null,null,"","","","","",null,"","",null,"","","","","",null,"",""]
[null,null,78,{"$f":"IF(所属競技者データ!H88=\"\",\"\",所属競技者データ!H88&\" \"&所属競技者データ!I88)","v":""},null,null,null,null,{"$f":"IF($H83=\"\",\"\",(VLOOKUP($H83,所属競技者データ!$F$11:$L$110,2,FALSE)))","v":""},null,null,{"$f":"IF($H83=\"\",\"\",(VLOOKUP($H83,所属競技者データ!$F$11:$L$110,3,FALSE)))","v":""},{"$f":"IF($H83=\"\",\"\",(VLOOKUP($H83,所属競技者データ!$F$11:$L$110,4,FALSE)))","v":""},{"$f":"IF(H83=\"\",\"\",所属競技者データ!$I$6)","v":""},{"$f":"IF($H83=\"\",\"\",(VLOOKUP($H83,所属競技者データ!$F$11:$L$110,5,FALSE)))","v":""},{"$f":"IF($H83=\"\",\"\",(VLOOKUP($H83,所属競技者データ!$F$11:$L$110,6)))","v":""},{"$f":"IF($H83=\"\",\"\",(VLOOKUP($H83,所属競技者データ!$F$11:$L$110,7,FALSE)))","v":""},null,78,{"$f":"IF(所属競技者データ!P88=\"\",\"\",所属競技者データ!P88&\" \"&所属競技者データ!Q88)","v":""},null,null,null,null,{"$f":"IF($X83=\"\",\"\",(VLOOKUP($X83,所属競技者データ!$N$11:$T$110,2,FALSE)))","v":""},null,null,{"$f":"IF($X83=\"\",\"\",(VLOOKUP($X83,所属競技者データ!$N$11:$T$110,3,FALSE)))","v":""},{"$f":"IF($X83=\"\",\"\",(VLOOKUP($X83,所属競技者データ!$N$11:$T$110,4,FALSE)))","v":""},{"$f":"IF(X83=\"\",\"\",所属競技者データ!$I$6)","v":""},{"$f":"IF($X83=\"\",\"\",(VLOOKUP($X83,所属競技者データ!$N$11:$T$110,5,FALSE)))","v":""},{"$f":"IF($X83=\"\",\"\",(VLOOKUP($X83,所属競技者データ!$N$11:$T$110,6)))","v":""},{"$f":"IF($X83=\"\",\"\",(VLOOKUP($X83,所属競技者データ!$N$11:$T$110,7,FALSE)))","v":""},null,null,null,null,null,null,null,null,null,null,null,null,null,null,null,null,null,null,null,null,null,"","","","","",null,"","",null,"","","","","",null,"",""]
[null,null,79,{"$f":"IF(所属競技者データ!H89=\"\",\"\",所属競技者データ!H89&\" \"&所属競技者データ!I89)","v":""},null,null,null,null,{"$f":"IF($H84=\"\",\"\",(VLOOKUP($H84,所属競技者データ!$F$11:$L$110,2,FALSE)))","v":""},null,null,{"$f":"IF($H84=\"\",\"\",(VLOOKUP($H84,所属競技者データ!$F$11:$L$110,3,FALSE)))","v":""},{"$f":"IF($H84=\"\",\"\",(VLOOKUP($H84,所属競技者データ!$F$11:$L$110,4,FALSE)))","v":""},{"$f":"IF(H84=\"\",\"\",所属競技者データ!$I$6)","v":""},{"$f":"IF($H84=\"\",\"\",(VLOOKUP($H84,所属競技者データ!$F$11:$L$110,5,FALSE)))","v":""},{"$f":"IF($H84=\"\",\"\",(VLOOKUP($H84,所属競技者データ!$F$11:$L$110,6)))","v":""},{"$f":"IF($H84=\"\",\"\",(VLOOKUP($H84,所属競技者データ!$F$11:$L$110,7,FALSE)))","v":""},null,79,{"$f":"IF(所属競技者データ!P89=\"\",\"\",所属競技者データ!P89&\" \"&所属競技者データ!Q89)","v":""},null,null,null,null,{"$f":"IF($X84=\"\",\"\",(VLOOKUP($X84,所属競技者データ!$N$11:$T$110,2,FALSE)))","v":""},null,null,{"$f":"IF($X84=\"\",\"\",(VLOOKUP($X84,所属競技者データ!$N$11:$T$110,3,FALSE)))","v":""},{"$f":"IF($X84=\"\",\"\",(VLOOKUP($X84,所属競技者データ!$N$11:$T$110,4,FALSE)))","v":""},{"$f":"IF(X84=\"\",\"\",所属競技者データ!$I$6)","v":""},{"$f":"IF($X84=\"\",\"\",(VLOOKUP($X84,所属競技者データ!$N$11:$T$110,5,FALSE)))","v":""},{"$f":"IF($X84=\"\",\"\",(VLOOKUP($X84,所属競技者データ!$N$11:$T$110,6)))","v":""},{"$f":"IF($X84=\"\",\"\",(VLOOKUP($X84,所属競技者データ!$N$11:$T$110,7,FALSE)))","v":""},null,null,null,null,null,null,null,null,null,null,null,null,null,null,null,null,null,null,null,null,null,"","","","","",null,"","",null,"","","","","",null,"",""]
[null,null,80,{"$f":"IF(所属競技者データ!H90=\"\",\"\",所属競技者データ!H90&\" \"&所属競技者データ!I90)","v":""},null,null,null,null,{"$f":"IF($H85=\"\",\"\",(VLOOKUP($H85,所属競技者データ!$F$11:$L$110,2,FALSE)))","v":""},null,null,{"$f":"IF($H85=\"\",\"\",(VLOOKUP($H85,所属競技者データ!$F$11:$L$110,3,FALSE)))","v":""},{"$f":"IF($H85=\"\",\"\",(VLOOKUP($H85,所属競技者データ!$F$11:$L$110,4,FALSE)))","v":""},{"$f":"IF(H85=\"\",\"\",所属競技者データ!$I$6)","v":""},{"$f":"IF($H85=\"\",\"\",(VLOOKUP($H85,所属競技者データ!$F$11:$L$110,5,FALSE)))","v":""},{"$f":"IF($H85=\"\",\"\",(VLOOKUP($H85,所属競技者データ!$F$11:$L$110,6)))","v":""},{"$f":"IF($H85=\"\",\"\",(VLOOKUP($H85,所属競技者データ!$F$11:$L$110,7,FALSE)))","v":""},null,80,{"$f":"IF(所属競技者データ!P90=\"\",\"\",所属競技者データ!P90&\" \"&所属競技者データ!Q90)","v":""},null,null,null,null,{"$f":"IF($X85=\"\",\"\",(VLOOKUP($X85,所属競技者データ!$N$11:$T$110,2,FALSE)))","v":""},null,null,{"$f":"IF($X85=\"\",\"\",(VLOOKUP($X85,所属競技者データ!$N$11:$T$110,3,FALSE)))","v":""},{"$f":"IF($X85=\"\",\"\",(VLOOKUP($X85,所属競技者データ!$N$11:$T$110,4,FALSE)))","v":""},{"$f":"IF(X85=\"\",\"\",所属競技者データ!$I$6)","v":""},{"$f":"IF($X85=\"\",\"\",(VLOOKUP($X85,所属競技者データ!$N$11:$T$110,5,FALSE)))","v":""},{"$f":"IF($X85=\"\",\"\",(VLOOKUP($X85,所属競技者データ!$N$11:$T$110,6)))","v":""},{"$f":"IF($X85=\"\",\"\",(VLOOKUP($X85,所属競技者データ!$N$11:$T$110,7,FALSE)))","v":""},null,null,null,null,null,null,null,null,null,null,null,null,null,null,null,null,null,null,null,null,null,"","","","","",null,"","",null,"","","","","",null,"",""]
[null,null,81,{"$f":"IF(所属競技者データ!H91=\"\",\"\",所属競技者データ!H91&\" \"&所属競技者データ!I91)","v":""},null,null,null,null,{"$f":"IF($H86=\"\",\"\",(VLOOKUP($H86,所属競技者データ!$F$11:$L$110,2,FALSE)))","v":""},null,null,{"$f":"IF($H86=\"\",\"\",(VLOOKUP($H86,所属競技者データ!$F$11:$L$110,3,FALSE)))","v":""},{"$f":"IF($H86=\"\",\"\",(VLOOKUP($H86,所属競技者データ!$F$11:$L$110,4,FALSE)))","v":""},{"$f":"IF(H86=\"\",\"\",所属競技者データ!$I$6)","v":""},{"$f":"IF($H86=\"\",\"\",(VLOOKUP($H86,所属競技者データ!$F$11:$L$110,5,FALSE)))","v":""},{"$f":"IF($H86=\"\",\"\",(VLOOKUP($H86,所属競技者データ!$F$11:$L$110,6)))","v":""},{"$f":"IF($H86=\"\",\"\",(VLOOKUP($H86,所属競技者データ!$F$11:$L$110,7,FALSE)))","v":""},null,81,{"$f":"IF(所属競技者データ!P91=\"\",\"\",所属競技者データ!P91&\" \"&所属競技者データ!Q91)","v":""},null,null,null,null,{"$f":"IF($X86=\"\",\"\",(VLOOKUP($X86,所属競技者データ!$N$11:$T$110,2,FALSE)))","v":""},null,null,{"$f":"IF($X86=\"\",\"\",(VLOOKUP($X86,所属競技者データ!$N$11:$T$110,3,FALSE)))","v":""},{"$f":"IF($X86=\"\",\"\",(VLOOKUP($X86,所属競技者データ!$N$11:$T$110,4,FALSE)))","v":""},{"$f":"IF(X86=\"\",\"\",所属競技者データ!$I$6)","v":""},{"$f":"IF($X86=\"\",\"\",(VLOOKUP($X86,所属競技者データ!$N$11:$T$110,5,FALSE)))","v":""},{"$f":"IF($X86=\"\",\"\",(VLOOKUP($X86,所属競技者データ!$N$11:$T$110,6)))","v":""},{"$f":"IF($X86=\"\",\"\",(VLOOKUP($X86,所属競技者データ!$N$11:$T$110,7,FALSE)))","v":""},null,null,null,null,null,null,null,null,null,null,null,null,null,null,null,null,null,null,null,null,null,"","","","","",null,"","",null,"","","","","",null,"",""]
[null,null,82,{"$f":"IF(所属競技者データ!H92=\"\",\"\",所属競技者データ!H92&\" \"&所属競技者データ!I92)","v":""},null,null,null,null,{"$f":"IF($H87=\"\",\"\",(VLOOKUP($H87,所属競技者データ!$F$11:$L$110,2,FALSE)))","v":""},null,null,{"$f":"IF($H87=\"\",\"\",(VLOOKUP($H87,所属競技者データ!$F$11:$L$110,3,FALSE)))","v":""},{"$f":"IF($H87=\"\",\"\",(VLOOKUP($H87,所属競技者データ!$F$11:$L$110,4,FALSE)))","v":""},{"$f":"IF(H87=\"\",\"\",所属競技者データ!$I$6)","v":""},{"$f":"IF($H87=\"\",\"\",(VLOOKUP($H87,所属競技者データ!$F$11:$L$110,5,FALSE)))","v":""},{"$f":"IF($H87=\"\",\"\",(VLOOKUP($H87,所属競技者データ!$F$11:$L$110,6)))","v":""},{"$f":"IF($H87=\"\",\"\",(VLOOKUP($H87,所属競技者データ!$F$11:$L$110,7,FALSE)))","v":""},null,82,{"$f":"IF(所属競技者データ!P92=\"\",\"\",所属競技者データ!P92&\" \"&所属競技者データ!Q92)","v":""},null,null,null,null,{"$f":"IF($X87=\"\",\"\",(VLOOKUP($X87,所属競技者データ!$N$11:$T$110,2,FALSE)))","v":""},null,null,{"$f":"IF($X87=\"\",\"\",(VLOOKUP($X87,所属競技者データ!$N$11:$T$110,3,FALSE)))","v":""},{"$f":"IF($X87=\"\",\"\",(VLOOKUP($X87,所属競技者データ!$N$11:$T$110,4,FALSE)))","v":""},{"$f":"IF(X87=\"\",\"\",所属競技者データ!$I$6)","v":""},{"$f":"IF($X87=\"\",\"\",(VLOOKUP($X87,所属競技者データ!$N$11:$T$110,5,FALSE)))","v":""},{"$f":"IF($X87=\"\",\"\",(VLOOKUP($X87,所属競技者データ!$N$11:$T$110,6)))","v":""},{"$f":"IF($X87=\"\",\"\",(VLOOKUP($X87,所属競技者データ!$N$11:$T$110,7,FALSE)))","v":""},null,null,null,null,null,null,null,null,null,null,null,null,null,null,null,null,null,null,null,null,null,"","","","","",null,"","",null,"","","","","",null,"",""]
[null,null,83,{"$f":"IF(所属競技者データ!H93=\"\",\"\",所属競技者データ!H93&\" \"&所属競技者データ!I93)","v":""},null,null,null,null,{"$f":"IF($H88=\"\",\"\",(VLOOKUP($H88,所属競技者データ!$F$11:$L$110,2,FALSE)))","v":""},null,null,{"$f":"IF($H88=\"\",\"\",(VLOOKUP($H88,所属競技者データ!$F$11:$L$110,3,FALSE)))","v":""},{"$f":"IF($H88=\"\",\"\",(VLOOKUP($H88,所属競技者データ!$F$11:$L$110,4,FALSE)))","v":""},{"$f":"IF(H88=\"\",\"\",所属競技者データ!$I$6)","v":""},{"$f":"IF($H88=\"\",\"\",(VLOOKUP($H88,所属競技者データ!$F$11:$L$110,5,FALSE)))","v":""},{"$f":"IF($H88=\"\",\"\",(VLOOKUP($H88,所属競技者データ!$F$11:$L$110,6)))","v":""},{"$f":"IF($H88=\"\",\"\",(VLOOKUP($H88,所属競技者データ!$F$11:$L$110,7,FALSE)))","v":""},null,83,{"$f":"IF(所属競技者データ!P93=\"\",\"\",所属競技者データ!P93&\" \"&所属競技者データ!Q93)","v":""},null,null,null,null,{"$f":"IF($X88=\"\",\"\",(VLOOKUP($X88,所属競技者データ!$N$11:$T$110,2,FALSE)))","v":""},null,null,{"$f":"IF($X88=\"\",\"\",(VLOOKUP($X88,所属競技者データ!$N$11:$T$110,3,FALSE)))","v":""},{"$f":"IF($X88=\"\",\"\",(VLOOKUP($X88,所属競技者データ!$N$11:$T$110,4,FALSE)))","v":""},{"$f":"IF(X88=\"\",\"\",所属競技者データ!$I$6)","v":""},{"$f":"IF($X88=\"\",\"\",(VLOOKUP($X88,所属競技者データ!$N$11:$T$110,5,FALSE)))","v":""},{"$f":"IF($X88=\"\",\"\",(VLOOKUP($X88,所属競技者データ!$N$11:$T$110,6)))","v":""},{"$f":"IF($X88=\"\",\"\",(VLOOKUP($X88,所属競技者データ!$N$11:$T$110,7,FALSE)))","v":""},null,null,null,null,null,null,null,null,null,null,null,null,null,null,null,null,null,null,null,null,null,"","","","","",null,"","",null,"","","","","",null,"",""]
[null,null,84,{"$f":"IF(所属競技者データ!H94=\"\",\"\",所属競技者データ!H94&\" \"&所属競技者データ!I94)","v":""},null,null,null,null,{"$f":"IF($H89=\"\",\"\",(VLOOKUP($H89,所属競技者データ!$F$11:$L$110,2,FALSE)))","v":""},null,null,{"$f":"IF($H89=\"\",\"\",(VLOOKUP($H89,所属競技者データ!$F$11:$L$110,3,FALSE)))","v":""},{"$f":"IF($H89=\"\",\"\",(VLOOKUP($H89,所属競技者データ!$F$11:$L$110,4,FALSE)))","v":""},{"$f":"IF(H89=\"\",\"\",所属競技者データ!$I$6)","v":""},{"$f":"IF($H89=\"\",\"\",(VLOOKUP($H89,所属競技者データ!$F$11:$L$110,5,FALSE)))","v":""},{"$f":"IF($H89=\"\",\"\",(VLOOKUP($H89,所属競技者データ!$F$11:$L$110,6)))","v":""},{"$f":"IF($H89=\"\",\"\",(VLOOKUP($H89,所属競技者データ!$F$11:$L$110,7,FALSE)))","v":""},null,84,{"$f":"IF(所属競技者データ!P94=\"\",\"\",所属競技者データ!P94&\" \"&所属競技者データ!Q94)","v":""},null,null,null,null,{"$f":"IF($X89=\"\",\"\",(VLOOKUP($X89,所属競技者データ!$N$11:$T$110,2,FALSE)))","v":""},null,null,{"$f":"IF($X89=\"\",\"\",(VLOOKUP($X89,所属競技者データ!$N$11:$T$110,3,FALSE)))","v":""},{"$f":"IF($X89=\"\",\"\",(VLOOKUP($X89,所属競技者データ!$N$11:$T$110,4,FALSE)))","v":""},{"$f":"IF(X89=\"\",\"\",所属競技者データ!$I$6)","v":""},{"$f":"IF($X89=\"\",\"\",(VLOOKUP($X89,所属競技者データ!$N$11:$T$110,5,FALSE)))","v":""},{"$f":"IF($X89=\"\",\"\",(VLOOKUP($X89,所属競技者データ!$N$11:$T$110,6)))","v":""},{"$f":"IF($X89=\"\",\"\",(VLOOKUP($X89,所属競技者データ!$N$11:$T$110,7,FALSE)))","v":""},null,null,null,null,null,null,null,null,null,null,null,null,null,null,null,null,null,null,null,null,null,"","","","","",null,"","",null,"","","","","",null,"",""]
[null,null,85,{"$f":"IF(所属競技者データ!H95=\"\",\"\",所属競技者データ!H95&\" \"&所属競技者データ!I95)","v":""},null,null,null,null,{"$f":"IF($H90=\"\",\"\",(VLOOKUP($H90,所属競技者データ!$F$11:$L$110,2,FALSE)))","v":""},null,null,{"$f":"IF($H90=\"\",\"\",(VLOOKUP($H90,所属競技者データ!$F$11:$L$110,3,FALSE)))","v":""},{"$f":"IF($H90=\"\",\"\",(VLOOKUP($H90,所属競技者データ!$F$11:$L$110,4,FALSE)))","v":""},{"$f":"IF(H90=\"\",\"\",所属競技者データ!$I$6)","v":""},{"$f":"IF($H90=\"\",\"\",(VLOOKUP($H90,所属競技者データ!$F$11:$L$110,5,FALSE)))","v":""},{"$f":"IF($H90=\"\",\"\",(VLOOKUP($H90,所属競技者データ!$F$11:$L$110,6)))","v":""},{"$f":"IF($H90=\"\",\"\",(VLOOKUP($H90,所属競技者データ!$F$11:$L$110,7,FALSE)))","v":""},null,85,{"$f":"IF(所属競技者データ!P95=\"\",\"\",所属競技者データ!P95&\" \"&所属競技者データ!Q95)","v":""},null,null,null,null,{"$f":"IF($X90=\"\",\"\",(VLOOKUP($X90,所属競技者データ!$N$11:$T$110,2,FALSE)))","v":""},null,null,{"$f":"IF($X90=\"\",\"\",(VLOOKUP($X90,所属競技者データ!$N$11:$T$110,3,FALSE)))","v":""},{"$f":"IF($X90=\"\",\"\",(VLOOKUP($X90,所属競技者データ!$N$11:$T$110,4,FALSE)))","v":""},{"$f":"IF(X90=\"\",\"\",所属競技者データ!$I$6)","v":""},{"$f":"IF($X90=\"\",\"\",(VLOOKUP($X90,所属競技者データ!$N$11:$T$110,5,FALSE)))","v":""},{"$f":"IF($X90=\"\",\"\",(VLOOKUP($X90,所属競技者データ!$N$11:$T$110,6)))","v":""},{"$f":"IF($X90=\"\",\"\",(VLOOKUP($X90,所属競技者データ!$N$11:$T$110,7,FALSE)))","v":""},null,null,null,null,null,null,null,null,null,null,null,null,null,null,null,null,null,null,null,null,null,"","","","","",null,"","",null,"","","","","",null,"",""]
[null,null,86,{"$f":"IF(所属競技者データ!H96=\"\",\"\",所属競技者データ!H96&\" \"&所属競技者データ!I96)","v":""},null,null,null,null,{"$f":"IF($H91=\"\",\"\",(VLOOKUP($H91,所属競技者データ!$F$11:$L$110,2,FALSE)))","v":""},null,null,{"$f":"IF($H91=\"\",\"\",(VLOOKUP($H91,所属競技者データ!$F$11:$L$110,3,FALSE)))","v":""},{"$f":"IF($H91=\"\",\"\",(VLOOKUP($H91,所属競技者データ!$F$11:$L$110,4,FALSE)))","v":""},{"$f":"IF(H91=\"\",\"\",所属競技者データ!$I$6)","v":""},{"$f":"IF($H91=\"\",\"\",(VLOOKUP($H91,所属競技者データ!$F$11:$L$110,5,FALSE)))","v":""},{"$f":"IF($H91=\"\",\"\",(VLOOKUP($H91,所属競技者データ!$F$11:$L$110,6)))","v":""},{"$f":"IF($H91=\"\",\"\",(VLOOKUP($H91,所属競技者データ!$F$11:$L$110,7,FALSE)))","v":""},null,86,{"$f":"IF(所属競技者データ!P96=\"\",\"\",所属競技者データ!P96&\" \"&所属競技者データ!Q96)","v":""},null,null,null,null,{"$f":"IF($X91=\"\",\"\",(VLOOKUP($X91,所属競技者データ!$N$11:$T$110,2,FALSE)))","v":""},null,null,{"$f":"IF($X91=\"\",\"\",(VLOOKUP($X91,所属競技者データ!$N$11:$T$110,3,FALSE)))","v":""},{"$f":"IF($X91=\"\",\"\",(VLOOKUP($X91,所属競技者データ!$N$11:$T$110,4,FALSE)))","v":""},{"$f":"IF(X91=\"\",\"\",所属競技者データ!$I$6)","v":""},{"$f":"IF($X91=\"\",\"\",(VLOOKUP($X91,所属競技者データ!$N$11:$T$110,5,FALSE)))","v":""},{"$f":"IF($X91=\"\",\"\",(VLOOKUP($X91,所属競技者データ!$N$11:$T$110,6)))","v":""},{"$f":"IF($X91=\"\",\"\",(VLOOKUP($X91,所属競技者データ!$N$11:$T$110,7,FALSE)))","v":""},null,null,null,null,null,null,null,null,null,null,null,null,null,null,null,null,null,null,null,null,null,"","","","","",null,"","",null,"","","","","",null,"",""]
[null,null,87,{"$f":"IF(所属競技者データ!H97=\"\",\"\",所属競技者データ!H97&\" \"&所属競技者データ!I97)","v":""},null,null,null,null,{"$f":"IF($H92=\"\",\"\",(VLOOKUP($H92,所属競技者データ!$F$11:$L$110,2,FALSE)))","v":""},null,null,{"$f":"IF($H92=\"\",\"\",(VLOOKUP($H92,所属競技者データ!$F$11:$L$110,3,FALSE)))","v":""},{"$f":"IF($H92=\"\",\"\",(VLOOKUP($H92,所属競技者データ!$F$11:$L$110,4,FALSE)))","v":""},{"$f":"IF(H92=\"\",\"\",所属競技者データ!$I$6)","v":""},{"$f":"IF($H92=\"\",\"\",(VLOOKUP($H92,所属競技者データ!$F$11:$L$110,5,FALSE)))","v":""},{"$f":"IF($H92=\"\",\"\",(VLOOKUP($H92,所属競技者データ!$F$11:$L$110,6)))","v":""},{"$f":"IF($H92=\"\",\"\",(VLOOKUP($H92,所属競技者データ!$F$11:$L$110,7,FALSE)))","v":""},null,87,{"$f":"IF(所属競技者データ!P97=\"\",\"\",所属競技者データ!P97&\" \"&所属競技者データ!Q97)","v":""},null,null,null,null,{"$f":"IF($X92=\"\",\"\",(VLOOKUP($X92,所属競技者データ!$N$11:$T$110,2,FALSE)))","v":""},null,null,{"$f":"IF($X92=\"\",\"\",(VLOOKUP($X92,所属競技者データ!$N$11:$T$110,3,FALSE)))","v":""},{"$f":"IF($X92=\"\",\"\",(VLOOKUP($X92,所属競技者データ!$N$11:$T$110,4,FALSE)))","v":""},{"$f":"IF(X92=\"\",\"\",所属競技者データ!$I$6)","v":""},{"$f":"IF($X92=\"\",\"\",(VLOOKUP($X92,所属競技者データ!$N$11:$T$110,5,FALSE)))","v":""},{"$f":"IF($X92=\"\",\"\",(VLOOKUP($X92,所属競技者データ!$N$11:$T$110,6)))","v":""},{"$f":"IF($X92=\"\",\"\",(VLOOKUP($X92,所属競技者データ!$N$11:$T$110,7,FALSE)))","v":""},null,null,null,null,null,null,null,null,null,null,null,null,null,null,null,null,null,null,null,null,null,"","","","","",null,"","",null,"","","","","",null,"",""]
[null,null,88,{"$f":"IF(所属競技者データ!H98=\"\",\"\",所属競技者データ!H98&\" \"&所属競技者データ!I98)","v":""},null,null,null,null,{"$f":"IF($H93=\"\",\"\",(VLOOKUP($H93,所属競技者データ!$F$11:$L$110,2,FALSE)))","v":""},null,null,{"$f":"IF($H93=\"\",\"\",(VLOOKUP($H93,所属競技者データ!$F$11:$L$110,3,FALSE)))","v":""},{"$f":"IF($H93=\"\",\"\",(VLOOKUP($H93,所属競技者データ!$F$11:$L$110,4,FALSE)))","v":""},{"$f":"IF(H93=\"\",\"\",所属競技者データ!$I$6)","v":""},{"$f":"IF($H93=\"\",\"\",(VLOOKUP($H93,所属競技者データ!$F$11:$L$110,5,FALSE)))","v":""},{"$f":"IF($H93=\"\",\"\",(VLOOKUP($H93,所属競技者データ!$F$11:$L$110,6)))","v":""},{"$f":"IF($H93=\"\",\"\",(VLOOKUP($H93,所属競技者データ!$F$11:$L$110,7,FALSE)))","v":""},null,88,{"$f":"IF(所属競技者データ!P98=\"\",\"\",所属競技者データ!P98&\" \"&所属競技者データ!Q98)","v":""},null,null,null,null,{"$f":"IF($X93=\"\",\"\",(VLOOKUP($X93,所属競技者データ!$N$11:$T$110,2,FALSE)))","v":""},null,null,{"$f":"IF($X93=\"\",\"\",(VLOOKUP($X93,所属競技者データ!$N$11:$T$110,3,FALSE)))","v":""},{"$f":"IF($X93=\"\",\"\",(VLOOKUP($X93,所属競技者データ!$N$11:$T$110,4,FALSE)))","v":""},{"$f":"IF(X93=\"\",\"\",所属競技者データ!$I$6)","v":""},{"$f":"IF($X93=\"\",\"\",(VLOOKUP($X93,所属競技者データ!$N$11:$T$110,5,FALSE)))","v":""},{"$f":"IF($X93=\"\",\"\",(VLOOKUP($X93,所属競技者データ!$N$11:$T$110,6)))","v":""},{"$f":"IF($X93=\"\",\"\",(VLOOKUP($X93,所属競技者データ!$N$11:$T$110,7,FALSE)))","v":""},null,null,null,null,null,null,null,null,null,null,null,null,null,null,null,null,null,null,null,null,null,"","","","","",null,"","",null,"","","","","",null,"",""]
[null,null,89,{"$f":"IF(所属競技者データ!H99=\"\",\"\",所属競技者データ!H99&\" \"&所属競技者データ!I99)","v":""},null,null,null,null,{"$f":"IF($H94=\"\",\"\",(VLOOKUP($H94,所属競技者データ!$F$11:$L$110,2,FALSE)))","v":""},null,null,{"$f":"IF($H94=\"\",\"\",(VLOOKUP($H94,所属競技者データ!$F$11:$L$110,3,FALSE)))","v":""},{"$f":"IF($H94=\"\",\"\",(VLOOKUP($H94,所属競技者データ!$F$11:$L$110,4,FALSE)))","v":""},{"$f":"IF(H94=\"\",\"\",所属競技者データ!$I$6)","v":""},{"$f":"IF($H94=\"\",\"\",(VLOOKUP($H94,所属競技者データ!$F$11:$L$110,5,FALSE)))","v":""},{"$f":"IF($H94=\"\",\"\",(VLOOKUP($H94,所属競技者データ!$F$11:$L$110,6)))","v":""},{"$f":"IF($H94=\"\",\"\",(VLOOKUP($H94,所属競技者データ!$F$11:$L$110,7,FALSE)))","v":""},null,89,{"$f":"IF(所属競技者データ!P99=\"\",\"\",所属競技者データ!P99&\" \"&所属競技者データ!Q99)","v":""},null,null,null,null,{"$f":"IF($X94=\"\",\"\",(VLOOKUP($X94,所属競技者データ!$N$11:$T$110,2,FALSE)))","v":""},null,null,{"$f":"IF($X94=\"\",\"\",(VLOOKUP($X94,所属競技者データ!$N$11:$T$110,3,FALSE)))","v":""},{"$f":"IF($X94=\"\",\"\",(VLOOKUP($X94,所属競技者データ!$N$11:$T$110,4,FALSE)))","v":""},{"$f":"IF(X94=\"\",\"\",所属競技者データ!$I$6)","v":""},{"$f":"IF($X94=\"\",\"\",(VLOOKUP($X94,所属競技者データ!$N$11:$T$110,5,FALSE)))","v":""},{"$f":"IF($X94=\"\",\"\",(VLOOKUP($X94,所属競技者データ!$N$11:$T$110,6)))","v":""},{"$f":"IF($X94=\"\",\"\",(VLOOKUP($X94,所属競技者データ!$N$11:$T$110,7,FALSE)))","v":""},null,null,null,null,null,null,null,null,null,null,null,null,null,null,null,null,null,null,null,null,null,"","","","","",null,"","",null,"","","","","",null,"",""]
[null,null,90,{"$f":"IF(所属競技者データ!H100=\"\",\"\",所属競技者データ!H100&\" \"&所属競技者データ!I100)","v":""},null,null,null,null,{"$f":"IF($H95=\"\",\"\",(VLOOKUP($H95,所属競技者データ!$F$11:$L$110,2,FALSE)))","v":""},null,null,{"$f":"IF($H95=\"\",\"\",(VLOOKUP($H95,所属競技者データ!$F$11:$L$110,3,FALSE)))","v":""},{"$f":"IF($H95=\"\",\"\",(VLOOKUP($H95,所属競技者データ!$F$11:$L$110,4,FALSE)))","v":""},{"$f":"IF(H95=\"\",\"\",所属競技者データ!$I$6)","v":""},{"$f":"IF($H95=\"\",\"\",(VLOOKUP($H95,所属競技者データ!$F$11:$L$110,5,FALSE)))","v":""},{"$f":"IF($H95=\"\",\"\",(VLOOKUP($H95,所属競技者データ!$F$11:$L$110,6)))","v":""},{"$f":"IF($H95=\"\",\"\",(VLOOKUP($H95,所属競技者データ!$F$11:$L$110,7,FALSE)))","v":""},null,90,{"$f":"IF(所属競技者データ!P100=\"\",\"\",所属競技者データ!P100&\" \"&所属競技者データ!Q100)","v":""},null,null,null,null,{"$f":"IF($X95=\"\",\"\",(VLOOKUP($X95,所属競技者データ!$N$11:$T$110,2,FALSE)))","v":""},null,null,{"$f":"IF($X95=\"\",\"\",(VLOOKUP($X95,所属競技者データ!$N$11:$T$110,3,FALSE)))","v":""},{"$f":"IF($X95=\"\",\"\",(VLOOKUP($X95,所属競技者データ!$N$11:$T$110,4,FALSE)))","v":""},{"$f":"IF(X95=\"\",\"\",所属競技者データ!$I$6)","v":""},{"$f":"IF($X95=\"\",\"\",(VLOOKUP($X95,所属競技者データ!$N$11:$T$110,5,FALSE)))","v":""},{"$f":"IF($X95=\"\",\"\",(VLOOKUP($X95,所属競技者データ!$N$11:$T$110,6)))","v":""},{"$f":"IF($X95=\"\",\"\",(VLOOKUP($X95,所属競技者データ!$N$11:$T$110,7,FALSE)))","v":""},null,null,null,null,null,null,null,null,null,null,null,null,null,null,null,null,null,null,null,null,null,"","","","","",null,"","",null,"","","","","",null,"",""]
[null,null,91,{"$f":"IF(所属競技者データ!H101=\"\",\"\",所属競技者データ!H101&\" \"&所属競技者データ!I101)","v":""},null,null,null,null,{"$f":"IF($H96=\"\",\"\",(VLOOKUP($H96,所属競技者データ!$F$11:$L$110,2,FALSE)))","v":""},null,null,{"$f":"IF($H96=\"\",\"\",(VLOOKUP($H96,所属競技者データ!$F$11:$L$110,3,FALSE)))","v":""},{"$f":"IF($H96=\"\",\"\",(VLOOKUP($H96,所属競技者データ!$F$11:$L$110,4,FALSE)))","v":""},{"$f":"IF(H96=\"\",\"\",所属競技者データ!$I$6)","v":""},{"$f":"IF($H96=\"\",\"\",(VLOOKUP($H96,所属競技者データ!$F$11:$L$110,5,FALSE)))","v":""},{"$f":"IF($H96=\"\",\"\",(VLOOKUP($H96,所属競技者データ!$F$11:$L$110,6)))","v":""},{"$f":"IF($H96=\"\",\"\",(VLOOKUP($H96,所属競技者データ!$F$11:$L$110,7,FALSE)))","v":""},null,91,{"$f":"IF(所属競技者データ!P101=\"\",\"\",所属競技者データ!P101&\" \"&所属競技者データ!Q101)","v":""},null,null,null,null,{"$f":"IF($X96=\"\",\"\",(VLOOKUP($X96,所属競技者データ!$N$11:$T$110,2,FALSE)))","v":""},null,null,{"$f":"IF($X96=\"\",\"\",(VLOOKUP($X96,所属競技者データ!$N$11:$T$110,3,FALSE)))","v":""},{"$f":"IF($X96=\"\",\"\",(VLOOKUP($X96,所属競技者データ!$N$11:$T$110,4,FALSE)))","v":""},{"$f":"IF(X96=\"\",\"\",所属競技者データ!$I$6)","v":""},{"$f":"IF($X96=\"\",\"\",(VLOOKUP($X96,所属競技者データ!$N$11:$T$110,5,FALSE)))","v":""},{"$f":"IF($X96=\"\",\"\",(VLOOKUP($X96,所属競技者データ!$N$11:$T$110,6)))","v":""},{"$f":"IF($X96=\"\",\"\",(VLOOKUP($X96,所属競技者データ!$N$11:$T$110,7,FALSE)))","v":""},null,null,null,null,null,null,null,null,null,null,null,null,null,null,null,null,null,null,null,null,null,"","","","","",null,"","",null,"","","","","",null,"",""]
[null,null,92,{"$f":"IF(所属競技者データ!H102=\"\",\"\",所属競技者データ!H102&\" \"&所属競技者データ!I102)","v":""},null,null,null,null,{"$f":"IF($H97=\"\",\"\",(VLOOKUP($H97,所属競技者データ!$F$11:$L$110,2,FALSE)))","v":""},null,null,{"$f":"IF($H97=\"\",\"\",(VLOOKUP($H97,所属競技者データ!$F$11:$L$110,3,FALSE)))","v":""},{"$f":"IF($H97=\"\",\"\",(VLOOKUP($H97,所属競技者データ!$F$11:$L$110,4,FALSE)))","v":""},{"$f":"IF(H97=\"\",\"\",所属競技者データ!$I$6)","v":""},{"$f":"IF($H97=\"\",\"\",(VLOOKUP($H97,所属競技者データ!$F$11:$L$110,5,FALSE)))","v":""},{"$f":"IF($H97=\"\",\"\",(VLOOKUP($H97,所属競技者データ!$F$11:$L$110,6)))","v":""},{"$f":"IF($H97=\"\",\"\",(VLOOKUP($H97,所属競技者データ!$F$11:$L$110,7,FALSE)))","v":""},null,92,{"$f":"IF(所属競技者データ!P102=\"\",\"\",所属競技者データ!P102&\" \"&所属競技者データ!Q102)","v":""},null,null,null,null,{"$f":"IF($X97=\"\",\"\",(VLOOKUP($X97,所属競技者データ!$N$11:$T$110,2,FALSE)))","v":""},null,null,{"$f":"IF($X97=\"\",\"\",(VLOOKUP($X97,所属競技者データ!$N$11:$T$110,3,FALSE)))","v":""},{"$f":"IF($X97=\"\",\"\",(VLOOKUP($X97,所属競技者データ!$N$11:$T$110,4,FALSE)))","v":""},{"$f":"IF(X97=\"\",\"\",所属競技者データ!$I$6)","v":""},{"$f":"IF($X97=\"\",\"\",(VLOOKUP($X97,所属競技者データ!$N$11:$T$110,5,FALSE)))","v":""},{"$f":"IF($X97=\"\",\"\",(VLOOKUP($X97,所属競技者データ!$N$11:$T$110,6)))","v":""},{"$f":"IF($X97=\"\",\"\",(VLOOKUP($X97,所属競技者データ!$N$11:$T$110,7,FALSE)))","v":""},null,null,null,null,null,null,null,null,null,null,null,null,null,null,null,null,null,null,null,null,null,"","","","","",null,"","",null,"","","","","",null,"",""]
[null,null,93,{"$f":"IF(所属競技者データ!H103=\"\",\"\",所属競技者データ!H103&\" \"&所属競技者データ!I103)","v":""},null,null,null,null,{"$f":"IF($H98=\"\",\"\",(VLOOKUP($H98,所属競技者データ!$F$11:$L$110,2,FALSE)))","v":""},null,null,{"$f":"IF($H98=\"\",\"\",(VLOOKUP($H98,所属競技者データ!$F$11:$L$110,3,FALSE)))","v":""},{"$f":"IF($H98=\"\",\"\",(VLOOKUP($H98,所属競技者データ!$F$11:$L$110,4,FALSE)))","v":""},{"$f":"IF(H98=\"\",\"\",所属競技者データ!$I$6)","v":""},{"$f":"IF($H98=\"\",\"\",(VLOOKUP($H98,所属競技者データ!$F$11:$L$110,5,FALSE)))","v":""},{"$f":"IF($H98=\"\",\"\",(VLOOKUP($H98,所属競技者データ!$F$11:$L$110,6)))","v":""},{"$f":"IF($H98=\"\",\"\",(VLOOKUP($H98,所属競技者データ!$F$11:$L$110,7,FALSE)))","v":""},null,93,{"$f":"IF(所属競技者データ!P103=\"\",\"\",所属競技者データ!P103&\" \"&所属競技者データ!Q103)","v":""},null,null,null,null,{"$f":"IF($X98=\"\",\"\",(VLOOKUP($X98,所属競技者データ!$N$11:$T$110,2,FALSE)))","v":""},null,null,{"$f":"IF($X98=\"\",\"\",(VLOOKUP($X98,所属競技者データ!$N$11:$T$110,3,FALSE)))","v":""},{"$f":"IF($X98=\"\",\"\",(VLOOKUP($X98,所属競技者データ!$N$11:$T$110,4,FALSE)))","v":""},{"$f":"IF(X98=\"\",\"\",所属競技者データ!$I$6)","v":""},{"$f":"IF($X98=\"\",\"\",(VLOOKUP($X98,所属競技者データ!$N$11:$T$110,5,FALSE)))","v":""},{"$f":"IF($X98=\"\",\"\",(VLOOKUP($X98,所属競技者データ!$N$11:$T$110,6)))","v":""},{"$f":"IF($X98=\"\",\"\",(VLOOKUP($X98,所属競技者データ!$N$11:$T$110,7,FALSE)))","v":""},null,null,null,null,null,null,null,null,null,null,null,null,null,null,null,null,null,null,null,null,null,"","","","","",null,"","",null,"","","","","",null,"",""]
[null,null,94,{"$f":"IF(所属競技者データ!H104=\"\",\"\",所属競技者データ!H104&\" \"&所属競技者データ!I104)","v":""},null,null,null,null,{"$f":"IF($H99=\"\",\"\",(VLOOKUP($H99,所属競技者データ!$F$11:$L$110,2,FALSE)))","v":""},null,null,{"$f":"IF($H99=\"\",\"\",(VLOOKUP($H99,所属競技者データ!$F$11:$L$110,3,FALSE)))","v":""},{"$f":"IF($H99=\"\",\"\",(VLOOKUP($H99,所属競技者データ!$F$11:$L$110,4,FALSE)))","v":""},{"$f":"IF(H99=\"\",\"\",所属競技者データ!$I$6)","v":""},{"$f":"IF($H99=\"\",\"\",(VLOOKUP($H99,所属競技者データ!$F$11:$L$110,5,FALSE)))","v":""},{"$f":"IF($H99=\"\",\"\",(VLOOKUP($H99,所属競技者データ!$F$11:$L$110,6)))","v":""},{"$f":"IF($H99=\"\",\"\",(VLOOKUP($H99,所属競技者データ!$F$11:$L$110,7,FALSE)))","v":""},null,94,{"$f":"IF(所属競技者データ!P104=\"\",\"\",所属競技者データ!P104&\" \"&所属競技者データ!Q104)","v":""},null,null,null,null,{"$f":"IF($X99=\"\",\"\",(VLOOKUP($X99,所属競技者データ!$N$11:$T$110,2,FALSE)))","v":""},null,null,{"$f":"IF($X99=\"\",\"\",(VLOOKUP($X99,所属競技者データ!$N$11:$T$110,3,FALSE)))","v":""},{"$f":"IF($X99=\"\",\"\",(VLOOKUP($X99,所属競技者データ!$N$11:$T$110,4,FALSE)))","v":""},{"$f":"IF(X99=\"\",\"\",所属競技者データ!$I$6)","v":""},{"$f":"IF($X99=\"\",\"\",(VLOOKUP($X99,所属競技者データ!$N$11:$T$110,5,FALSE)))","v":""},{"$f":"IF($X99=\"\",\"\",(VLOOKUP($X99,所属競技者データ!$N$11:$T$110,6)))","v":""},{"$f":"IF($X99=\"\",\"\",(VLOOKUP($X99,所属競技者データ!$N$11:$T$110,7,FALSE)))","v":""},null,null,null,null,null,null,null,null,null,null,null,null,null,null,null,null,null,null,null,null,null,"","","","","",null,"","",null,"","","","","",null,"",""]
[null,null,95,{"$f":"IF(所属競技者データ!H105=\"\",\"\",所属競技者データ!H105&\" \"&所属競技者データ!I105)","v":""},null,null,null,null,{"$f":"IF($H100=\"\",\"\",(VLOOKUP($H100,所属競技者データ!$F$11:$L$110,2,FALSE)))","v":""},null,null,{"$f":"IF($H100=\"\",\"\",(VLOOKUP($H100,所属競技者データ!$F$11:$L$110,3,FALSE)))","v":""},{"$f":"IF($H100=\"\",\"\",(VLOOKUP($H100,所属競技者データ!$F$11:$L$110,4,FALSE)))","v":""},{"$f":"IF(H100=\"\",\"\",所属競技者データ!$I$6)","v":""},{"$f":"IF($H100=\"\",\"\",(VLOOKUP($H100,所属競技者データ!$F$11:$L$110,5,FALSE)))","v":""},{"$f":"IF($H100=\"\",\"\",(VLOOKUP($H100,所属競技者データ!$F$11:$L$110,6)))","v":""},{"$f":"IF($H100=\"\",\"\",(VLOOKUP($H100,所属競技者データ!$F$11:$L$110,7,FALSE)))","v":""},null,95,{"$f":"IF(所属競技者データ!P105=\"\",\"\",所属競技者データ!P105&\" \"&所属競技者データ!Q105)","v":""},null,null,null,null,{"$f":"IF($X100=\"\",\"\",(VLOOKUP($X100,所属競技者データ!$N$11:$T$110,2,FALSE)))","v":""},null,null,{"$f":"IF($X100=\"\",\"\",(VLOOKUP($X100,所属競技者データ!$N$11:$T$110,3,FALSE)))","v":""},{"$f":"IF($X100=\"\",\"\",(VLOOKUP($X100,所属競技者データ!$N$11:$T$110,4,FALSE)))","v":""},{"$f":"IF(X100=\"\",\"\",所属競技者データ!$I$6)","v":""},{"$f":"IF($X100=\"\",\"\",(VLOOKUP($X100,所属競技者データ!$N$11:$T$110,5,FALSE)))","v":""},{"$f":"IF($X100=\"\",\"\",(VLOOKUP($X100,所属競技者データ!$N$11:$T$110,6)))","v":""},{"$f":"IF($X100=\"\",\"\",(VLOOKUP($X100,所属競技者データ!$N$11:$T$110,7,FALSE)))","v":""},null,null,null,null,null,null,null,null,null,null,null,null,null,null,null,null,null,null,null,null,null,"","","","","",null,"","",null,"","","","","",null,"",""]
[null,null,96,{"$f":"IF(所属競技者データ!H106=\"\",\"\",所属競技者データ!H106&\" \"&所属競技者データ!I106)","v":""},null,null,null,null,{"$f":"IF($H101=\"\",\"\",(VLOOKUP($H101,所属競技者データ!$F$11:$L$110,2,FALSE)))","v":""},null,null,{"$f":"IF($H101=\"\",\"\",(VLOOKUP($H101,所属競技者データ!$F$11:$L$110,3,FALSE)))","v":""},{"$f":"IF($H101=\"\",\"\",(VLOOKUP($H101,所属競技者データ!$F$11:$L$110,4,FALSE)))","v":""},{"$f":"IF(H101=\"\",\"\",所属競技者データ!$I$6)","v":""},{"$f":"IF($H101=\"\",\"\",(VLOOKUP($H101,所属競技者データ!$F$11:$L$110,5,FALSE)))","v":""},{"$f":"IF($H101=\"\",\"\",(VLOOKUP($H101,所属競技者データ!$F$11:$L$110,6)))","v":""},{"$f":"IF($H101=\"\",\"\",(VLOOKUP($H101,所属競技者データ!$F$11:$L$110,7,FALSE)))","v":""},null,96,{"$f":"IF(所属競技者データ!P106=\"\",\"\",所属競技者データ!P106&\" \"&所属競技者データ!Q106)","v":""},null,null,null,null,{"$f":"IF($X101=\"\",\"\",(VLOOKUP($X101,所属競技者データ!$N$11:$T$110,2,FALSE)))","v":""},null,null,{"$f":"IF($X101=\"\",\"\",(VLOOKUP($X101,所属競技者データ!$N$11:$T$110,3,FALSE)))","v":""},{"$f":"IF($X101=\"\",\"\",(VLOOKUP($X101,所属競技者データ!$N$11:$T$110,4,FALSE)))","v":""},{"$f":"IF(X101=\"\",\"\",所属競技者データ!$I$6)","v":""},{"$f":"IF($X101=\"\",\"\",(VLOOKUP($X101,所属競技者データ!$N$11:$T$110,5,FALSE)))","v":""},{"$f":"IF($X101=\"\",\"\",(VLOOKUP($X101,所属競技者データ!$N$11:$T$110,6)))","v":""},{"$f":"IF($X101=\"\",\"\",(VLOOKUP($X101,所属競技者データ!$N$11:$T$110,7,FALSE)))","v":""},null,null,null,null,null,null,null,null,null,null,null,null,null,null,null,null,null,null,null,null,null,"","","","","",null,"","",null,"","","","","",null,"",""]
[null,null,97,{"$f":"IF(所属競技者データ!H107=\"\",\"\",所属競技者データ!H107&\" \"&所属競技者データ!I107)","v":""},null,null,null,null,{"$f":"IF($H102=\"\",\"\",(VLOOKUP($H102,所属競技者データ!$F$11:$L$110,2,FALSE)))","v":""},null,null,{"$f":"IF($H102=\"\",\"\",(VLOOKUP($H102,所属競技者データ!$F$11:$L$110,3,FALSE)))","v":""},{"$f":"IF($H102=\"\",\"\",(VLOOKUP($H102,所属競技者データ!$F$11:$L$110,4,FALSE)))","v":""},{"$f":"IF(H102=\"\",\"\",所属競技者データ!$I$6)","v":""},{"$f":"IF($H102=\"\",\"\",(VLOOKUP($H102,所属競技者データ!$F$11:$L$110,5,FALSE)))","v":""},{"$f":"IF($H102=\"\",\"\",(VLOOKUP($H102,所属競技者データ!$F$11:$L$110,6)))","v":""},{"$f":"IF($H102=\"\",\"\",(VLOOKUP($H102,所属競技者データ!$F$11:$L$110,7,FALSE)))","v":""},null,97,{"$f":"IF(所属競技者データ!P107=\"\",\"\",所属競技者データ!P107&\" \"&所属競技者データ!Q107)","v":""},null,null,null,null,{"$f":"IF($X102=\"\",\"\",(VLOOKUP($X102,所属競技者データ!$N$11:$T$110,2,FALSE)))","v":""},null,null,{"$f":"IF($X102=\"\",\"\",(VLOOKUP($X102,所属競技者データ!$N$11:$T$110,3,FALSE)))","v":""},{"$f":"IF($X102=\"\",\"\",(VLOOKUP($X102,所属競技者データ!$N$11:$T$110,4,FALSE)))","v":""},{"$f":"IF(X102=\"\",\"\",所属競技者データ!$I$6)","v":""},{"$f":"IF($X102=\"\",\"\",(VLOOKUP($X102,所属競技者データ!$N$11:$T$110,5,FALSE)))","v":""},{"$f":"IF($X102=\"\",\"\",(VLOOKUP($X102,所属競技者データ!$N$11:$T$110,6)))","v":""},{"$f":"IF($X102=\"\",\"\",(VLOOKUP($X102,所属競技者データ!$N$11:$T$110,7,FALSE)))","v":""},null,null,null,null,null,null,null,null,null,null,null,null,null,null,null,null,null,null,null,null,null,"","","","","",null,"","",null,"","","","","",null,"",""]
[null,null,98,{"$f":"IF(所属競技者データ!H108=\"\",\"\",所属競技者データ!H108&\" \"&所属競技者データ!I108)","v":""},null,null,null,null,{"$f":"IF($H103=\"\",\"\",(VLOOKUP($H103,所属競技者データ!$F$11:$L$110,2,FALSE)))","v":""},null,null,{"$f":"IF($H103=\"\",\"\",(VLOOKUP($H103,所属競技者データ!$F$11:$L$110,3,FALSE)))","v":""},{"$f":"IF($H103=\"\",\"\",(VLOOKUP($H103,所属競技者データ!$F$11:$L$110,4,FALSE)))","v":""},{"$f":"IF(H103=\"\",\"\",所属競技者データ!$I$6)","v":""},{"$f":"IF($H103=\"\",\"\",(VLOOKUP($H103,所属競技者データ!$F$11:$L$110,5,FALSE)))","v":""},{"$f":"IF($H103=\"\",\"\",(VLOOKUP($H103,所属競技者データ!$F$11:$L$110,6)))","v":""},{"$f":"IF($H103=\"\",\"\",(VLOOKUP($H103,所属競技者データ!$F$11:$L$110,7,FALSE)))","v":""},null,98,{"$f":"IF(所属競技者データ!P108=\"\",\"\",所属競技者データ!P108&\" \"&所属競技者データ!Q108)","v":""},null,null,null,null,{"$f":"IF($X103=\"\",\"\",(VLOOKUP($X103,所属競技者データ!$N$11:$T$110,2,FALSE)))","v":""},null,null,{"$f":"IF($X103=\"\",\"\",(VLOOKUP($X103,所属競技者データ!$N$11:$T$110,3,FALSE)))","v":""},{"$f":"IF($X103=\"\",\"\",(VLOOKUP($X103,所属競技者データ!$N$11:$T$110,4,FALSE)))","v":""},{"$f":"IF(X103=\"\",\"\",所属競技者データ!$I$6)","v":""},{"$f":"IF($X103=\"\",\"\",(VLOOKUP($X103,所属競技者データ!$N$11:$T$110,5,FALSE)))","v":""},{"$f":"IF($X103=\"\",\"\",(VLOOKUP($X103,所属競技者データ!$N$11:$T$110,6)))","v":""},{"$f":"IF($X103=\"\",\"\",(VLOOKUP($X103,所属競技者データ!$N$11:$T$110,7,FALSE)))","v":""},null,null,null,null,null,null,null,null,null,null,null,null,null,null,null,null,null,null,null,null,null,"","","","","",null,"","",null,"","","","","",null,"",""]
[null,null,99,{"$f":"IF(所属競技者データ!H109=\"\",\"\",所属競技者データ!H109&\" \"&所属競技者データ!I109)","v":""},null,null,null,null,{"$f":"IF($H104=\"\",\"\",(VLOOKUP($H104,所属競技者データ!$F$11:$L$110,2,FALSE)))","v":""},null,null,{"$f":"IF($H104=\"\",\"\",(VLOOKUP($H104,所属競技者データ!$F$11:$L$110,3,FALSE)))","v":""},{"$f":"IF($H104=\"\",\"\",(VLOOKUP($H104,所属競技者データ!$F$11:$L$110,4,FALSE)))","v":""},{"$f":"IF(H104=\"\",\"\",所属競技者データ!$I$6)","v":""},{"$f":"IF($H104=\"\",\"\",(VLOOKUP($H104,所属競技者データ!$F$11:$L$110,5,FALSE)))","v":""},{"$f":"IF($H104=\"\",\"\",(VLOOKUP($H104,所属競技者データ!$F$11:$L$110,6)))","v":""},{"$f":"IF($H104=\"\",\"\",(VLOOKUP($H104,所属競技者データ!$F$11:$L$110,7,FALSE)))","v":""},null,99,{"$f":"IF(所属競技者データ!P109=\"\",\"\",所属競技者データ!P109&\" \"&所属競技者データ!Q109)","v":""},null,null,null,null,{"$f":"IF($X104=\"\",\"\",(VLOOKUP($X104,所属競技者データ!$N$11:$T$110,2,FALSE)))","v":""},null,null,{"$f":"IF($X104=\"\",\"\",(VLOOKUP($X104,所属競技者データ!$N$11:$T$110,3,FALSE)))","v":""},{"$f":"IF($X104=\"\",\"\",(VLOOKUP($X104,所属競技者データ!$N$11:$T$110,4,FALSE)))","v":""},{"$f":"IF(X104=\"\",\"\",所属競技者データ!$I$6)","v":""},{"$f":"IF($X104=\"\",\"\",(VLOOKUP($X104,所属競技者データ!$N$11:$T$110,5,FALSE)))","v":""},{"$f":"IF($X104=\"\",\"\",(VLOOKUP($X104,所属競技者データ!$N$11:$T$110,6)))","v":""},{"$f":"IF($X104=\"\",\"\",(VLOOKUP($X104,所属競技者データ!$N$11:$T$110,7,FALSE)))","v":""},null,null,null,null,null,null,null,null,null,null,null,null,null,null,null,null,null,null,null,null,null,"","","","","",null,"","",null,"","","","","",null,"",""]
[null,null,100,{"$f":"IF(所属競技者データ!H110=\"\",\"\",所属競技者データ!H110&\" \"&所属競技者データ!I110)","v":""},null,null,null,null,{"$f":"IF($H105=\"\",\"\",(VLOOKUP($H105,所属競技者データ!$F$11:$L$110,2,FALSE)))","v":""},null,null,{"$f":"IF($H105=\"\",\"\",(VLOOKUP($H105,所属競技者データ!$F$11:$L$110,3,FALSE)))","v":""},{"$f":"IF($H105=\"\",\"\",(VLOOKUP($H105,所属競技者データ!$F$11:$L$110,4,FALSE)))","v":""},{"$f":"IF(H105=\"\",\"\",所属競技者データ!$I$6)","v":""},{"$f":"IF($H105=\"\",\"\",(VLOOKUP($H105,所属競技者データ!$F$11:$L$110,5,FALSE)))","v":""},{"$f":"IF($H105=\"\",\"\",(VLOOKUP($H105,所属競技者データ!$F$11:$L$110,6)))","v":""},{"$f":"IF($H105=\"\",\"\",(VLOOKUP($H105,所属競技者データ!$F$11:$L$110,7,FALSE)))","v":""},null,100,{"$f":"IF(所属競技者データ!P110=\"\",\"\",所属競技者データ!P110&\" \"&所属競技者データ!Q110)","v":""},null,null,null,null,{"$f":"IF($X105=\"\",\"\",(VLOOKUP($X105,所属競技者データ!$N$11:$T$110,2,FALSE)))","v":""},null,null,{"$f":"IF($X105=\"\",\"\",(VLOOKUP($X105,所属競技者データ!$N$11:$T$110,3,FALSE)))","v":""},{"$f":"IF($X105=\"\",\"\",(VLOOKUP($X105,所属競技者データ!$N$11:$T$110,4,FALSE)))","v":""},{"$f":"IF(X105=\"\",\"\",所属競技者データ!$I$6)","v":""},{"$f":"IF($X105=\"\",\"\",(VLOOKUP($X105,所属競技者データ!$N$11:$T$110,5,FALSE)))","v":""},{"$f":"IF($X105=\"\",\"\",(VLOOKUP($X105,所属競技者データ!$N$11:$T$110,6)))","v":""},{"$f":"IF($X105=\"\",\"\",(VLOOKUP($X105,所属競技者データ!$N$11:$T$110,7,FALSE)))","v":""},null,null,null,null,null,null,null,null,null,null,null,null,null,null,null,null,null,null,null,null,null,"","","","","",null,"","",null,"","","","","",null,"",""]
[null,null,null,null,null,null,null,null,{"$f":"IF($H106=\"\",\"\",(VLOOKUP($H106,所属競技者データ!$F$11:$L$110,2,FALSE)))","v":""},null,null,{"$f":"IF($H106=\"\",\"\",(VLOOKUP($H106,所属競技者データ!$F$11:$L$110,3,FALSE)))","v":""},{"$f":"IF($H106=\"\",\"\",(VLOOKUP($H106,所属競技者データ!$F$11:$L$110,4,FALSE)))","v":""},{"$f":"IF(H106=\"\",\"\",所属競技者データ!$I$6)","v":""},{"$f":"IF($H106=\"\",\"\",(VLOOKUP($H106,所属競技者データ!$F$11:$L$110,5,FALSE)))","v":""},{"$f":"IF($H106=\"\",\"\",(VLOOKUP($H106,所属競技者データ!$F$11:$L$110,6)))","v":""},{"$f":"IF($H106=\"\",\"\",(VLOOKUP($H106,所属競技者データ!$F$11:$L$110,7,FALSE)))","v":""},null,null,null,null,null,null,null,{"$f":"IF($X106=\"\",\"\",(VLOOKUP($X106,所属競技者データ!$N$11:$T$110,2,FALSE)))","v":""},null,null,{"$f":"IF($X106=\"\",\"\",(VLOOKUP($X106,所属競技者データ!$N$11:$T$110,3,FALSE)))","v":""},{"$f":"IF($X106=\"\",\"\",(VLOOKUP($X106,所属競技者データ!$N$11:$T$110,4,FALSE)))","v":""},{"$f":"IF(X106=\"\",\"\",所属競技者データ!$I$6)","v":""},{"$f":"IF($X106=\"\",\"\",(VLOOKUP($X106,所属競技者データ!$N$11:$T$110,5,FALSE)))","v":""},{"$f":"IF($X106=\"\",\"\",(VLOOKUP($X106,所属競技者データ!$N$11:$T$110,6)))","v":""},{"$f":"IF($X106=\"\",\"\",(VLOOKUP($X106,所属競技者データ!$N$11:$T$110,7,FALSE)))","v":""},null,null,null,null,null,null,null,null,null,null,null,null,null,null,null,null,null,null,null,null,null,"","","","","",null,"","",null,"","","","","",null,"",""]
[null,null,null,null,null,null,null,null,{"$f":"IF($H107=\"\",\"\",(VLOOKUP($H107,所属競技者データ!$F$11:$L$110,2,FALSE)))","v":""},null,null,{"$f":"IF($H107=\"\",\"\",(VLOOKUP($H107,所属競技者データ!$F$11:$L$110,3,FALSE)))","v":""},{"$f":"IF($H107=\"\",\"\",(VLOOKUP($H107,所属競技者データ!$F$11:$L$110,4,FALSE)))","v":""},{"$f":"IF(H107=\"\",\"\",所属競技者データ!$I$6)","v":""},{"$f":"IF($H107=\"\",\"\",(VLOOKUP($H107,所属競技者データ!$F$11:$L$110,5,FALSE)))","v":""},{"$f":"IF($H107=\"\",\"\",(VLOOKUP($H107,所属競技者データ!$F$11:$L$110,6)))","v":""},{"$f":"IF($H107=\"\",\"\",(VLOOKUP($H107,所属競技者データ!$F$11:$L$110,7,FALSE)))","v":""},null,null,null,null,null,null,null,{"$f":"IF($X107=\"\",\"\",(VLOOKUP($X107,所属競技者データ!$N$11:$T$110,2,FALSE)))","v":""},null,null,{"$f":"IF($X107=\"\",\"\",(VLOOKUP($X107,所属競技者データ!$N$11:$T$110,3,FALSE)))","v":""},{"$f":"IF($X107=\"\",\"\",(VLOOKUP($X107,所属競技者データ!$N$11:$T$110,4,FALSE)))","v":""},{"$f":"IF(X107=\"\",\"\",所属競技者データ!$I$6)","v":""},{"$f":"IF($X107=\"\",\"\",(VLOOKUP($X107,所属競技者データ!$N$11:$T$110,5,FALSE)))","v":""},{"$f":"IF($X107=\"\",\"\",(VLOOKUP($X107,所属競技者データ!$N$11:$T$110,6)))","v":""},{"$f":"IF($X107=\"\",\"\",(VLOOKUP($X107,所属競技者データ!$N$11:$T$110,7,FALSE)))","v":""},null,null,null,null,null,null,null,null,null,null,null,null,null,null,null,null,null,null,null,null,null,"","","","","",null,"","",null,"","","","","",null,"",""]
[null,null,null,null,null,null,null,null,{"$f":"IF($H108=\"\",\"\",(VLOOKUP($H108,所属競技者データ!$F$11:$L$110,2,FALSE)))","v":""},null,null,{"$f":"IF($H108=\"\",\"\",(VLOOKUP($H108,所属競技者データ!$F$11:$L$110,3,FALSE)))","v":""},{"$f":"IF($H108=\"\",\"\",(VLOOKUP($H108,所属競技者データ!$F$11:$L$110,4,FALSE)))","v":""},{"$f":"IF(H108=\"\",\"\",所属競技者データ!$I$6)","v":""},{"$f":"IF($H108=\"\",\"\",(VLOOKUP($H108,所属競技者データ!$F$11:$L$110,5,FALSE)))","v":""},{"$f":"IF($H108=\"\",\"\",(VLOOKUP($H108,所属競技者データ!$F$11:$L$110,6)))","v":""},{"$f":"IF($H108=\"\",\"\",(VLOOKUP($H108,所属競技者データ!$F$11:$L$110,7,FALSE)))","v":""},null,null,null,null,null,null,null,{"$f":"IF($X108=\"\",\"\",(VLOOKUP($X108,所属競技者データ!$N$11:$T$110,2,FALSE)))","v":""},null,null,{"$f":"IF($X108=\"\",\"\",(VLOOKUP($X108,所属競技者データ!$N$11:$T$110,3,FALSE)))","v":""},{"$f":"IF($X108=\"\",\"\",(VLOOKUP($X108,所属競技者データ!$N$11:$T$110,4,FALSE)))","v":""},{"$f":"IF(X108=\"\",\"\",所属競技者データ!$I$6)","v":""},{"$f":"IF($X108=\"\",\"\",(VLOOKUP($X108,所属競技者データ!$N$11:$T$110,5,FALSE)))","v":""},{"$f":"IF($X108=\"\",\"\",(VLOOKUP($X108,所属競技者データ!$N$11:$T$110,6)))","v":""},{"$f":"IF($X108=\"\",\"\",(VLOOKUP($X108,所属競技者データ!$N$11:$T$110,7,FALSE)))","v":""},null,null,null,null,null,null,null,null,null,null,null,null,null,null,null,null,null,null,null,null,null,"","","","","",null,"","",null,"","","","","",null,"",""]
[null,null,null,null,null,null,null,null,{"$f":"IF($H109=\"\",\"\",(VLOOKUP($H109,所属競技者データ!$F$11:$L$110,2,FALSE)))","v":""},null,null,{"$f":"IF($H109=\"\",\"\",(VLOOKUP($H109,所属競技者データ!$F$11:$L$110,3,FALSE)))","v":""},{"$f":"IF($H109=\"\",\"\",(VLOOKUP($H109,所属競技者データ!$F$11:$L$110,4,FALSE)))","v":""},{"$f":"IF(H109=\"\",\"\",所属競技者データ!$I$6)","v":""},{"$f":"IF($H109=\"\",\"\",(VLOOKUP($H109,所属競技者データ!$F$11:$L$110,5,FALSE)))","v":""},{"$f":"IF($H109=\"\",\"\",(VLOOKUP($H109,所属競技者データ!$F$11:$L$110,6)))","v":""},{"$f":"IF($H109=\"\",\"\",(VLOOKUP($H109,所属競技者データ!$F$11:$L$110,7,FALSE)))","v":""},null,null,null,null,null,null,null,{"$f":"IF($X109=\"\",\"\",(VLOOKUP($X109,所属競技者データ!$N$11:$T$110,2,FALSE)))","v":""},null,null,{"$f":"IF($X109=\"\",\"\",(VLOOKUP($X109,所属競技者データ!$N$11:$T$110,3,FALSE)))","v":""},{"$f":"IF($X109=\"\",\"\",(VLOOKUP($X109,所属競技者データ!$N$11:$T$110,4,FALSE)))","v":""},{"$f":"IF(X109=\"\",\"\",所属競技者データ!$I$6)","v":""},{"$f":"IF($X109=\"\",\"\",(VLOOKUP($X109,所属競技者データ!$N$11:$T$110,5,FALSE)))","v":""},{"$f":"IF($X109=\"\",\"\",(VLOOKUP($X109,所属競技者データ!$N$11:$T$110,6)))","v":""},{"$f":"IF($X109=\"\",\"\",(VLOOKUP($X109,所属競技者データ!$N$11:$T$110,7,FALSE)))","v":""},null,null,null,null,null,null,null,null,null,null,null,null,null,null,null,null,null,null,null,null,null,"","","","","",null,"","",null,"","","","","",null,"",""]
[null,null,null,null,null,null,null,null,{"$f":"IF($H110=\"\",\"\",(VLOOKUP($H110,所属競技者データ!$F$11:$L$110,2,FALSE)))","v":""},null,null,{"$f":"IF($H110=\"\",\"\",(VLOOKUP($H110,所属競技者データ!$F$11:$L$110,3,FALSE)))","v":""},{"$f":"IF($H110=\"\",\"\",(VLOOKUP($H110,所属競技者データ!$F$11:$L$110,4,FALSE)))","v":""},{"$f":"IF(H110=\"\",\"\",所属競技者データ!$I$6)","v":""},{"$f":"IF($H110=\"\",\"\",(VLOOKUP($H110,所属競技者データ!$F$11:$L$110,5,FALSE)))","v":""},{"$f":"IF($H110=\"\",\"\",(VLOOKUP($H110,所属競技者データ!$F$11:$L$110,6)))","v":""},{"$f":"IF($H110=\"\",\"\",(VLOOKUP($H110,所属競技者データ!$F$11:$L$110,7,FALSE)))","v":""},null,null,null,null,null,null,null,{"$f":"IF($X110=\"\",\"\",(VLOOKUP($X110,所属競技者データ!$N$11:$T$110,2,FALSE)))","v":""},null,null,{"$f":"IF($X110=\"\",\"\",(VLOOKUP($X110,所属競技者データ!$N$11:$T$110,3,FALSE)))","v":""},{"$f":"IF($X110=\"\",\"\",(VLOOKUP($X110,所属競技者データ!$N$11:$T$110,4,FALSE)))","v":""},{"$f":"IF(X110=\"\",\"\",所属競技者データ!$I$6)","v":""},{"$f":"IF($X110=\"\",\"\",(VLOOKUP($X110,所属競技者データ!$N$11:$T$110,5,FALSE)))","v":""},{"$f":"IF($X110=\"\",\"\",(VLOOKUP($X110,所属競技者データ!$N$11:$T$110,6)))","v":""},{"$f":"IF($X110=\"\",\"\",(VLOOKUP($X110,所属競技者データ!$N$11:$T$110,7,FALSE)))","v":""},null,null,null,null,null,null,null,null,null,null,null,null,null,null,null,null,null,null,null,null,null,"","","","","",null,"","",null,"","","","","",null,"",""]
[null,null,null,null,null,null,null,null,{"$f":"IF($H111=\"\",\"\",(VLOOKUP($H111,所属競技者データ!$F$11:$L$110,2,FALSE)))","v":""},null,null,{"$f":"IF($H111=\"\",\"\",(VLOOKUP($H111,所属競技者データ!$F$11:$L$110,3,FALSE)))","v":""},{"$f":"IF($H111=\"\",\"\",(VLOOKUP($H111,所属競技者データ!$F$11:$L$110,4,FALSE)))","v":""},{"$f":"IF(H111=\"\",\"\",所属競技者データ!$I$6)","v":""},{"$f":"IF($H111=\"\",\"\",(VLOOKUP($H111,所属競技者データ!$F$11:$L$110,5,FALSE)))","v":""},{"$f":"IF($H111=\"\",\"\",(VLOOKUP($H111,所属競技者データ!$F$11:$L$110,6)))","v":""},{"$f":"IF($H111=\"\",\"\",(VLOOKUP($H111,所属競技者データ!$F$11:$L$110,7,FALSE)))","v":""},null,null,null,null,null,null,null,{"$f":"IF($X111=\"\",\"\",(VLOOKUP($X111,所属競技者データ!$N$11:$T$110,2,FALSE)))","v":""},null,null,{"$f":"IF($X111=\"\",\"\",(VLOOKUP($X111,所属競技者データ!$N$11:$T$110,3,FALSE)))","v":""},{"$f":"IF($X111=\"\",\"\",(VLOOKUP($X111,所属競技者データ!$N$11:$T$110,4,FALSE)))","v":""},{"$f":"IF(X111=\"\",\"\",所属競技者データ!$I$6)","v":""},{"$f":"IF($X111=\"\",\"\",(VLOOKUP($X111,所属競技者データ!$N$11:$T$110,5,FALSE)))","v":""},{"$f":"IF($X111=\"\",\"\",(VLOOKUP($X111,所属競技者データ!$N$11:$T$110,6)))","v":""},{"$f":"IF($X111=\"\",\"\",(VLOOKUP($X111,所属競技者データ!$N$11:$T$110,7,FALSE)))","v":""},null,null,null,null,null,null,null,null,null,null,null,null,null,null,null,null,null,null,null,null,null,"","","","","",null,"","",null,"","","","","",null,"",""]
[null,null,null,null,null,null,null,null,{"$f":"IF($H112=\"\",\"\",(VLOOKUP($H112,所属競技者データ!$F$11:$L$110,2,FALSE)))","v":""},null,null,{"$f":"IF($H112=\"\",\"\",(VLOOKUP($H112,所属競技者データ!$F$11:$L$110,3,FALSE)))","v":""},{"$f":"IF($H112=\"\",\"\",(VLOOKUP($H112,所属競技者データ!$F$11:$L$110,4,FALSE)))","v":""},{"$f":"IF(H112=\"\",\"\",所属競技者データ!$I$6)","v":""},{"$f":"IF($H112=\"\",\"\",(VLOOKUP($H112,所属競技者データ!$F$11:$L$110,5,FALSE)))","v":""},{"$f":"IF($H112=\"\",\"\",(VLOOKUP($H112,所属競技者データ!$F$11:$L$110,6)))","v":""},{"$f":"IF($H112=\"\",\"\",(VLOOKUP($H112,所属競技者データ!$F$11:$L$110,7,FALSE)))","v":""},null,null,null,null,null,null,null,{"$f":"IF($X112=\"\",\"\",(VLOOKUP($X112,所属競技者データ!$N$11:$T$110,2,FALSE)))","v":""},null,null,{"$f":"IF($X112=\"\",\"\",(VLOOKUP($X112,所属競技者データ!$N$11:$T$110,3,FALSE)))","v":""},{"$f":"IF($X112=\"\",\"\",(VLOOKUP($X112,所属競技者データ!$N$11:$T$110,4,FALSE)))","v":""},{"$f":"IF(X112=\"\",\"\",所属競技者データ!$I$6)","v":""},{"$f":"IF($X112=\"\",\"\",(VLOOKUP($X112,所属競技者データ!$N$11:$T$110,5,FALSE)))","v":""},{"$f":"IF($X112=\"\",\"\",(VLOOKUP($X112,所属競技者データ!$N$11:$T$110,6)))","v":""},{"$f":"IF($X112=\"\",\"\",(VLOOKUP($X112,所属競技者データ!$N$11:$T$110,7,FALSE)))","v":""},null,null,null,null,null,null,null,null,null,null,null,null,null,null,null,null,null,null,null,null,null,"","","","","",null,"","",null,"","","","","",null,"",""]
[null,null,null,null,null,null,null,null,{"$f":"IF($H113=\"\",\"\",(VLOOKUP($H113,所属競技者データ!$F$11:$L$110,2,FALSE)))","v":""},null,null,{"$f":"IF($H113=\"\",\"\",(VLOOKUP($H113,所属競技者データ!$F$11:$L$110,3,FALSE)))","v":""},{"$f":"IF($H113=\"\",\"\",(VLOOKUP($H113,所属競技者データ!$F$11:$L$110,4,FALSE)))","v":""},{"$f":"IF(H113=\"\",\"\",所属競技者データ!$I$6)","v":""},{"$f":"IF($H113=\"\",\"\",(VLOOKUP($H113,所属競技者データ!$F$11:$L$110,5,FALSE)))","v":""},{"$f":"IF($H113=\"\",\"\",(VLOOKUP($H113,所属競技者データ!$F$11:$L$110,6)))","v":""},{"$f":"IF($H113=\"\",\"\",(VLOOKUP($H113,所属競技者データ!$F$11:$L$110,7,FALSE)))","v":""},null,null,null,null,null,null,null,{"$f":"IF($X113=\"\",\"\",(VLOOKUP($X113,所属競技者データ!$N$11:$T$110,2,FALSE)))","v":""},null,null,{"$f":"IF($X113=\"\",\"\",(VLOOKUP($X113,所属競技者データ!$N$11:$T$110,3,FALSE)))","v":""},{"$f":"IF($X113=\"\",\"\",(VLOOKUP($X113,所属競技者データ!$N$11:$T$110,4,FALSE)))","v":""},{"$f":"IF(X113=\"\",\"\",所属競技者データ!$I$6)","v":""},{"$f":"IF($X113=\"\",\"\",(VLOOKUP($X113,所属競技者データ!$N$11:$T$110,5,FALSE)))","v":""},{"$f":"IF($X113=\"\",\"\",(VLOOKUP($X113,所属競技者データ!$N$11:$T$110,6)))","v":""},{"$f":"IF($X113=\"\",\"\",(VLOOKUP($X113,所属競技者データ!$N$11:$T$110,7,FALSE)))","v":""},null,null,null,null,null,null,null,null,null,null,null,null,null,null,null,null,null,null,null,null,null,"","","","","",null,"","",null,"","","","","",null,"",""]
[null,null,null,null,null,null,null,null,{"$f":"IF($H114=\"\",\"\",(VLOOKUP($H114,所属競技者データ!$F$11:$L$110,2,FALSE)))","v":""},null,null,{"$f":"IF($H114=\"\",\"\",(VLOOKUP($H114,所属競技者データ!$F$11:$L$110,3,FALSE)))","v":""},{"$f":"IF($H114=\"\",\"\",(VLOOKUP($H114,所属競技者データ!$F$11:$L$110,4,FALSE)))","v":""},{"$f":"IF(H114=\"\",\"\",所属競技者データ!$I$6)","v":""},{"$f":"IF($H114=\"\",\"\",(VLOOKUP($H114,所属競技者データ!$F$11:$L$110,5,FALSE)))","v":""},{"$f":"IF($H114=\"\",\"\",(VLOOKUP($H114,所属競技者データ!$F$11:$L$110,6)))","v":""},{"$f":"IF($H114=\"\",\"\",(VLOOKUP($H114,所属競技者データ!$F$11:$L$110,7,FALSE)))","v":""},null,null,null,null,null,null,null,{"$f":"IF($X114=\"\",\"\",(VLOOKUP($X114,所属競技者データ!$N$11:$T$110,2,FALSE)))","v":""},null,null,{"$f":"IF($X114=\"\",\"\",(VLOOKUP($X114,所属競技者データ!$N$11:$T$110,3,FALSE)))","v":""},{"$f":"IF($X114=\"\",\"\",(VLOOKUP($X114,所属競技者データ!$N$11:$T$110,4,FALSE)))","v":""},{"$f":"IF(X114=\"\",\"\",所属競技者データ!$I$6)","v":""},{"$f":"IF($X114=\"\",\"\",(VLOOKUP($X114,所属競技者データ!$N$11:$T$110,5,FALSE)))","v":""},{"$f":"IF($X114=\"\",\"\",(VLOOKUP($X114,所属競技者データ!$N$11:$T$110,6)))","v":""},{"$f":"IF($X114=\"\",\"\",(VLOOKUP($X114,所属競技者データ!$N$11:$T$110,7,FALSE)))","v":""},null,null,null,null,null,null,null,null,null,null,null,null,null,null,null,null,null,null,null,null,null,"","","","","",null,"","",null,"","","","","",null,"",""]
[null,null,null,null,null,null,null,null,{"$f":"IF($H115=\"\",\"\",(VLOOKUP($H115,所属競技者データ!$F$11:$L$110,2,FALSE)))","v":""},null,null,{"$f":"IF($H115=\"\",\"\",(VLOOKUP($H115,所属競技者データ!$F$11:$L$110,3,FALSE)))","v":""},{"$f":"IF($H115=\"\",\"\",(VLOOKUP($H115,所属競技者データ!$F$11:$L$110,4,FALSE)))","v":""},{"$f":"IF(H115=\"\",\"\",所属競技者データ!$I$6)","v":""},{"$f":"IF($H115=\"\",\"\",(VLOOKUP($H115,所属競技者データ!$F$11:$L$110,5,FALSE)))","v":""},{"$f":"IF($H115=\"\",\"\",(VLOOKUP($H115,所属競技者データ!$F$11:$L$110,6)))","v":""},{"$f":"IF($H115=\"\",\"\",(VLOOKUP($H115,所属競技者データ!$F$11:$L$110,7,FALSE)))","v":""},null,null,null,null,null,null,null,{"$f":"IF($X115=\"\",\"\",(VLOOKUP($X115,所属競技者データ!$N$11:$T$110,2,FALSE)))","v":""},null,null,{"$f":"IF($X115=\"\",\"\",(VLOOKUP($X115,所属競技者データ!$N$11:$T$110,3,FALSE)))","v":""},{"$f":"IF($X115=\"\",\"\",(VLOOKUP($X115,所属競技者データ!$N$11:$T$110,4,FALSE)))","v":""},{"$f":"IF(X115=\"\",\"\",所属競技者データ!$I$6)","v":""},{"$f":"IF($X115=\"\",\"\",(VLOOKUP($X115,所属競技者データ!$N$11:$T$110,5,FALSE)))","v":""},{"$f":"IF($X115=\"\",\"\",(VLOOKUP($X115,所属競技者データ!$N$11:$T$110,6)))","v":""},{"$f":"IF($X115=\"\",\"\",(VLOOKUP($X115,所属競技者データ!$N$11:$T$110,7,FALSE)))","v":""},null,null,null,null,null,null,null,null,null,null,null,null,null,null,null,null,null,null,null,null,null,"","","","","",null,"","",null,"","","","","",null,"",""]
[null,null,null,null,null,null,null,null,{"$f":"IF($H116=\"\",\"\",(VLOOKUP($H116,所属競技者データ!$F$11:$L$110,2,FALSE)))","v":""},null,null,{"$f":"IF($H116=\"\",\"\",(VLOOKUP($H116,所属競技者データ!$F$11:$L$110,3,FALSE)))","v":""},{"$f":"IF($H116=\"\",\"\",(VLOOKUP($H116,所属競技者データ!$F$11:$L$110,4,FALSE)))","v":""},{"$f":"IF(H116=\"\",\"\",所属競技者データ!$I$6)","v":""},{"$f":"IF($H116=\"\",\"\",(VLOOKUP($H116,所属競技者データ!$F$11:$L$110,5,FALSE)))","v":""},{"$f":"IF($H116=\"\",\"\",(VLOOKUP($H116,所属競技者データ!$F$11:$L$110,6)))","v":""},{"$f":"IF($H116=\"\",\"\",(VLOOKUP($H116,所属競技者データ!$F$11:$L$110,7,FALSE)))","v":""},null,null,null,null,null,null,null,{"$f":"IF($X116=\"\",\"\",(VLOOKUP($X116,所属競技者データ!$N$11:$T$110,2,FALSE)))","v":""},null,null,{"$f":"IF($X116=\"\",\"\",(VLOOKUP($X116,所属競技者データ!$N$11:$T$110,3,FALSE)))","v":""},{"$f":"IF($X116=\"\",\"\",(VLOOKUP($X116,所属競技者データ!$N$11:$T$110,4,FALSE)))","v":""},{"$f":"IF(X116=\"\",\"\",所属競技者データ!$I$6)","v":""},{"$f":"IF($X116=\"\",\"\",(VLOOKUP($X116,所属競技者データ!$N$11:$T$110,5,FALSE)))","v":""},{"$f":"IF($X116=\"\",\"\",(VLOOKUP($X116,所属競技者データ!$N$11:$T$110,6)))","v":""},{"$f":"IF($X116=\"\",\"\",(VLOOKUP($X116,所属競技者データ!$N$11:$T$110,7,FALSE)))","v":""},null,null,null,null,null,null,null,null,null,null,null,null,null,null,null,null,null,null,null,null,null,"","","","","",null,"","",null,"","","","","",null,"",""]
[null,null,null,null,null,null,null,null,{"$f":"IF($H117=\"\",\"\",(VLOOKUP($H117,所属競技者データ!$F$11:$L$110,2,FALSE)))","v":""},null,null,{"$f":"IF($H117=\"\",\"\",(VLOOKUP($H117,所属競技者データ!$F$11:$L$110,3,FALSE)))","v":""},{"$f":"IF($H117=\"\",\"\",(VLOOKUP($H117,所属競技者データ!$F$11:$L$110,4,FALSE)))","v":""},{"$f":"IF(H117=\"\",\"\",所属競技者データ!$I$6)","v":""},{"$f":"IF($H117=\"\",\"\",(VLOOKUP($H117,所属競技者データ!$F$11:$L$110,5,FALSE)))","v":""},{"$f":"IF($H117=\"\",\"\",(VLOOKUP($H117,所属競技者データ!$F$11:$L$110,6)))","v":""},{"$f":"IF($H117=\"\",\"\",(VLOOKUP($H117,所属競技者データ!$F$11:$L$110,7,FALSE)))","v":""},null,null,null,null,null,null,null,{"$f":"IF($X117=\"\",\"\",(VLOOKUP($X117,所属競技者データ!$N$11:$T$110,2,FALSE)))","v":""},null,null,{"$f":"IF($X117=\"\",\"\",(VLOOKUP($X117,所属競技者データ!$N$11:$T$110,3,FALSE)))","v":""},{"$f":"IF($X117=\"\",\"\",(VLOOKUP($X117,所属競技者データ!$N$11:$T$110,4,FALSE)))","v":""},{"$f":"IF(X117=\"\",\"\",所属競技者データ!$I$6)","v":""},{"$f":"IF($X117=\"\",\"\",(VLOOKUP($X117,所属競技者データ!$N$11:$T$110,5,FALSE)))","v":""},{"$f":"IF($X117=\"\",\"\",(VLOOKUP($X117,所属競技者データ!$N$11:$T$110,6)))","v":""},{"$f":"IF($X117=\"\",\"\",(VLOOKUP($X117,所属競技者データ!$N$11:$T$110,7,FALSE)))","v":""},null,null,null,null,null,null,null,null,null,null,null,null,null,null,null,null,null,null,null,null,null,"","","","","",null,"","",null,"","","","","",null,"",""]
[null,null,null,null,null,null,null,null,{"$f":"IF($H118=\"\",\"\",(VLOOKUP($H118,所属競技者データ!$F$11:$L$110,2,FALSE)))","v":""},null,null,{"$f":"IF($H118=\"\",\"\",(VLOOKUP($H118,所属競技者データ!$F$11:$L$110,3,FALSE)))","v":""},{"$f":"IF($H118=\"\",\"\",(VLOOKUP($H118,所属競技者データ!$F$11:$L$110,4,FALSE)))","v":""},{"$f":"IF(H118=\"\",\"\",所属競技者データ!$I$6)","v":""},{"$f":"IF($H118=\"\",\"\",(VLOOKUP($H118,所属競技者データ!$F$11:$L$110,5,FALSE)))","v":""},{"$f":"IF($H118=\"\",\"\",(VLOOKUP($H118,所属競技者データ!$F$11:$L$110,6)))","v":""},{"$f":"IF($H118=\"\",\"\",(VLOOKUP($H118,所属競技者データ!$F$11:$L$110,7,FALSE)))","v":""},null,null,null,null,null,null,null,{"$f":"IF($X118=\"\",\"\",(VLOOKUP($X118,所属競技者データ!$N$11:$T$110,2,FALSE)))","v":""},null,null,{"$f":"IF($X118=\"\",\"\",(VLOOKUP($X118,所属競技者データ!$N$11:$T$110,3,FALSE)))","v":""},{"$f":"IF($X118=\"\",\"\",(VLOOKUP($X118,所属競技者データ!$N$11:$T$110,4,FALSE)))","v":""},{"$f":"IF(X118=\"\",\"\",所属競技者データ!$I$6)","v":""},{"$f":"IF($X118=\"\",\"\",(VLOOKUP($X118,所属競技者データ!$N$11:$T$110,5,FALSE)))","v":""},{"$f":"IF($X118=\"\",\"\",(VLOOKUP($X118,所属競技者データ!$N$11:$T$110,6)))","v":""},{"$f":"IF($X118=\"\",\"\",(VLOOKUP($X118,所属競技者データ!$N$11:$T$110,7,FALSE)))","v":""},null,null,null,null,null,null,null,null,null,null,null,null,null,null,null,null,null,null,null,null,null,"","","","","",null,"","",null,"","","","","",null,"",""]
[null,null,null,null,null,null,null,null,{"$f":"IF($H119=\"\",\"\",(VLOOKUP($H119,所属競技者データ!$F$11:$L$110,2,FALSE)))","v":""},null,null,{"$f":"IF($H119=\"\",\"\",(VLOOKUP($H119,所属競技者データ!$F$11:$L$110,3,FALSE)))","v":""},{"$f":"IF($H119=\"\",\"\",(VLOOKUP($H119,所属競技者データ!$F$11:$L$110,4,FALSE)))","v":""},{"$f":"IF(H119=\"\",\"\",所属競技者データ!$I$6)","v":""},{"$f":"IF($H119=\"\",\"\",(VLOOKUP($H119,所属競技者データ!$F$11:$L$110,5,FALSE)))","v":""},{"$f":"IF($H119=\"\",\"\",(VLOOKUP($H119,所属競技者データ!$F$11:$L$110,6)))","v":""},{"$f":"IF($H119=\"\",\"\",(VLOOKUP($H119,所属競技者データ!$F$11:$L$110,7,FALSE)))","v":""},null,null,null,null,null,null,null,{"$f":"IF($X119=\"\",\"\",(VLOOKUP($X119,所属競技者データ!$N$11:$T$110,2,FALSE)))","v":""},null,null,{"$f":"IF($X119=\"\",\"\",(VLOOKUP($X119,所属競技者データ!$N$11:$T$110,3,FALSE)))","v":""},{"$f":"IF($X119=\"\",\"\",(VLOOKUP($X119,所属競技者データ!$N$11:$T$110,4,FALSE)))","v":""},{"$f":"IF(X119=\"\",\"\",所属競技者データ!$I$6)","v":""},{"$f":"IF($X119=\"\",\"\",(VLOOKUP($X119,所属競技者データ!$N$11:$T$110,5,FALSE)))","v":""},{"$f":"IF($X119=\"\",\"\",(VLOOKUP($X119,所属競技者データ!$N$11:$T$110,6)))","v":""},{"$f":"IF($X119=\"\",\"\",(VLOOKUP($X119,所属競技者データ!$N$11:$T$110,7,FALSE)))","v":""},null,null,null,null,null,null,null,null,null,null,null,null,null,null,null,null,null,null,null,null,null,"","","","","",null,"","",null,"","","","","",null,"",""]
[null,null,null,null,null,null,null,null,{"$f":"IF($H120=\"\",\"\",(VLOOKUP($H120,所属競技者データ!$F$11:$L$110,2,FALSE)))","v":""},null,null,{"$f":"IF($H120=\"\",\"\",(VLOOKUP($H120,所属競技者データ!$F$11:$L$110,3,FALSE)))","v":""},{"$f":"IF($H120=\"\",\"\",(VLOOKUP($H120,所属競技者データ!$F$11:$L$110,4,FALSE)))","v":""},{"$f":"IF(H120=\"\",\"\",所属競技者データ!$I$6)","v":""},{"$f":"IF($H120=\"\",\"\",(VLOOKUP($H120,所属競技者データ!$F$11:$L$110,5,FALSE)))","v":""},{"$f":"IF($H120=\"\",\"\",(VLOOKUP($H120,所属競技者データ!$F$11:$L$110,6)))","v":""},{"$f":"IF($H120=\"\",\"\",(VLOOKUP($H120,所属競技者データ!$F$11:$L$110,7,FALSE)))","v":""},null,null,null,null,null,null,null,{"$f":"IF($X120=\"\",\"\",(VLOOKUP($X120,所属競技者データ!$N$11:$T$110,2,FALSE)))","v":""},null,null,{"$f":"IF($X120=\"\",\"\",(VLOOKUP($X120,所属競技者データ!$N$11:$T$110,3,FALSE)))","v":""},{"$f":"IF($X120=\"\",\"\",(VLOOKUP($X120,所属競技者データ!$N$11:$T$110,4,FALSE)))","v":""},{"$f":"IF(X120=\"\",\"\",所属競技者データ!$I$6)","v":""},{"$f":"IF($X120=\"\",\"\",(VLOOKUP($X120,所属競技者データ!$N$11:$T$110,5,FALSE)))","v":""},{"$f":"IF($X120=\"\",\"\",(VLOOKUP($X120,所属競技者データ!$N$11:$T$110,6)))","v":""},{"$f":"IF($X120=\"\",\"\",(VLOOKUP($X120,所属競技者データ!$N$11:$T$110,7,FALSE)))","v":""},null,null,null,null,null,null,null,null,null,null,null,null,null,null,null,null,null,null,null,null,null,"","","","","",null,"","",null,"","","","","",null,"",""]
[null,null,null,null,null,null,null,null,{"$f":"IF($H121=\"\",\"\",(VLOOKUP($H121,所属競技者データ!$F$11:$L$110,2,FALSE)))","v":""},null,null,{"$f":"IF($H121=\"\",\"\",(VLOOKUP($H121,所属競技者データ!$F$11:$L$110,3,FALSE)))","v":""},{"$f":"IF($H121=\"\",\"\",(VLOOKUP($H121,所属競技者データ!$F$11:$L$110,4,FALSE)))","v":""},{"$f":"IF(H121=\"\",\"\",所属競技者データ!$I$6)","v":""},{"$f":"IF($H121=\"\",\"\",(VLOOKUP($H121,所属競技者データ!$F$11:$L$110,5,FALSE)))","v":""},{"$f":"IF($H121=\"\",\"\",(VLOOKUP($H121,所属競技者データ!$F$11:$L$110,6)))","v":""},{"$f":"IF($H121=\"\",\"\",(VLOOKUP($H121,所属競技者データ!$F$11:$L$110,7,FALSE)))","v":""},null,null,null,null,null,null,null,{"$f":"IF($X121=\"\",\"\",(VLOOKUP($X121,所属競技者データ!$N$11:$T$110,2,FALSE)))","v":""},null,null,{"$f":"IF($X121=\"\",\"\",(VLOOKUP($X121,所属競技者データ!$N$11:$T$110,3,FALSE)))","v":""},{"$f":"IF($X121=\"\",\"\",(VLOOKUP($X121,所属競技者データ!$N$11:$T$110,4,FALSE)))","v":""},{"$f":"IF(X121=\"\",\"\",所属競技者データ!$I$6)","v":""},{"$f":"IF($X121=\"\",\"\",(VLOOKUP($X121,所属競技者データ!$N$11:$T$110,5,FALSE)))","v":""},{"$f":"IF($X121=\"\",\"\",(VLOOKUP($X121,所属競技者データ!$N$11:$T$110,6)))","v":""},{"$f":"IF($X121=\"\",\"\",(VLOOKUP($X121,所属競技者データ!$N$11:$T$110,7,FALSE)))","v":""},null,null,null,null,null,null,null,null,null,null,null,null,null,null,null,null,null,null,null,null,null,"","","","","",null,"","",null,"","","","","",null,"",""]
[null,null,null,null,null,null,null,null,{"$f":"IF($H122=\"\",\"\",(VLOOKUP($H122,所属競技者データ!$F$11:$L$110,2,FALSE)))","v":""},null,null,{"$f":"IF($H122=\"\",\"\",(VLOOKUP($H122,所属競技者データ!$F$11:$L$110,3,FALSE)))","v":""},{"$f":"IF($H122=\"\",\"\",(VLOOKUP($H122,所属競技者データ!$F$11:$L$110,4,FALSE)))","v":""},{"$f":"IF(H122=\"\",\"\",所属競技者データ!$I$6)","v":""},{"$f":"IF($H122=\"\",\"\",(VLOOKUP($H122,所属競技者データ!$F$11:$L$110,5,FALSE)))","v":""},{"$f":"IF($H122=\"\",\"\",(VLOOKUP($H122,所属競技者データ!$F$11:$L$110,6)))","v":""},{"$f":"IF($H122=\"\",\"\",(VLOOKUP($H122,所属競技者データ!$F$11:$L$110,7,FALSE)))","v":""},null,null,null,null,null,null,null,{"$f":"IF($X122=\"\",\"\",(VLOOKUP($X122,所属競技者データ!$N$11:$T$110,2,FALSE)))","v":""},null,null,{"$f":"IF($X122=\"\",\"\",(VLOOKUP($X122,所属競技者データ!$N$11:$T$110,3,FALSE)))","v":""},{"$f":"IF($X122=\"\",\"\",(VLOOKUP($X122,所属競技者データ!$N$11:$T$110,4,FALSE)))","v":""},{"$f":"IF(X122=\"\",\"\",所属競技者データ!$I$6)","v":""},{"$f":"IF($X122=\"\",\"\",(VLOOKUP($X122,所属競技者データ!$N$11:$T$110,5,FALSE)))","v":""},{"$f":"IF($X122=\"\",\"\",(VLOOKUP($X122,所属競技者データ!$N$11:$T$110,6)))","v":""},{"$f":"IF($X122=\"\",\"\",(VLOOKUP($X122,所属競技者データ!$N$11:$T$110,7,FALSE)))","v":""},null,null,null,null,null,null,null,null,null,null,null,null,null,null,null,null,null,null,null,null,null,"","","","","",null,"","",null,"","","","","",null,"",""]
[null,null,null,null,null,null,null,null,{"$f":"IF($H123=\"\",\"\",(VLOOKUP($H123,所属競技者データ!$F$11:$L$110,2,FALSE)))","v":""},null,null,{"$f":"IF($H123=\"\",\"\",(VLOOKUP($H123,所属競技者データ!$F$11:$L$110,3,FALSE)))","v":""},{"$f":"IF($H123=\"\",\"\",(VLOOKUP($H123,所属競技者データ!$F$11:$L$110,4,FALSE)))","v":""},{"$f":"IF(H123=\"\",\"\",所属競技者データ!$I$6)","v":""},{"$f":"IF($H123=\"\",\"\",(VLOOKUP($H123,所属競技者データ!$F$11:$L$110,5,FALSE)))","v":""},{"$f":"IF($H123=\"\",\"\",(VLOOKUP($H123,所属競技者データ!$F$11:$L$110,6)))","v":""},{"$f":"IF($H123=\"\",\"\",(VLOOKUP($H123,所属競技者データ!$F$11:$L$110,7,FALSE)))","v":""},null,null,null,null,null,null,null,{"$f":"IF($X123=\"\",\"\",(VLOOKUP($X123,所属競技者データ!$N$11:$T$110,2,FALSE)))","v":""},null,null,{"$f":"IF($X123=\"\",\"\",(VLOOKUP($X123,所属競技者データ!$N$11:$T$110,3,FALSE)))","v":""},{"$f":"IF($X123=\"\",\"\",(VLOOKUP($X123,所属競技者データ!$N$11:$T$110,4,FALSE)))","v":""},{"$f":"IF(X123=\"\",\"\",所属競技者データ!$I$6)","v":""},{"$f":"IF($X123=\"\",\"\",(VLOOKUP($X123,所属競技者データ!$N$11:$T$110,5,FALSE)))","v":""},{"$f":"IF($X123=\"\",\"\",(VLOOKUP($X123,所属競技者データ!$N$11:$T$110,6)))","v":""},{"$f":"IF($X123=\"\",\"\",(VLOOKUP($X123,所属競技者データ!$N$11:$T$110,7,FALSE)))","v":""},null,null,null,null,null,null,null,null,null,null,null,null,null,null,null,null,null,null,null,null,null,"","","","","",null,"","",null,"","","","","",null,"",""]
[null,null,null,null,null,null,null,null,{"$f":"IF($H124=\"\",\"\",(VLOOKUP($H124,所属競技者データ!$F$11:$L$110,2,FALSE)))","v":""},null,null,{"$f":"IF($H124=\"\",\"\",(VLOOKUP($H124,所属競技者データ!$F$11:$L$110,3,FALSE)))","v":""},{"$f":"IF($H124=\"\",\"\",(VLOOKUP($H124,所属競技者データ!$F$11:$L$110,4,FALSE)))","v":""},{"$f":"IF(H124=\"\",\"\",所属競技者データ!$I$6)","v":""},{"$f":"IF($H124=\"\",\"\",(VLOOKUP($H124,所属競技者データ!$F$11:$L$110,5,FALSE)))","v":""},{"$f":"IF($H124=\"\",\"\",(VLOOKUP($H124,所属競技者データ!$F$11:$L$110,6)))","v":""},{"$f":"IF($H124=\"\",\"\",(VLOOKUP($H124,所属競技者データ!$F$11:$L$110,7,FALSE)))","v":""},null,null,null,null,null,null,null,{"$f":"IF($X124=\"\",\"\",(VLOOKUP($X124,所属競技者データ!$N$11:$T$110,2,FALSE)))","v":""},null,null,{"$f":"IF($X124=\"\",\"\",(VLOOKUP($X124,所属競技者データ!$N$11:$T$110,3,FALSE)))","v":""},{"$f":"IF($X124=\"\",\"\",(VLOOKUP($X124,所属競技者データ!$N$11:$T$110,4,FALSE)))","v":""},{"$f":"IF(X124=\"\",\"\",所属競技者データ!$I$6)","v":""},{"$f":"IF($X124=\"\",\"\",(VLOOKUP($X124,所属競技者データ!$N$11:$T$110,5,FALSE)))","v":""},{"$f":"IF($X124=\"\",\"\",(VLOOKUP($X124,所属競技者データ!$N$11:$T$110,6)))","v":""},{"$f":"IF($X124=\"\",\"\",(VLOOKUP($X124,所属競技者データ!$N$11:$T$110,7,FALSE)))","v":""},null,null,null,null,null,null,null,null,null,null,null,null,null,null,null,null,null,null,null,null,null,"","","","","",null,"","",null,"","","","","",null,"",""]
[null,null,null,null,null,null,null,null,{"$f":"IF($H125=\"\",\"\",(VLOOKUP($H125,所属競技者データ!$F$11:$L$110,2,FALSE)))","v":""},null,null,{"$f":"IF($H125=\"\",\"\",(VLOOKUP($H125,所属競技者データ!$F$11:$L$110,3,FALSE)))","v":""},{"$f":"IF($H125=\"\",\"\",(VLOOKUP($H125,所属競技者データ!$F$11:$L$110,4,FALSE)))","v":""},{"$f":"IF(H125=\"\",\"\",所属競技者データ!$I$6)","v":""},{"$f":"IF($H125=\"\",\"\",(VLOOKUP($H125,所属競技者データ!$F$11:$L$110,5,FALSE)))","v":""},{"$f":"IF($H125=\"\",\"\",(VLOOKUP($H125,所属競技者データ!$F$11:$L$110,6)))","v":""},{"$f":"IF($H125=\"\",\"\",(VLOOKUP($H125,所属競技者データ!$F$11:$L$110,7,FALSE)))","v":""},null,null,null,null,null,null,null,{"$f":"IF($X125=\"\",\"\",(VLOOKUP($X125,所属競技者データ!$N$11:$T$110,2,FALSE)))","v":""},null,null,{"$f":"IF($X125=\"\",\"\",(VLOOKUP($X125,所属競技者データ!$N$11:$T$110,3,FALSE)))","v":""},{"$f":"IF($X125=\"\",\"\",(VLOOKUP($X125,所属競技者データ!$N$11:$T$110,4,FALSE)))","v":""},{"$f":"IF(X125=\"\",\"\",所属競技者データ!$I$6)","v":""},{"$f":"IF($X125=\"\",\"\",(VLOOKUP($X125,所属競技者データ!$N$11:$T$110,5,FALSE)))","v":""},{"$f":"IF($X125=\"\",\"\",(VLOOKUP($X125,所属競技者データ!$N$11:$T$110,6)))","v":""},{"$f":"IF($X125=\"\",\"\",(VLOOKUP($X125,所属競技者データ!$N$11:$T$110,7,FALSE)))","v":""},null,null,null,null,null,null,null,null,null,null,null,null,null,null,null,null,null,null,null,null,null,"","","","","",null,"","",null,"","","","","",null,"",""]
[]
[]
[]
[null,null,null,null,null,null,null,null,100,{"$f":"COUNTIF(J$6:J$125,I129)","v":0},null,null,null,null,null,null,null,null,null,null,null,null,null,88,100,{"$f":"COUNTIF(Z$6:Z$125,Y129)","v":0}]
[null,null,null,null,null,null,null,null,200,{"$f":"COUNTIF(J$6:J$125,I130)","v":0},null,null,null,null,null,null,null,null,null,null,null,null,null,97,200,{"$f":"COUNTIF(Z$6:Z$125,Y130)","v":0}]
[null,null,null,null,null,null,null,null,400,0,null,null,null,null,null,null,null,null,null,null,null,null,null,54,400,0]
[null,null,null,null,null,null,null,null,800,0,null,null,null,null,null,null,null,null,null,null,null,null,null,77,800,0]
[null,null,null,null,null,null,null,null,1000,0,null,null,null,null,null,null,null,null,null,null,null,null,null,77,1000,0]
[null,null,null,null,null,null,null,null,1500,0,null,null,null,null,null,null,null,null,null,null,null,null,null,74,1500,0]
[null,null,null,null,null,null,null,null,3000,0,null,null,null,null,null,null,null,null,null,null,null,null,null,61,3000,0]
[null,null,null,null,null,null,null,null,5000,0,null,null,null,null,null,null,null,null,null,null,null,null,null,null,5000,0]
[null,null,null,null,null,null,null,null,10000,0,null,null,null,null,null,null,null,null,null,null,null,null,null,null,10000,0]
[null,null,null,null,null,null,null,null,"100H",0,null,null,null,null,null,null,null,null,null,null,null,null,null,null,"100H",0]
[null,null,null,null,null,null,null,null,"110H",0,null,null,null,null,null,null,null,null,null,null,null,null,null,null,"110H",0]
[null,null,null,null,null,null,null,null,"400H",0,null,null,null,null,null,null,null,null,null,null,null,null,null,null,"400H",0]
[null,null,null,null,null,null,null,null,"3000SC",0,null,null,null,null,null,null,null,null,null,null,null,null,null,null,"3000SC",0]
[null,null,null,null,null,null,null,null,"HJ",0,null,null,null,null,null,null,null,null,null,null,null,null,null,null,"HJ",0]
[null,null,null,null,null,null,null,null,"PV",0,null,null,null,null,null,null,null,null,null,null,null,null,null,null,"PV",0]
[null,null,null,null,null,null,null,null,"LJ",0,null,null,null,null,null,null,null,null,null,null,null,null,null,null,"LJ",0]
[null,null,null,null,null,null,null,null,"SP",0,null,null,null,null,null,null,null,null,null,null,null,null,null,null,"SP",0]
[null,null,null,null,null,null,null,null,"DT",0,null,null,null,null,null,null,null,null,null,null,null,null,null,null,"DT",0]
[null,null,null,null,null,null,null,null,"JT",0,{"$f":"SUM(J129:J147)","v":0},null,null,null,null,null,null,null,null,null,null,null,null,null,"JT",0,{"$f":"SUM(Z129:Z147)","v":0}]
[null,null,null,null,null,null,null,null,"400RSA",{"$f":"ROUNDUP(COUNTIF(J$6:J$125,I148)/6,0)","v":0},null,null,null,null,null,null,null,null,null,null,null,null,null,null,"400RSA",{"$f":"ROUNDUP(COUNTIF(Z$6:Z$125,Y148)/6,0)","v":0}]
[null,null,null,null,null,null,null,null,"400RSB",0,null,null,null,null,null,null,null,null,null,null,null,null,null,null,"400RSB",0]
[null,null,null,null,null,null,null,null,"400RSC",0,null,null,null,null,null,null,null,null,null,null,null,null,null,null,"400RSC",0]
[null,null,null,null,null,null,null,null,"400RSD",0,null,null,null,null,null,null,null,null,null,null,null,null,null,null,"400RSD",0]
[null,null,null,null,null,null,null,null,"1600RSA",0,null,null,null,null,null,null,null,null,null,null,null,null,null,null,"1600RSA",0]
[null,null,null,null,null,null,null,null,"1600RSB",0,null,null,null,null,null,null,null,null,null,null,null,null,null,null,"1600RSB",0]
[null,null,null,null,null,null,null,null,"1600RSC",0,null,null,null,null,null,null,null,null,null,null,null,null,null,null,"1600RSC",0]
[null,null,null,null,null,null,null,null,"1600RSD",0,{"$f":"SUM(J148:J155)","v":0},null,null,null,null,null,null,null,null,null,null,null,null,null,"1600RSD",0,{"$f":"SUM(Z148:Z155)","v":0}]
[null,null,null,null,null,null,null,null,"4D",{"$f":"COUNTIF(J$6:J$125,I156)","v":0},{"$f":"J156","v":0},null,null,null,null,null,null,null,null,null,null,null,null,null,"4D",{"$f":"COUNTIF(Z$6:Z$125,Y156)","v":0},{"$f":"Z156","v":0}]

{"sheet":"申込み一覧男子","index":3,"n_rows":231,"n_cols":17,"rows_kept":231,"cut":false,"hidden":false,"merged":[[7,3,7,5],[8,3,8,5],[21,6,21,7],[20,6,20,7],[20,8,20,9],[21,8,21,9],[22,6,22,7],[22,8,22,9],[185,4,185,8],[185,9,185,10],[141,9,141,10],[69,4,69,8],[69,9,69,10],[127,4,127,8],[127,9,127,10],[185,11,185,16],[199,9,199,10],[199,11,199,12],[199,13,199,16],[199,2,200,2],[199,3,200,3],[199,4,200,4],[199,5,200,5],[199,6,200,6],[186,3,188,3],[186,4,188,7],[186,8,188,8],[186,9,189,9],[186,10,186,12],[187,10,189,16],[189,3,191,3],[189,4,191,7],[189,8,191,8],[190,9,191,9],[141,11,141,12],[141,13,141,16],[129,10,131,16],[131,8,133,8],[132,9,133,9],[141,2,142,2],[141,3,142,3],[141,4,142,4],[141,5,142,5],[141,6,142,6],[131,4,133,7],[127,11,127,16],[83,6,84,6],[83,9,83,10],[131,3,133,3],[128,3,130,3],[128,4,130,7],[128,8,130,8],[128,9,131,9],[128,10,128,12],[83,11,83,12],[83,13,83,16],[25,1,26,1],[83,2,84,2],[83,3,84,3],[83,4,84,4],[83,5,84,5],[73,8,75,8],[74,9,75,9],[24,15,24,16],[25,2,26,2],[25,3,26,3],[25,4,26,4],[25,5,26,5],[25,6,26,6],[24,8,24,9],[24,6,24,7],[71,10,73,16],[70,8,72,8],[70,9,73,9],[70,10,70,12],[70,3,72,3],[70,4,72,7],[73,3,75,3],[69,11,69,16],[73,4,75,7],[23,15,23,16],[11,4,11,8],[11,9,11,10],[11,11,11,16],[15,8,17,8],[16,9,17,9],[12,10,12,12],[13,10,15,16],[12,3,14,3],[12,4,14,7],[12,8,14,8],[12,9,15,9],[15,3,17,3],[15,4,17,7],[17,10,17,16],[23,8,23,9],[23,6,23,7],[5,3,5,10],[2,15,2,16],[19,1,24,1],[75,10,75,16],[133,10,133,16],[191,10,191,16],[63,3,63,10],[65,3,65,5],[66,3,66,5],[67,3,67,10],[60,15,60,16],[118,15,118,16],[121,3,121,10],[123,3,123,5],[124,3,124,5],[125,3,125,10],[176,15,176,16],[179,3,179,10],[181,3,181,5],[182,3,182,5],[183,3,183,10],[2,1,18,1],[21,15,21,16],[22,15,22,16]]}
[]
[null,null,"(様式A）"]
[null,"　右の標題内容は\n　　女子一覧表にも表示されます。",null,"第１７７ 回　松戸市陸上競技記録会中学生大会　　申込一覧表",null,null,null,null,null,null,null,null,null,null,null,1]
[]
[]
[null,null,null,"健康診断の結果異常がないことを認め、標記競技会への出場を認めます。"]
[null,null,null,null,null,null,null,null,null,null,null,"平成　２８年　６月　　日"]
[null,null,null,"松戸市陸上競技協会"]
[null,null,null,"会長　　林　英昭　様"]
[]
[]
[null,null,null,"団体（学校）正式名",null,null,null,null,null,"団体略称(６文字以内)",null,{"$f":"IF(所属競技者データ!I6=\"\",\"\",所属競技者データ!I6)","v":""}]
[null,null,null,"所 属 長",null,null,null,null,"㊞","所在地\n住　所"," 〒"]
[]
[]
[null,null,null,"記載責任者",null,null,null,null,"㊞"]
[null,null,null,null,null,null,null,null,null,"電　話\n（担当者）","連絡問い合わせ先（顧問責任者）"]
[]
[]
[null,"申込一覧表\n作成説明へ","※記載表記について",null,null,null,"　　競技役員協力顧問"]
[null,null,"１．大会参加競技者一覧表（一人一種目１行。）",null,null,null,"顧　　問　　名",null,"担当可能（希望）部署",null,"公認審判級",null,null,"(一人一種目）"]
[null,null,"２．個人申込票",null,null,null,null,null,null,null,null,"(個人種目総数)",{"$f":"申込個票!K147","v":0},"×(参加費)",{"$f":"作成入力について!I133","v":300},{"$f":"M22*O22","v":0}]
[null,null,"　　(1)個人申込票は、競技者ﾃﾞｰﾀｼｰﾄへのﾃﾞｰﾀ入力。",null,null,null,null,null,null,null,null,"(ﾘﾚｰﾁｰﾑ総数)",{"$f":"申込個票!K155","v":0},"×(参加費)",{"$f":"作成入力について!L133","v":600},{"$f":"M23*O23","v":0}]
[null,null,"　　(2)記載表記にあたっては記入漏れの無い事、",null,null,null,null,null,null,null,null,"(混成種目)",{"$f":"申込個票!K156","v":0},"×(参加費)",{"$f":"作成入力について!O133","v":600},{"$f":"M24*O24","v":0}]
[null,null,"　　　　特に参加種目、記録、は確実に記載表記する。",null,null,null,null,null,null,null,null,null,null,null,"男子　参加費合計",{"$f":"P22+P23+P24","v":0}]
[null,"エントリー\nNO","ナンハ゛ー\nカード","氏　　名","性別","学年","生年月日\n西暦で記入"]
[null,null,null,null,null,null,null,"種目","記録"]
[null,1,{"$f":"IF(申込個票!I6=\"\",\"\",申込個票!I6)","v":""},{"$f":"IF(申込個票!L6=\"\",\"\",申込個票!L6&\"  \"&申込個票!M6)","v":""},{"$f":"IF(申込個票!L6=\"\",\"\",\"男\")","v":""},{"$f":"IF(申込個票!O6=\"\",\"\",申込個票!O6)","v":""},{"$f":"IF(申込個票!Q6=\"\",\"\",申込個票!Q6)","v":""},{"$f":"IF(申込個票!J6=\"\",\"\",申込個票!J6)","v":""},{"$f":"IF(申込個票!K6=\"\",\"\",申込個票!K6)","v":""}]
[null,{"$f":"B28+1","v":2},{"$f":"IF(申込個票!I7=\"\",\"\",申込個票!I7)","v":""},{"$f":"IF(申込個票!L7=\"\",\"\",申込個票!L7&\"  \"&申込個票!M7)","v":""},{"$f":"IF(申込個票!L7=\"\",\"\",\"男\")","v":""},{"$f":"IF(申込個票!O7=\"\",\"\",申込個票!O7)","v":""},{"$f":"IF(申込個票!Q7=\"\",\"\",申込個票!Q7)","v":""},{"$f":"IF(申込個票!J7=\"\",\"\",申込個票!J7)","v":""},{"$f":"IF(申込個票!K7=\"\",\"\",申込個票!K7)","v":""}]
[null,{"$f":"B29+1","v":3},{"$f":"IF(申込個票!I8=\"\",\"\",申込個票!I8)","v":""},{"$f":"IF(申込個票!L8=\"\",\"\",申込個票!L8&\"  \"&申込個票!M8)","v":""},{"$f":"IF(申込個票!L8=\"\",\"\",\"男\")","v":""},{"$f":"IF(申込個票!O8=\"\",\"\",申込個票!O8)","v":""},{"$f":"IF(申込個票!Q8=\"\",\"\",申込個票!Q8)","v":""},{"$f":"IF(申込個票!J8=\"\",\"\",申込個票!J8)","v":""},{"$f":"IF(申込個票!K8=\"\",\"\",申込個票!K8)","v":""}]
[null,4,{"$f":"IF(申込個票!I9=\"\",\"\",申込個票!I9)","v":""},{"$f":"IF(申込個票!L9=\"\",\"\",申込個票!L9&\"  \"&申込個票!M9)","v":""},{"$f":"IF(申込個票!L9=\"\",\"\",\"男\")","v":""},{"$f":"IF(申込個票!O9=\"\",\"\",申込個票!O9)","v":""},{"$f":"IF(申込個票!Q9=\"\",\"\",申込個票!Q9)","v":""},{"$f":"IF(申込個票!J9=\"\",\"\",申込個票!J9)","v":""},{"$f":"IF(申込個票!K9=\"\",\"\",申込個票!K9)","v":""}]
[null,5,{"$f":"IF(申込個票!I10=\"\",\"\",申込個票!I10)","v":""},{"$f":"IF(申込個票!L10=\"\",\"\",申込個票!L10&\"  \"&申込個票!M10)","v":""},{"$f":"IF(申込個票!L10=\"\",\"\",\"男\")","v":""},{"$f":"IF(申込個票!O10=\"\",\"\",申込個票!O10)","v":""},{"$f":"IF(申込個票!Q10=\"\",\"\",申込個票!Q10)","v":""},{"$f":"IF(申込個票!J10=\"\",\"\",申込個票!J10)","v":""},{"$f":"IF(申込個票!K10=\"\",\"\",申込個票!K10)","v":""}]
[null,6,{"$f":"IF(申込個票!I11=\"\",\"\",申込個票!I11)","v":""},{"$f":"IF(申込個票!L11=\"\",\"\",申込個票!L11&\"  \"&申込個票!M11)","v":""},{"$f":"IF(申込個票!L11=\"\",\"\",\"男\")","v":""},{"$f":"IF(申込個票!O11=\"\",\"\",申込個票!O11)","v":""},{"$f":"IF(申込個票!Q11=\"\",\"\",申込個票!Q11)","v":""},{"$f":"IF(申込個票!J11=\"\",\"\",申込個票!J11)","v":""},{"$f":"IF(申込個票!K11=\"\",\"\",申込個票!K11)","v":""}]
[null,7,{"$f":"IF(申込個票!I12=\"\",\"\",申込個票!I12)","v":""},{"$f":"IF(申込個票!L12=\"\",\"\",申込個票!L12&\"  \"&申込個票!M12)","v":""},{"$f":"IF(申込個票!L12=\"\",\"\",\"男\")","v":""},{"$f":"IF(申込個票!O12=\"\",\"\",申込個票!O12)","v":""},{"$f":"IF(申込個票!Q12=\"\",\"\",申込個票!Q12)","v":""},{"$f":"IF(申込個票!J12=\"\",\"\",申込個票!J12)","v":""},{"$f":"IF(申込個票!K12=\"\",\"\",申込個票!K12)","v":""}]
[null,8,{"$f":"IF(申込個票!I13=\"\",\"\",申込個票!I13)","v":""},{"$f":"IF(申込個票!L13=\"\",\"\",申込個票!L13&\"  \"&申込個票!M13)","v":""},{"$f":"IF(申込個票!L13=\"\",\"\",\"男\")","v":""},{"$f":"IF(申込個票!O13=\"\",\"\",申込個票!O13)","v":""},{"$f":"IF(申込個票!Q13=\"\",\"\",申込個票!Q13)","v":""},{"$f":"IF(申込個票!J13=\"\",\"\",申込個票!J13)","v":""},{"$f":"IF(申込個票!K13=\"\",\"\",申込個票!K13)","v":""}]
[null,9,{"$f":"IF(申込個票!I14=\"\",\"\",申込個票!I14)","v":""},{"$f":"IF(申込個票!L14=\"\",\"\",申込個票!L14&\"  \"&申込個票!M14)","v":""},{"$f":"IF(申込個票!L14=\"\",\"\",\"男\")","v":""},{"$f":"IF(申込個票!O14=\"\",\"\",申込個票!O14)","v":""},{"$f":"IF(申込個票!Q14=\"\",\"\",申込個票!Q14)","v":""},{"$f":"IF(申込個票!J14=\"\",\"\",申込個票!J14)","v":""},{"$f":"IF(申込個票!K14=\"\",\"\",申込個票!K14)","v":""}]
[null,10,{"$f":"IF(申込個票!I15=\"\",\"\",申込個票!I15)","v":""},{"$f":"IF(申込個票!L15=\"\",\"\",申込個票!L15&\"  \"&申込個票!M15)","v":""},{"$f":"IF(申込個票!L15=\"\",\"\",\"男\")","v":""},{"$f":"IF(申込個票!O15=\"\",\"\",申込個票!O15)","v":""},{"$f":"IF(申込個票!Q15=\"\",\"\",申込個票!Q15)","v":""},{"$f":"IF(申込個票!J15=\"\",\"\",申込個票!J15)","v":""},{"$f":"IF(申込個票!K15=\"\",\"\",申込個票!K15)","v":""}]
[null,11,{"$f":"IF(申込個票!I16=\"\",\"\",申込個票!I16)","v":""},{"$f":"IF(申込個票!L16=\"\",\"\",申込個票!L16&\"  \"&申込個票!M16)","v":""},{"$f":"IF(申込個票!L16=\"\",\"\",\"男\")","v":""},{"$f":"IF(申込個票!O16=\"\",\"\",申込個票!O16)","v":""},{"$f":"IF(申込個票!Q16=\"\",\"\",申込個票!Q16)","v":""},{"$f":"IF(申込個票!J16=\"\",\"\",申込個票!J16)","v":""},{"$f":"IF(申込個票!K16=\"\",\"\",申込個票!K16)","v":""}]
[null,12,{"$f":"IF(申込個票!I17=\"\",\"\",申込個票!I17)","v":""},{"$f":"IF(申込個票!L17=\"\",\"\",申込個票!L17&\"  \"&申込個票!M17)","v":""},{"$f":"IF(申込個票!L17=\"\",\"\",\"男\")","v":""},{"$f":"IF(申込個票!O17=\"\",\"\",申込個票!O17)","v":""},{"$f":"IF(申込個票!Q17=\"\",\"\",申込個票!Q17)","v":""},{"$f":"IF(申込個票!J17=\"\",\"\",申込個票!J17)","v":""},{"$f":"IF(申込個票!K17=\"\",\"\",申込個票!K17)","v":""}]
[null,13,{"$f":"IF(申込個票!I18=\"\",\"\",申込個票!I18)","v":""},{"$f":"IF(申込個票!L18=\"\",\"\",申込個票!L18&\"  \"&申込個票!M18)","v":""},{"$f":"IF(申込個票!L18=\"\",\"\",\"男\")","v":""},{"$f":"IF(申込個票!O18=\"\",\"\",申込個票!O18)","v":""},{"$f":"IF(申込個票!Q18=\"\",\"\",申込個票!Q18)","v":""},{"$f":"IF(申込個票!J18=\"\",\"\",申込個票!J18)","v":""},{"$f":"IF(申込個票!K18=\"\",\"\",申込個票!K18)","v":""}]
[null,14,{"$f":"IF(申込個票!I19=\"\",\"\",申込個票!I19)","v":""},{"$f":"IF(申込個票!L19=\"\",\"\",申込個票!L19&\"  \"&申込個票!M19)","v":""},{"$f":"IF(申込個票!L19=\"\",\"\",\"男\")","v":""},{"$f":"IF(申込個票!O19=\"\",\"\",申込個票!O19)","v":""},{"$f":"IF(申込個票!Q19=\"\",\"\",申込個票!Q19)","v":""},{"$f":"IF(申込個票!J19=\"\",\"\",申込個票!J19)","v":""},{"$f":"IF(申込個票!K19=\"\",\"\",申込個票!K19)","v":""}]
[null,15,{"$f":"IF(申込個票!I20=\"\",\"\",申込個票!I20)","v":""},{"$f":"IF(申込個票!L20=\"\",\"\",申込個票!L20&\"  \"&申込個票!M20)","v":""},{"$f":"IF(申込個票!L20=\"\",\"\",\"男\")","v":""},{"$f":"IF(申込個票!O20=\"\",\"\",申込個票!O20)","v":""},{"$f":"IF(申込個票!Q20=\"\",\"\",申込個票!Q20)","v":""},{"$f":"IF(申込個票!J20=\"\",\"\",申込個票!J20)","v":""},{"$f":"IF(申込個票!K20=\"\",\"\",申込個票!K20)","v":""}]
[null,16,{"$f":"IF(申込個票!I21=\"\",\"\",申込個票!I21)","v":""},{"$f":"IF(申込個票!L21=\"\",\"\",申込個票!L21&\"  \"&申込個票!M21)","v":""},{"$f":"IF(申込個票!L21=\"\",\"\",\"男\")","v":""},{"$f":"IF(申込個票!O21=\"\",\"\",申込個票!O21)","v":""},{"$f":"IF(申込個票!Q21=\"\",\"\",申込個票!Q21)","v":""},{"$f":"IF(申込個票!J21=\"\",\"\",申込個票!J21)","v":""},{"$f":"IF(申込個票!K21=\"\",\"\",申込個票!K21)","v":""}]
[null,17,{"$f":"IF(申込個票!I22=\"\",\"\",申込個票!I22)","v":""},{"$f":"IF(申込個票!L22=\"\",\"\",申込個票!L22&\"  \"&申込個票!M22)","v":""},{"$f":"IF(申込個票!L22=\"\",\"\",\"男\")","v":""},{"$f":"IF(申込個票!O22=\"\",\"\",申込個票!O22)","v":""},{"$f":"IF(申込個票!Q22=\"\",\"\",申込個票!Q22)","v":""},{"$f":"IF(申込個票!J22=\"\",\"\",申込個票!J22)","v":""},{"$f":"IF(申込個票!K22=\"\",\"\",申込個票!K22)","v":""}]
[null,18,{"$f":"IF(申込個票!I23=\"\",\"\",申込個票!I23)","v":""},{"$f":"IF(申込個票!L23=\"\",\"\",申込個票!L23&\"  \"&申込個票!M23)","v":""},{"$f":"IF(申込個票!L23=\"\",\"\",\"男\")","v":""},{"$f":"IF(申込個票!O23=\"\",\"\",申込個票!O23)","v":""},{"$f":"IF(申込個票!Q23=\"\",\"\",申込個票!Q23)","v":""},{"$f":"IF(申込個票!J23=\"\",\"\",申込個票!J23)","v":""},{"$f":"IF(申込個票!K23=\"\",\"\",申込個票!K23)","v":""}]
[null,19,{"$f":"IF(申込個票!I24=\"\",\"\",申込個票!I24)","v":""},{"$f":"IF(申込個票!L24=\"\",\"\",申込個票!L24&\"  \"&申込個票!M24)","v":""},{"$f":"IF(申込個票!L24=\"\",\"\",\"男\")","v":""},{"$f":"IF(申込個票!O24=\"\",\"\",申込個票!O24)","v":""},{"$f":"IF(申込個票!Q24=\"\",\"\",申込個票!Q24)","v":""},{"$f":"IF(申込個票!J24=\"\",\"\",申込個票!J24)","v":""},{"$f":"IF(申込個票!K24=\"\",\"\",申込個票!K24)","v":""}]
[null,20,{"$f":"IF(申込個票!I25=\"\",\"\",申込個票!I25)","v":""},{"$f":"IF(申込個票!L25=\"\",\"\",申込個票!L25&\"  \"&申込個票!M25)","v":""},{"$f":"IF(申込個票!L25=\"\",\"\",\"男\")","v":""},{"$f":"IF(申込個票!O25=\"\",\"\",申込個票!O25)","v":""},{"$f":"IF(申込個票!Q25=\"\",\"\",申込個票!Q25)","v":""},{"$f":"IF(申込個票!J25=\"\",\"\",申込個票!J25)","v":""},{"$f":"IF(申込個票!K25=\"\",\"\",申込個票!K25)","v":""}]
[null,21,{"$f":"IF(申込個票!I26=\"\",\"\",申込個票!I26)","v":""},{"$f":"IF(申込個票!L26=\"\",\"\",申込個票!L26&\"  \"&申込個票!M26)","v":""},{"$f":"IF(申込個票!L26=\"\",\"\",\"男\")","v":""},{"$f":"IF(申込個票!O26=\"\",\"\",申込個票!O26)","v":""},{"$f":"IF(申込個票!Q26=\"\",\"\",申込個票!Q26)","v":""},{"$f":"IF(申込個票!J26=\"\",\"\",申込個票!J26)","v":""},{"$f":"IF(申込個票!K26=\"\",\"\",申込個票!K26)","v":""}]
[null,22,{"$f":"IF(申込個票!I27=\"\",\"\",申込個票!I27)","v":""},{"$f":"IF(申込個票!L27=\"\",\"\",申込個票!L27&\"  \"&申込個票!M27)","v":""},{"$f":"IF(申込個票!L27=\"\",\"\",\"男\")","v":""},{"$f":"IF(申込個票!O27=\"\",\"\",申込個票!O27)","v":""},{"$f":"IF(申込個票!Q27=\"\",\"\",申込個票!Q27)","v":""},{"$f":"IF(申込個票!J27=\"\",\"\",申込個票!J27)","v":""},{"$f":"IF(申込個票!K27=\"\",\"\",申込個票!K27)","v":""}]
[null,23,{"$f":"IF(申込個票!I28=\"\",\"\",申込個票!I28)","v":""},{"$f":"IF(申込個票!L28=\"\",\"\",申込個票!L28&\"  \"&申込個票!M28)","v":""},{"$f":"IF(申込個票!L28=\"\",\"\",\"男\")","v":""},{"$f":"IF(申込個票!O28=\"\",\"\",申込個票!O28)","v":""},{"$f":"IF(申込個票!Q28=\"\",\"\",申込個票!Q28)","v":""},{"$f":"IF(申込個票!J28=\"\",\"\",申込個票!J28)","v":""},{"$f":"IF(申込個票!K28=\"\",\"\",申込個票!K28)","v":""}]
[null,24,{"$f":"IF(申込個票!I29=\"\",\"\",申込個票!I29)","v":""},{"$f":"IF(申込個票!L29=\"\",\"\",申込個票!L29&\"  \"&申込個票!M29)","v":""},{"$f":"IF(申込個票!L29=\"\",\"\",\"男\")","v":""},{"$f":"IF(申込個票!O29=\"\",\"\",申込個票!O29)","v":""},{"$f":"IF(申込個票!Q29=\"\",\"\",申込個票!Q29)","v":""},{"$f":"IF(申込個票!J29=\"\",\"\",申込個票!J29)","v":""},{"$f":"IF(申込個票!K29=\"\",\"\",申込個票!K29)","v":""}]
[null,25,{"$f":"IF(申込個票!I30=\"\",\"\",申込個票!I30)","v":""},{"$f":"IF(申込個票!L30=\"\",\"\",申込個票!L30&\"  \"&申込個票!M30)","v":""},{"$f":"IF(申込個票!L30=\"\",\"\",\"男\")","v":""},{"$f":"IF(申込個票!O30=\"\",\"\",申込個票!O30)","v":""},{"$f":"IF(申込個票!Q30=\"\",\"\",申込個票!Q30)","v":""},{"$f":"IF(申込個票!J30=\"\",\"\",申込個票!J30)","v":""},{"$f":"IF(申込個票!K30=\"\",\"\",申込個票!K30)","v":""}]
[null,26,{"$f":"IF(申込個票!I31=\"\",\"\",申込個票!I31)","v":""},{"$f":"IF(申込個票!L31=\"\",\"\",申込個票!L31&\"  \"&申込個票!M31)","v":""},{"$f":"IF(申込個票!L31=\"\",\"\",\"男\")","v":""},{"$f":"IF(申込個票!O31=\"\",\"\",申込個票!O31)","v":""},{"$f":"IF(申込個票!Q31=\"\",\"\",申込個票!Q31)","v":""},{"$f":"IF(申込個票!J31=\"\",\"\",申込個票!J31)","v":""},{"$f":"IF(申込個票!K31=\"\",\"\",申込個票!K31)","v":""}]
[null,27,{"$f":"IF(申込個票!I32=\"\",\"\",申込個票!I32)","v":""},{"$f":"IF(申込個票!L32=\"\",\"\",申込個票!L32&\"  \"&申込個票!M32)","v":""},{"$f":"IF(申込個票!L32=\"\",\"\",\"男\")","v":""},{"$f":"IF(申込個票!O32=\"\",\"\",申込個票!O32)","v":""},{"$f":"IF(申込個票!Q32=\"\",\"\",申込個票!Q32)","v":""},{"$f":"IF(申込個票!J32=\"\",\"\",申込個票!J32)","v":""},{"$f":"IF(申込個票!K32=\"\",\"\",申込個票!K32)","v":""}]
[null,28,{"$f":"IF(申込個票!I33=\"\",\"\",申込個票!I33)","v":""},{"$f":"IF(申込個票!L33=\"\",\"\",申込個票!L33&\"  \"&申込個票!M33)","v":""},{"$f":"IF(申込個票!L33=\"\",\"\",\"男\")","v":""},{"$f":"IF(申込個票!O33=\"\",\"\",申込個票!O33)","v":""},{"$f":"IF(申込個票!Q33=\"\",\"\",申込個票!Q33)","v":""},{"$f":"IF(申込個票!J33=\"\",\"\",申込個票!J33)","v":""},{"$f":"IF(申込個票!K33=\"\",\"\",申込個票!K33)","v":""}]
[null,29,{"$f":"IF(申込個票!I34=\"\",\"\",申込個票!I34)","v":""},{"$f":"IF(申込個票!L34=\"\",\"\",申込個票!L34&\"  \"&申込個票!M34)","v":""},{"$f":"IF(申込個票!L34=\"\",\"\",\"男\")","v":""},{"$f":"IF(申込個票!O34=\"\",\"\",申込個票!O34)","v":""},{"$f":"IF(申込個票!Q34=\"\",\"\",申込個票!Q34)","v":""},{"$f":"IF(申込個票!J34=\"\",\"\",申込個票!J34)","v":""},{"$f":"IF(申込個票!K34=\"\",\"\",申込個票!K34)","v":""}]
[null,30,{"$f":"IF(申込個票!I35=\"\",\"\",申込個票!I35)","v":""},{"$f":"IF(申込個票!L35=\"\",\"\",申込個票!L35&\"  \"&申込個票!M35)","v":""},{"$f":"IF(申込個票!L35=\"\",\"\",\"男\")","v":""},{"$f":"IF(申込個票!O35=\"\",\"\",申込個票!O35)","v":""},{"$f":"IF(申込個票!Q35=\"\",\"\",申込個票!Q35)","v":""},{"$f":"IF(申込個票!J35=\"\",\"\",申込個票!J35)","v":""},{"$f":"IF(申込個票!K35=\"\",\"\",申込個票!K35)","v":""}]
[]
[]
[null,null,"(様式A）"]
[null,null,null,{"$f":"IF(D3=\"\",\"\",$D$3)","v":"第１７７ 回　松戸市陸上競技記録会中学生大会　　申込一覧表"},null,null,null,null,null,null,null,null,null,null,null,{"$f":"P3+1","v":2}]
[]
[]
[null,null,null,"健康診断の結果異常がないことを認め、標記競技会への出場を認めます。"]
[null,null,null,null,null,null,null,null,null,null,null,{"$f":"IF(申込み一覧男子!$L$7=\"\",\"\",申込み一覧男子!$L$7)","v":"平成　２８年　６月　　日"}]
[null,null,null,{"$f":"申込み一覧男子!$D$8","v":"松戸市陸上競技協会"}]
[null,null,null,{"$f":"申込み一覧男子!$D$9","v":"会長　　林　英昭　様"}]
[]
[]
[null,null,null,"団体（学校）名",{"$f":"IF($E$12=\"\",\"\",$E$12)","v":""},null,null,null,null,"団体略称(６文字以内)",null,{"$f":"IF($L$12=\"\",\"\",$L$12)","v":""}]
[null,null,null,"所 属 長",{"$f":"IF($E$13=\"\",\"\",$E$13)","v":""},null,null,null,"㊞","連絡先\n住　所",{"$f":"IF($K$13=\"\",\"\",$K$13)","v":" 〒"}]
[null,null,null,null,null,null,null,null,null,null,{"$f":"IF($K$14=\"\",\"\",$K$14)","v":""}]
[]
[null,null,null,"記載責任者\n（連絡担当者）",{"$f":"IF($E$16=\"\",\"\",$E$16)","v":""},null,null,null,"㊞"]
[null,null,null,null,null,null,null,null,null,"電　話\n（担当者）",{"$f":"IF($K$17=\"\",\"\",$K$17)","v":"連絡問い合わせ先（顧問責任者）"}]
[null,null,null,null,null,null,null,null,null,null,{"$f":"IF($K$18=\"\",\"\",$K$18)","v":""},{"$f":"IF($K$17=\"\",\"\",$K$17)","v":"連絡問い合わせ先（顧問責任者）"},"連絡問い合わせ先（顧問責任者）","連絡問い合わせ先（顧問責任者）","連絡問い合わせ先（顧問責任者）","連絡問い合わせ先（顧問責任者）","連絡問い合わせ先（顧問責任者）"]
[]
[null,null,"※記載表記について"]
[null,null,"１．大会参加競技者一覧表（一人一種目１行。）"]
[]
[null,null,"２．個人申込票"]
[null,null,"　　(1)個人申込票は、競技者データシートへのデータ入力。"]
[null,null,"　　(2)記載表記にあたっては記入漏れの無い事、特に参加種目、記録、は確実に記載表記する。"]
[null,null,"\nナンハ゛ー","氏　　名","性別","学年","生年月日\n西暦で記入"]
[null,null,null,null,null,null,null,"種目","記録"]
[null,{"$f":"B57+1","v":31},{"$f":"IF(申込個票!I36=\"\",\"\",申込個票!I36)","v":""},{"$f":"IF(申込個票!L36=\"\",\"\",申込個票!L36&\"  \"&申込個票!M36)","v":""},{"$f":"IF(申込個票!L36=\"\",\"\",\"男\")","v":""},{"$f":"IF(申込個票!O36=\"\",\"\",申込個票!O36)","v":""},{"$f":"IF(申込個票!Q36=\"\",\"\",申込個票!Q36)","v":""},{"$f":"IF(申込個票!J36=\"\",\"\",申込個票!J36)","v":""},{"$f":"IF(申込個票!K36=\"\",\"\",申込個票!K36)","v":""}]
[null,{"$f":"B86+1","v":32},{"$f":"IF(申込個票!I37=\"\",\"\",申込個票!I37)","v":""},{"$f":"IF(申込個票!L37=\"\",\"\",申込個票!L37&\"  \"&申込個票!M37)","v":""},{"$f":"IF(申込個票!L37=\"\",\"\",\"男\")","v":""},{"$f":"IF(申込個票!O37=\"\",\"\",申込個票!O37)","v":""},{"$f":"IF(申込個票!Q37=\"\",\"\",申込個票!Q37)","v":""},{"$f":"IF(申込個票!J37=\"\",\"\",申込個票!J37)","v":""},{"$f":"IF(申込個票!K37=\"\",\"\",申込個票!K37)","v":""}]
[null,33,{"$f":"IF(申込個票!I38=\"\",\"\",申込個票!I38)","v":""},{"$f":"IF(申込個票!L38=\"\",\"\",申込個票!L38&\"  \"&申込個票!M38)","v":""},{"$f":"IF(申込個票!L38=\"\",\"\",\"男\")","v":""},{"$f":"IF(申込個票!O38=\"\",\"\",申込個票!O38)","v":""},{"$f":"IF(申込個票!Q38=\"\",\"\",申込個票!Q38)","v":""},{"$f":"IF(申込個票!J38=\"\",\"\",申込個票!J38)","v":""},{"$f":"IF(申込個票!K38=\"\",\"\",申込個票!K38)","v":""}]
[null,34,{"$f":"IF(申込個票!I39=\"\",\"\",申込個票!I39)","v":""},{"$f":"IF(申込個票!L39=\"\",\"\",申込個票!L39&\"  \"&申込個票!M39)","v":""},{"$f":"IF(申込個票!L39=\"\",\"\",\"男\")","v":""},{"$f":"IF(申込個票!O39=\"\",\"\",申込個票!O39)","v":""},{"$f":"IF(申込個票!Q39=\"\",\"\",申込個票!Q39)","v":""},{"$f":"IF(申込個票!J39=\"\",\"\",申込個票!J39)","v":""},{"$f":"IF(申込個票!K39=\"\",\"\",申込個票!K39)","v":""}]
[null,35,{"$f":"IF(申込個票!I40=\"\",\"\",申込個票!I40)","v":""},{"$f":"IF(申込個票!L40=\"\",\"\",申込個票!L40&\"  \"&申込個票!M40)","v":""},{"$f":"IF(申込個票!L40=\"\",\"\",\"男\")","v":""},{"$f":"IF(申込個票!O40=\"\",\"\",申込個票!O40)","v":""},{"$f":"IF(申込個票!Q40=\"\",\"\",申込個票!Q40)","v":""},{"$f":"IF(申込個票!J40=\"\",\"\",申込個票!J40)","v":""},{"$f":"IF(申込個票!K40=\"\",\"\",申込個票!K40)","v":""}]
[null,36,{"$f":"IF(申込個票!I41=\"\",\"\",申込個票!I41)","v":""},{"$f":"IF(申込個票!L41=\"\",\"\",申込個票!L41&\"  \"&申込個票!M41)","v":""},{"$f":"IF(申込個票!L41=\"\",\"\",\"男\")","v":""},{"$f":"IF(申込個票!O41=\"\",\"\",申込個票!O41)","v":""},{"$f":"IF(申込個票!Q41=\"\",\"\",申込個票!Q41)","v":""},{"$f":"IF(申込個票!J41=\"\",\"\",申込個票!J41)","v":""},{"$f":"IF(申込個票!K41=\"\",\"\",申込個票!K41)","v":""}]
[null,37,{"$f":"IF(申込個票!I42=\"\",\"\",申込個票!I42)","v":""},{"$f":"IF(申込個票!L42=\"\",\"\",申込個票!L42&\"  \"&申込個票!M42)","v":""},{"$f":"IF(申込個票!L42=\"\",\"\",\"男\")","v":""},{"$f":"IF(申込個票!O42=\"\",\"\",申込個票!O42)","v":""},{"$f":"IF(申込個票!Q42=\"\",\"\",申込個票!Q42)","v":""},{"$f":"IF(申込個票!J42=\"\",\"\",申込個票!J42)","v":""},{"$f":"IF(申込個票!K42=\"\",\"\",申込個票!K42)","v":""}]
[null,38,{"$f":"IF(申込個票!I43=\"\",\"\",申込個票!I43)","v":""},{"$f":"IF(申込個票!L43=\"\",\"\",申込個票!L43&\"  \"&申込個票!M43)","v":""},{"$f":"IF(申込個票!L43=\"\",\"\",\"男\")","v":""},{"$f":"IF(申込個票!O43=\"\",\"\",申込個票!O43)","v":""},{"$f":"IF(申込個票!Q43=\"\",\"\",申込個票!Q43)","v":""},{"$f":"IF(申込個票!J43=\"\",\"\",申込個票!J43)","v":""},{"$f":"IF(申込個票!K43=\"\",\"\",申込個票!K43)","v":""}]
[null,39,{"$f":"IF(申込個票!I44=\"\",\"\",申込個票!I44)","v":""},{"$f":"IF(申込個票!L44=\"\",\"\",申込個票!L44&\"  \"&申込個票!M44)","v":""},{"$f":"IF(申込個票!L44=\"\",\"\",\"男\")","v":""},{"$f":"IF(申込個票!O44=\"\",\"\",申込個票!O44)","v":""},{"$f":"IF(申込個票!Q44=\"\",\"\",申込個票!Q44)","v":""},{"$f":"IF(申込個票!J44=\"\",\"\",申込個票!J44)","v":""},{"$f":"IF(申込個票!K44=\"\",\"\",申込個票!K44)","v":""}]
[null,40,{"$f":"IF(申込個票!I45=\"\",\"\",申込個票!I45)","v":""},{"$f":"IF(申込個票!L45=\"\",\"\",申込個票!L45&\"  \"&申込個票!M45)","v":""},{"$f":"IF(申込個票!L45=\"\",\"\",\"男\")","v":""},{"$f":"IF(申込個票!O45=\"\",\"\",申込個票!O45)","v":""},{"$f":"IF(申込個票!Q45=\"\",\"\",申込個票!Q45)","v":""},{"$f":"IF(申込個票!J45=\"\",\"\",申込個票!J45)","v":""},{"$f":"IF(申込個票!K45=\"\",\"\",申込個票!K45)","v":""}]
[null,41,{"$f":"IF(申込個票!I46=\"\",\"\",申込個票!I46)","v":""},{"$f":"IF(申込個票!L46=\"\",\"\",申込個票!L46&\"  \"&申込個票!M46)","v":""},{"$f":"IF(申込個票!L46=\"\",\"\",\"男\")","v":""},{"$f":"IF(申込個票!O46=\"\",\"\",申込個票!O46)","v":""},{"$f":"IF(申込個票!Q46=\"\",\"\",申込個票!Q46)","v":""},{"$f":"IF(申込個票!J46=\"\",\"\",申込個票!J46)","v":""},{"$f":"IF(申込個票!K46=\"\",\"\",申込個票!K46)","v":""}]
[null,42,{"$f":"IF(申込個票!I47=\"\",\"\",申込個票!I47)","v":""},{"$f":"IF(申込個票!L47=\"\",\"\",申込個票!L47&\"  \"&申込個票!M47)","v":""},{"$f":"IF(申込個票!L47=\"\",\"\",\"男\")","v":""},{"$f":"IF(申込個票!O47=\"\",\"\",申込個票!O47)","v":""},{"$f":"IF(申込個票!Q47=\"\",\"\",申込個票!Q47)","v":""},{"$f":"IF(申込個票!J47=\"\",\"\",申込個票!J47)","v":""},{"$f":"IF(申込個票!K47=\"\",\"\",申込個票!K47)","v":""}]
[null,43,{"$f":"IF(申込個票!I48=\"\",\"\",申込個票!I48)","v":""},{"$f":"IF(申込個票!L48=\"\",\"\",申込個票!L48&\"  \"&申込個票!M48)","v":""},{"$f":"IF(申込個票!L48=\"\",\"\",\"男\")","v":""},{"$f":"IF(申込個票!O48=\"\",\"\",申込個票!O48)","v":""},{"$f":"IF(申込個票!Q48=\"\",\"\",申込個票!Q48)","v":""},{"$f":"IF(申込個票!J48=\"\",\"\",申込個票!J48)","v":""},{"$f":"IF(申込個票!K48=\"\",\"\",申込個票!K48)","v":""}]
[null,44,{"$f":"IF(申込個票!I49=\"\",\"\",申込個票!I49)","v":""},{"$f":"IF(申込個票!L49=\"\",\"\",申込個票!L49&\"  \"&申込個票!M49)","v":""},{"$f":"IF(申込個票!L49=\"\",\"\",\"男\")","v":""},{"$f":"IF(申込個票!O49=\"\",\"\",申込個票!O49)","v":""},{"$f":"IF(申込個票!Q49=\"\",\"\",申込個票!Q49)","v":""},{"$f":"IF(申込個票!J49=\"\",\"\",申込個票!J49)","v":""},{"$f":"IF(申込個票!K49=\"\",\"\",申込個票!K49)","v":""}]
[null,45,{"$f":"IF(申込個票!I50=\"\",\"\",申込個票!I50)","v":""},{"$f":"IF(申込個票!L50=\"\",\"\",申込個票!L50&\"  \"&申込個票!M50)","v":""},{"$f":"IF(申込個票!L50=\"\",\"\",\"男\")","v":""},{"$f":"IF(申込個票!O50=\"\",\"\",申込個票!O50)","v":""},{"$f":"IF(申込個票!Q50=\"\",\"\",申込個票!Q50)","v":""},{"$f":"IF(申込個票!J50=\"\",\"\",申込個票!J50)","v":""},{"$f":"IF(申込個票!K50=\"\",\"\",申込個票!K50)","v":""}]
[null,46,{"$f":"IF(申込個票!I51=\"\",\"\",申込個票!I51)","v":""},{"$f":"IF(申込個票!L51=\"\",\"\",申込個票!L51&\"  \"&申込個票!M51)","v":""},{"$f":"IF(申込個票!L51=\"\",\"\",\"男\")","v":""},{"$f":"IF(申込個票!O51=\"\",\"\",申込個票!O51)","v":""},{"$f":"IF(申込個票!Q51=\"\",\"\",申込個票!Q51)","v":""},{"$f":"IF(申込個票!J51=\"\",\"\",申込個票!J51)","v":""},{"$f":"IF(申込個票!K51=\"\",\"\",申込個票!K51)","v":""}]
[null,47,{"$f":"IF(申込個票!I52=\"\",\"\",申込個票!I52)","v":""},{"$f":"IF(申込個票!L52=\"\",\"\",申込個票!L52&\"  \"&申込個票!M52)","v":""},{"$f":"IF(申込個票!L52=\"\",\"\",\"男\")","v":""},{"$f":"IF(申込個票!O52=\"\",\"\",申込個票!O52)","v":""},{"$f":"IF(申込個票!Q52=\"\",\"\",申込個票!Q52)","v":""},{"$f":"IF(申込個票!J52=\"\",\"\",申込個票!J52)","v":""},{"$f":"IF(申込個票!K52=\"\",\"\",申込個票!K52)","v":""}]
[null,48,{"$f":"IF(申込個票!I53=\"\",\"\",申込個票!I53)","v":""},{"$f":"IF(申込個票!L53=\"\",\"\",申込個票!L53&\"  \"&申込個票!M53)","v":""},{"$f":"IF(申込個票!L53=\"\",\"\",\"男\")","v":""},{"$f":"IF(申込個票!O53=\"\",\"\",申込個票!O53)","v":""},{"$f":"IF(申込個票!Q53=\"\",\"\",申込個票!Q53)","v":""},{"$f":"IF(申込個票!J53=\"\",\"\",申込個票!J53)","v":""},{"$f":"IF(申込個票!K53=\"\",\"\",申込個票!K53)","v":""}]
[null,49,{"$f":"IF(申込個票!I54=\"\",\"\",申込個票!I54)","v":""},{"$f":"IF(申込個票!L54=\"\",\"\",申込個票!L54&\"  \"&申込個票!M54)","v":""},{"$f":"IF(申込個票!L54=\"\",\"\",\"男\")","v":""},{"$f":"IF(申込個票!O54=\"\",\"\",申込個票!O54)","v":""},{"$f":"IF(申込個票!Q54=\"\",\"\",申込個票!Q54)","v":""},{"$f":"IF(申込個票!J54=\"\",\"\",申込個票!J54)","v":""},{"$f":"IF(申込個票!K54=\"\",\"\",申込個票!K54)","v":""}]
[null,50,{"$f":"IF(申込個票!I55=\"\",\"\",申込個票!I55)","v":""},{"$f":"IF(申込個票!L55=\"\",\"\",申込個票!L55&\"  \"&申込個票!M55)","v":""},{"$f":"IF(申込個票!L55=\"\",\"\",\"男\")","v":""},{"$f":"IF(申込個票!O55=\"\",\"\",申込個票!O55)","v":""},{"$f":"IF(申込個票!Q55=\"\",\"\",申込個票!Q55)","v":""},{"$f":"IF(申込個票!J55=\"\",\"\",申込個票!J55)","v":""},{"$f":"IF(申込個票!K55=\"\",\"\",申込個票!K55)","v":""}]
[null,51,{"$f":"IF(申込個票!I56=\"\",\"\",申込個票!I56)","v":""},{"$f":"IF(申込個票!L56=\"\",\"\",申込個票!L56&\"  \"&申込個票!M56)","v":""},{"$f":"IF(申込個票!L56=\"\",\"\",\"男\")","v":""},{"$f":"IF(申込個票!O56=\"\",\"\",申込個票!O56)","v":""},{"$f":"IF(申込個票!Q56=\"\",\"\",申込個票!Q56)","v":""},{"$f":"IF(申込個票!J56=\"\",\"\",申込個票!J56)","v":""},{"$f":"IF(申込個票!K56=\"\",\"\",申込個票!K56)","v":""}]
[null,52,{"$f":"IF(申込個票!I57=\"\",\"\",申込個票!I57)","v":""},{"$f":"IF(申込個票!L57=\"\",\"\",申込個票!L57&\"  \"&申込個票!M57)","v":""},{"$f":"IF(申込個票!L57=\"\",\"\",\"男\")","v":""},{"$f":"IF(申込個票!O57=\"\",\"\",申込個票!O57)","v":""},{"$f":"IF(申込個票!Q57=\"\",\"\",申込個票!Q57)","v":""},{"$f":"IF(申込個票!J57=\"\",\"\",申込個票!J57)","v":""},{"$f":"IF(申込個票!K57=\"\",\"\",申込個票!K57)","v":""}]
[null,53,{"$f":"IF(申込個票!I58=\"\",\"\",申込個票!I58)","v":""},{"$f":"IF(申込個票!L58=\"\",\"\",申込個票!L58&\"  \"&申込個票!M58)","v":""},{"$f":"IF(申込個票!L58=\"\",\"\",\"男\")","v":""},{"$f":"IF(申込個票!O58=\"\",\"\",申込個票!O58)","v":""},{"$f":"IF(申込個票!Q58=\"\",\"\",申込個票!Q58)","v":""},{"$f":"IF(申込個票!J58=\"\",\"\",申込個票!J58)","v":""},{"$f":"IF(申込個票!K58=\"\",\"\",申込個票!K58)","v":""}]
[null,54,{"$f":"IF(申込個票!I59=\"\",\"\",申込個票!I59)","v":""},{"$f":"IF(申込個票!L59=\"\",\"\",申込個票!L59&\"  \"&申込個票!M59)","v":""},{"$f":"IF(申込個票!L59=\"\",\"\",\"男\")","v":""},{"$f":"IF(申込個票!O59=\"\",\"\",申込個票!O59)","v":""},{"$f":"IF(申込個票!Q59=\"\",\"\",申込個票!Q59)","v":""},{"$f":"IF(申込個票!J59=\"\",\"\",申込個票!J59)","v":""},{"$f":"IF(申込個票!K59=\"\",\"\",申込個票!K59)","v":""}]
[null,55,{"$f":"IF(申込個票!I60=\"\",\"\",申込個票!I60)","v":""},{"$f":"IF(申込個票!L60=\"\",\"\",申込個票!L60&\"  \"&申込個票!M60)","v":""},{"$f":"IF(申込個票!L60=\"\",\"\",\"男\")","v":""},{"$f":"IF(申込個票!O60=\"\",\"\",申込個票!O60)","v":""},{"$f":"IF(申込個票!Q60=\"\",\"\",申込個票!Q60)","v":""},{"$f":"IF(申込個票!J60=\"\",\"\",申込個票!J60)","v":""},{"$f":"IF(申込個票!K60=\"\",\"\",申込個票!K60)","v":""}]
[null,56,{"$f":"IF(申込個票!I61=\"\",\"\",申込個票!I61)","v":""},{"$f":"IF(申込個票!L61=\"\",\"\",申込個票!L61&\"  \"&申込個票!M61)","v":""},{"$f":"IF(申込個票!L61=\"\",\"\",\"男\")","v":""},{"$f":"IF(申込個票!O61=\"\",\"\",申込個票!O61)","v":""},{"$f":"IF(申込個票!Q61=\"\",\"\",申込個票!Q61)","v":""},{"$f":"IF(申込個票!J61=\"\",\"\",申込個票!J61)","v":""},{"$f":"IF(申込個票!K61=\"\",\"\",申込個票!K61)","v":""}]
[null,57,{"$f":"IF(申込個票!I62=\"\",\"\",申込個票!I62)","v":""},{"$f":"IF(申込個票!L62=\"\",\"\",申込個票!L62&\"  \"&申込個票!M62)","v":""},{"$f":"IF(申込個票!L62=\"\",\"\",\"男\")","v":""},{"$f":"IF(申込個票!O62=\"\",\"\",申込個票!O62)","v":""},{"$f":"IF(申込個票!Q62=\"\",\"\",申込個票!Q62)","v":""},{"$f":"IF(申込個票!J62=\"\",\"\",申込個票!J62)","v":""},{"$f":"IF(申込個票!K62=\"\",\"\",申込個票!K62)","v":""}]
[null,58,{"$f":"IF(申込個票!I63=\"\",\"\",申込個票!I63)","v":""},{"$f":"IF(申込個票!L63=\"\",\"\",申込個票!L63&\"  \"&申込個票!M63)","v":""},{"$f":"IF(申込個票!L63=\"\",\"\",\"男\")","v":""},{"$f":"IF(申込個票!O63=\"\",\"\",申込個票!O63)","v":""},{"$f":"IF(申込個票!Q63=\"\",\"\",申込個票!Q63)","v":""},{"$f":"IF(申込個票!J63=\"\",\"\",申込個票!J63)","v":""},{"$f":"IF(申込個票!K63=\"\",\"\",申込個票!K63)","v":""}]
[null,59,{"$f":"IF(申込個票!I64=\"\",\"\",申込個票!I64)","v":""},{"$f":"IF(申込個票!L64=\"\",\"\",申込個票!L64&\"  \"&申込個票!M64)","v":""},{"$f":"IF(申込個票!L64=\"\",\"\",\"男\")","v":""},{"$f":"IF(申込個票!O64=\"\",\"\",申込個票!O64)","v":""},{"$f":"IF(申込個票!Q64=\"\",\"\",申込個票!Q64)","v":""},{"$f":"IF(申込個票!J64=\"\",\"\",申込個票!J64)","v":""},{"$f":"IF(申込個票!K64=\"\",\"\",申込個票!K64)","v":""}]
[null,60,{"$f":"IF(申込個票!I65=\"\",\"\",申込個票!I65)","v":""},{"$f":"IF(申込個票!L65=\"\",\"\",申込個票!L65&\"  \"&申込個票!M65)","v":""},{"$f":"IF(申込個票!L65=\"\",\"\",\"男\")","v":""},{"$f":"IF(申込個票!O65=\"\",\"\",申込個票!O65)","v":""},{"$f":"IF(申込個票!Q65=\"\",\"\",申込個票!Q65)","v":""},{"$f":"IF(申込個票!J65=\"\",\"\",申込個票!J65)","v":""},{"$f":"IF(申込個票!K65=\"\",\"\",申込個票!K65)","v":""}]
[]
[]
[null,null,"(様式A）"]
[null,null,null,{"$f":"IF(D61=\"\",\"\",$D$3)","v":"第１７７ 回　松戸市陸上競技記録会中学生大会　　申込一覧表"},null,null,null,null,null,null,null,null,null,null,null,{"$f":"P61+1","v":3}]
[]
[]
[null,null,null,"健康診断の結果異常がないことを認め、標記競技会への出場を認めます。"]
[null,null,null,null,null,null,null,null,null,null,null,{"$f":"IF(申込み一覧男子!$L$7=\"\",\"\",申込み一覧男子!$L$7)","v":"平成　２８年　６月　　日"}]
[null,null,null,{"$f":"申込み一覧男子!$D$8","v":"松戸市陸上競技協会"}]
[null,null,null,{"$f":"申込み一覧男子!$D$9","v":"会長　　林　英昭　様"}]
[]
[]
[null,null,null,"団体（学校）名",{"$f":"IF($E$12=\"\",\"\",$E$12)","v":""},null,null,null,null,"団体略称(６文字以内)",null,{"$f":"IF($L$12=\"\",\"\",$L$12)","v":""}]
[null,null,null,"所 属 長",{"$f":"IF($E$13=\"\",\"\",$E$13)","v":""},null,null,null,"㊞","連絡先\n住　所",{"$f":"IF($K$13=\"\",\"\",$K$13)","v":" 〒"}]
[null,null,null,null,null,null,null,null,null,null,{"$f":"IF($K$14=\"\",\"\",$K$14)","v":""}]
[]
[null,null,null,"記載責任者\n（連絡担当者）",{"$f":"IF($E$16=\"\",\"\",$E$16)","v":""},null,null,null,"㊞"]
[null,null,null,null,null,null,null,null,null,"電　話\n（担当者）",{"$f":"IF($K$17=\"\",\"\",$K$17)","v":"連絡問い合わせ先（顧問責任者）"}]
[null,null,null,null,null,null,null,null,null,null,{"$f":"IF($K$18=\"\",\"\",$K$18)","v":""},{"$f":"IF($K$17=\"\",\"\",$K$17)","v":"連絡問い合わせ先（顧問責任者）"},"連絡問い合わせ先（顧問責任者）","連絡問い合わせ先（顧問責任者）","連絡問い合わせ先（顧問責任者）","連絡問い合わせ先（顧問責任者）","連絡問い合わせ先（顧問責任者）"]
[]
[null,null,"※記載表記について"]
[null,null,"１．大会参加競技者一覧表（一人一種目１行。）"]
[]
[null,null,"２．個人申込票"]
[null,null,"　　(1)個人申込票は、競技者データシートへのデータ入力。"]
[null,null,"　　(2)記載表記にあたっては記入漏れの無い事、特に参加種目、記録、は確実に記載表記する。"]
[null,null,"\nナンハ゛ー","氏　　名","性別","学年","生年月日\n西暦で記入"]
[null,null,null,null,null,null,null,"種目","記録"]
[null,{"$f":"B115+1","v":61},{"$f":"IF(申込個票!I66=\"\",\"\",申込個票!I66)","v":""},{"$f":"IF(申込個票!L66=\"\",\"\",申込個票!L66&\"  \"&申込個票!M66)","v":""},{"$f":"IF(申込個票!L66=\"\",\"\",\"男\")","v":""},{"$f":"IF(申込個票!O66=\"\",\"\",申込個票!O66)","v":""},{"$f":"IF(申込個票!Q66=\"\",\"\",申込個票!Q66)","v":""},{"$f":"IF(申込個票!J66=\"\",\"\",申込個票!J66)","v":""},{"$f":"IF(申込個票!K66=\"\",\"\",申込個票!K66)","v":""}]
[null,{"$f":"B144+1","v":62},{"$f":"IF(申込個票!I67=\"\",\"\",申込個票!I67)","v":""},{"$f":"IF(申込個票!L67=\"\",\"\",申込個票!L67&\"  \"&申込個票!M67)","v":""},{"$f":"IF(申込個票!L67=\"\",\"\",\"男\")","v":""},{"$f":"IF(申込個票!O67=\"\",\"\",申込個票!O67)","v":""},{"$f":"IF(申込個票!Q67=\"\",\"\",申込個票!Q67)","v":""},{"$f":"IF(申込個票!J67=\"\",\"\",申込個票!J67)","v":""},{"$f":"IF(申込個票!K67=\"\",\"\",申込個票!K67)","v":""}]
[null,{"$f":"B145+1","v":63},{"$f":"IF(申込個票!I68=\"\",\"\",申込個票!I68)","v":""},{"$f":"IF(申込個票!L68=\"\",\"\",申込個票!L68&\"  \"&申込個票!M68)","v":""},{"$f":"IF(申込個票!L68=\"\",\"\",\"男\")","v":""},{"$f":"IF(申込個票!O68=\"\",\"\",申込個票!O68)","v":""},{"$f":"IF(申込個票!Q68=\"\",\"\",申込個票!Q68)","v":""},{"$f":"IF(申込個票!J68=\"\",\"\",申込個票!J68)","v":""},{"$f":"IF(申込個票!K68=\"\",\"\",申込個票!K68)","v":""}]
[null,64,{"$f":"IF(申込個票!I69=\"\",\"\",申込個票!I69)","v":""},{"$f":"IF(申込個票!L69=\"\",\"\",申込個票!L69&\"  \"&申込個票!M69)","v":""},{"$f":"IF(申込個票!L69=\"\",\"\",\"男\")","v":""},{"$f":"IF(申込個票!O69=\"\",\"\",申込個票!O69)","v":""},{"$f":"IF(申込個票!Q69=\"\",\"\",申込個票!Q69)","v":""},{"$f":"IF(申込個票!J69=\"\",\"\",申込個票!J69)","v":""},{"$f":"IF(申込個票!K69=\"\",\"\",申込個票!K69)","v":""}]
[null,65,{"$f":"IF(申込個票!I70=\"\",\"\",申込個票!I70)","v":""},{"$f":"IF(申込個票!L70=\"\",\"\",申込個票!L70&\"  \"&申込個票!M70)","v":""},{"$f":"IF(申込個票!L70=\"\",\"\",\"男\")","v":""},{"$f":"IF(申込個票!O70=\"\",\"\",申込個票!O70)","v":""},{"$f":"IF(申込個票!Q70=\"\",\"\",申込個票!Q70)","v":""},{"$f":"IF(申込個票!J70=\"\",\"\",申込個票!J70)","v":""},{"$f":"IF(申込個票!K70=\"\",\"\",申込個票!K70)","v":""}]
[null,66,{"$f":"IF(申込個票!I71=\"\",\"\",申込個票!I71)","v":""},{"$f":"IF(申込個票!L71=\"\",\"\",申込個票!L71&\"  \"&申込個票!M71)","v":""},{"$f":"IF(申込個票!L71=\"\",\"\",\"男\")","v":""},{"$f":"IF(申込個票!O71=\"\",\"\",申込個票!O71)","v":""},{"$f":"IF(申込個票!Q71=\"\",\"\",申込個票!Q71)","v":""},{"$f":"IF(申込個票!J71=\"\",\"\",申込個票!J71)","v":""},{"$f":"IF(申込個票!K71=\"\",\"\",申込個票!K71)","v":""}]
[null,67,{"$f":"IF(申込個票!I72=\"\",\"\",申込個票!I72)","v":""},{"$f":"IF(申込個票!L72=\"\",\"\",申込個票!L72&\"  \"&申込個票!M72)","v":""},{"$f":"IF(申込個票!L72=\"\",\"\",\"男\")","v":""},{"$f":"IF(申込個票!O72=\"\",\"\",申込個票!O72)","v":""},{"$f":"IF(申込個票!Q72=\"\",\"\",申込個票!Q72)","v":""},{"$f":"IF(申込個票!J72=\"\",\"\",申込個票!J72)","v":""},{"$f":"IF(申込個票!K72=\"\",\"\",申込個票!K72)","v":""}]
[null,68,{"$f":"IF(申込個票!I73=\"\",\"\",申込個票!I73)","v":""},{"$f":"IF(申込個票!L73=\"\",\"\",申込個票!L73&\"  \"&申込個票!M73)","v":""},{"$f":"IF(申込個票!L73=\"\",\"\",\"男\")","v":""},{"$f":"IF(申込個票!O73=\"\",\"\",申込個票!O73)","v":""},{"$f":"IF(申込個票!Q73=\"\",\"\",申込個票!Q73)","v":""},{"$f":"IF(申込個票!J73=\"\",\"\",申込個票!J73)","v":""},{"$f":"IF(申込個票!K73=\"\",\"\",申込個票!K73)","v":""}]
[null,69,{"$f":"IF(申込個票!I74=\"\",\"\",申込個票!I74)","v":""},{"$f":"IF(申込個票!L74=\"\",\"\",申込個票!L74&\"  \"&申込個票!M74)","v":""},{"$f":"IF(申込個票!L74=\"\",\"\",\"男\")","v":""},{"$f":"IF(申込個票!O74=\"\",\"\",申込個票!O74)","v":""},{"$f":"IF(申込個票!Q74=\"\",\"\",申込個票!Q74)","v":""},{"$f":"IF(申込個票!J74=\"\",\"\",申込個票!J74)","v":""},{"$f":"IF(申込個票!K74=\"\",\"\",申込個票!K74)","v":""}]
[null,70,{"$f":"IF(申込個票!I75=\"\",\"\",申込個票!I75)","v":""},{"$f":"IF(申込個票!L75=\"\",\"\",申込個票!L75&\"  \"&申込個票!M75)","v":""},{"$f":"IF(申込個票!L75=\"\",\"\",\"男\")","v":""},{"$f":"IF(申込個票!O75=\"\",\"\",申込個票!O75)","v":""},{"$f":"IF(申込個票!Q75=\"\",\"\",申込個票!Q75)","v":""},{"$f":"IF(申込個票!J75=\"\",\"\",申込個票!J75)","v":""},{"$f":"IF(申込個票!K75=\"\",\"\",申込個票!K75)","v":""}]
[null,71,{"$f":"IF(申込個票!I76=\"\",\"\",申込個票!I76)","v":""},{"$f":"IF(申込個票!L76=\"\",\"\",申込個票!L76&\"  \"&申込個票!M76)","v":""},{"$f":"IF(申込個票!L76=\"\",\"\",\"男\")","v":""},{"$f":"IF(申込個票!O76=\"\",\"\",申込個票!O76)","v":""},{"$f":"IF(申込個票!Q76=\"\",\"\",申込個票!Q76)","v":""},{"$f":"IF(申込個票!J76=\"\",\"\",申込個票!J76)","v":""},{"$f":"IF(申込個票!K76=\"\",\"\",申込個票!K76)","v":""}]
[null,72,{"$f":"IF(申込個票!I77=\"\",\"\",申込個票!I77)","v":""},{"$f":"IF(申込個票!L77=\"\",\"\",申込個票!L77&\"  \"&申込個票!M77)","v":""},{"$f":"IF(申込個票!L77=\"\",\"\",\"男\")","v":""},{"$f":"IF(申込個票!O77=\"\",\"\",申込個票!O77)","v":""},{"$f":"IF(申込個票!Q77=\"\",\"\",申込個票!Q77)","v":""},{"$f":"IF(申込個票!J77=\"\",\"\",申込個票!J77)","v":""},{"$f":"IF(申込個票!K77=\"\",\"\",申込個票!K77)","v":""}]
[null,73,{"$f":"IF(申込個票!I78=\"\",\"\",申込個票!I78)","v":""},{"$f":"IF(申込個票!L78=\"\",\"\",申込個票!L78&\"  \"&申込個票!M78)","v":""},{"$f":"IF(申込個票!L78=\"\",\"\",\"男\")","v":""},{"$f":"IF(申込個票!O78=\"\",\"\",申込個票!O78)","v":""},{"$f":"IF(申込個票!Q78=\"\",\"\",申込個票!Q78)","v":""},{"$f":"IF(申込個票!J78=\"\",\"\",申込個票!J78)","v":""},{"$f":"IF(申込個票!K78=\"\",\"\",申込個票!K78)","v":""}]
[null,74,{"$f":"IF(申込個票!I79=\"\",\"\",申込個票!I79)","v":""},{"$f":"IF(申込個票!L79=\"\",\"\",申込個票!L79&\"  \"&申込個票!M79)","v":""},{"$f":"IF(申込個票!L79=\"\",\"\",\"男\")","v":""},{"$f":"IF(申込個票!O79=\"\",\"\",申込個票!O79)","v":""},{"$f":"IF(申込個票!Q79=\"\",\"\",申込個票!Q79)","v":""},{"$f":"IF(申込個票!J79=\"\",\"\",申込個票!J79)","v":""},{"$f":"IF(申込個票!K79=\"\",\"\",申込個票!K79)","v":""}]
[null,75,{"$f":"IF(申込個票!I80=\"\",\"\",申込個票!I80)","v":""},{"$f":"IF(申込個票!L80=\"\",\"\",申込個票!L80&\"  \"&申込個票!M80)","v":""},{"$f":"IF(申込個票!L80=\"\",\"\",\"男\")","v":""},{"$f":"IF(申込個票!O80=\"\",\"\",申込個票!O80)","v":""},{"$f":"IF(申込個票!Q80=\"\",\"\",申込個票!Q80)","v":""},{"$f":"IF(申込個票!J80=\"\",\"\",申込個票!J80)","v":""},{"$f":"IF(申込個票!K80=\"\",\"\",申込個票!K80)","v":""}]
[null,76,{"$f":"IF(申込個票!I81=\"\",\"\",申込個票!I81)","v":""},{"$f":"IF(申込個票!L81=\"\",\"\",申込個票!L81&\"  \"&申込個票!M81)","v":""},{"$f":"IF(申込個票!L81=\"\",\"\",\"男\")","v":""},{"$f":"IF(申込個票!O81=\"\",\"\",申込個票!O81)","v":""},{"$f":"IF(申込個票!Q81=\"\",\"\",申込個票!Q81)","v":""},{"$f":"IF(申込個票!J81=\"\",\"\",申込個票!J81)","v":""},{"$f":"IF(申込個票!K81=\"\",\"\",申込個票!K81)","v":""}]
[null,77,{"$f":"IF(申込個票!I82=\"\",\"\",申込個票!I82)","v":""},{"$f":"IF(申込個票!L82=\"\",\"\",申込個票!L82&\"  \"&申込個票!M82)","v":""},{"$f":"IF(申込個票!L82=\"\",\"\",\"男\")","v":""},{"$f":"IF(申込個票!O82=\"\",\"\",申込個票!O82)","v":""},{"$f":"IF(申込個票!Q82=\"\",\"\",申込個票!Q82)","v":""},{"$f":"IF(申込個票!J82=\"\",\"\",申込個票!J82)","v":""},{"$f":"IF(申込個票!K82=\"\",\"\",申込個票!K82)","v":""}]
[null,78,{"$f":"IF(申込個票!I83=\"\",\"\",申込個票!I83)","v":""},{"$f":"IF(申込個票!L83=\"\",\"\",申込個票!L83&\"  \"&申込個票!M83)","v":""},{"$f":"IF(申込個票!L83=\"\",\"\",\"男\")","v":""},{"$f":"IF(申込個票!O83=\"\",\"\",申込個票!O83)","v":""},{"$f":"IF(申込個票!Q83=\"\",\"\",申込個票!Q83)","v":""},{"$f":"IF(申込個票!J83=\"\",\"\",申込個票!J83)","v":""},{"$f":"IF(申込個票!K83=\"\",\"\",申込個票!K83)","v":""}]
[null,79,{"$f":"IF(申込個票!I84=\"\",\"\",申込個票!I84)","v":""},{"$f":"IF(申込個票!L84=\"\",\"\",申込個票!L84&\"  \"&申込個票!M84)","v":""},{"$f":"IF(申込個票!L84=\"\",\"\",\"男\")","v":""},{"$f":"IF(申込個票!O84=\"\",\"\",申込個票!O84)","v":""},{"$f":"IF(申込個票!Q84=\"\",\"\",申込個票!Q84)","v":""},{"$f":"IF(申込個票!J84=\"\",\"\",申込個票!J84)","v":""},{"$f":"IF(申込個票!K84=\"\",\"\",申込個票!K84)","v":""}]
[null,80,{"$f":"IF(申込個票!I85=\"\",\"\",申込個票!I85)","v":""},{"$f":"IF(申込個票!L85=\"\",\"\",申込個票!L85&\"  \"&申込個票!M85)","v":""},{"$f":"IF(申込個票!L85=\"\",\"\",\"男\")","v":""},{"$f":"IF(申込個票!O85=\"\",\"\",申込個票!O85)","v":""},{"$f":"IF(申込個票!Q85=\"\",\"\",申込個票!Q85)","v":""},{"$f":"IF(申込個票!J85=\"\",\"\",申込個票!J85)","v":""},{"$f":"IF(申込個票!K85=\"\",\"\",申込個票!K85)","v":""}]
[null,81,{"$f":"IF(申込個票!I86=\"\",\"\",申込個票!I86)","v":""},{"$f":"IF(申込個票!L86=\"\",\"\",申込個票!L86&\"  \"&申込個票!M86)","v":""},{"$f":"IF(申込個票!L86=\"\",\"\",\"男\")","v":""},{"$f":"IF(申込個票!O86=\"\",\"\",申込個票!O86)","v":""},{"$f":"IF(申込個票!Q86=\"\",\"\",申込個票!Q86)","v":""},{"$f":"IF(申込個票!J86=\"\",\"\",申込個票!J86)","v":""},{"$f":"IF(申込個票!K86=\"\",\"\",申込個票!K86)","v":""}]
[null,82,{"$f":"IF(申込個票!I87=\"\",\"\",申込個票!I87)","v":""},{"$f":"IF(申込個票!L87=\"\",\"\",申込個票!L87&\"  \"&申込個票!M87)","v":""},{"$f":"IF(申込個票!L87=\"\",\"\",\"男\")","v":""},{"$f":"IF(申込個票!O87=\"\",\"\",申込個票!O87)","v":""},{"$f":"IF(申込個票!Q87=\"\",\"\",申込個票!Q87)","v":""},{"$f":"IF(申込個票!J87=\"\",\"\",申込個票!J87)","v":""},{"$f":"IF(申込個票!K87=\"\",\"\",申込個票!K87)","v":""}]
[null,83,{"$f":"IF(申込個票!I88=\"\",\"\",申込個票!I88)","v":""},{"$f":"IF(申込個票!L88=\"\",\"\",申込個票!L88&\"  \"&申込個票!M88)","v":""},{"$f":"IF(申込個票!L88=\"\",\"\",\"男\")","v":""},{"$f":"IF(申込個票!O88=\"\",\"\",申込個票!O88)","v":""},{"$f":"IF(申込個票!Q88=\"\",\"\",申込個票!Q88)","v":""},{"$f":"IF(申込個票!J88=\"\",\"\",申込個票!J88)","v":""},{"$f":"IF(申込個票!K88=\"\",\"\",申込個票!K88)","v":""}]
[null,84,{"$f":"IF(申込個票!I89=\"\",\"\",申込個票!I89)","v":""},{"$f":"IF(申込個票!L89=\"\",\"\",申込個票!L89&\"  \"&申込個票!M89)","v":""},{"$f":"IF(申込個票!L89=\"\",\"\",\"男\")","v":""},{"$f":"IF(申込個票!O89=\"\",\"\",申込個票!O89)","v":""},{"$f":"IF(申込個票!Q89=\"\",\"\",申込個票!Q89)","v":""},{"$f":"IF(申込個票!J89=\"\",\"\",申込個票!J89)","v":""},{"$f":"IF(申込個票!K89=\"\",\"\",申込個票!K89)","v":""}]
[null,85,{"$f":"IF(申込個票!I90=\"\",\"\",申込個票!I90)","v":""},{"$f":"IF(申込個票!L90=\"\",\"\",申込個票!L90&\"  \"&申込個票!M90)","v":""},{"$f":"IF(申込個票!L90=\"\",\"\",\"男\")","v":""},{"$f":"IF(申込個票!O90=\"\",\"\",申込個票!O90)","v":""},{"$f":"IF(申込個票!Q90=\"\",\"\",申込個票!Q90)","v":""},{"$f":"IF(申込個票!J90=\"\",\"\",申込個票!J90)","v":""},{"$f":"IF(申込個票!K90=\"\",\"\",申込個票!K90)","v":""}]
[null,86,{"$f":"IF(申込個票!I91=\"\",\"\",申込個票!I91)","v":""},{"$f":"IF(申込個票!L91=\"\",\"\",申込個票!L91&\"  \"&申込個票!M91)","v":""},{"$f":"IF(申込個票!L91=\"\",\"\",\"男\")","v":""},{"$f":"IF(申込個票!O91=\"\",\"\",申込個票!O91)","v":""},{"$f":"IF(申込個票!Q91=\"\",\"\",申込個票!Q91)","v":""},{"$f":"IF(申込個票!J91=\"\",\"\",申込個票!J91)","v":""},{"$f":"IF(申込個票!K91=\"\",\"\",申込個票!K91)","v":""}]
[null,87,{"$f":"IF(申込個票!I92=\"\",\"\",申込個票!I92)","v":""},{"$f":"IF(申込個票!L92=\"\",\"\",申込個票!L92&\"  \"&申込個票!M92)","v":""},{"$f":"IF(申込個票!L92=\"\",\"\",\"男\")","v":""},{"$f":"IF(申込個票!O92=\"\",\"\",申込個票!O92)","v":""},{"$f":"IF(申込個票!Q92=\"\",\"\",申込個票!Q92)","v":""},{"$f":"IF(申込個票!J92=\"\",\"\",申込個票!J92)","v":""},{"$f":"IF(申込個票!K92=\"\",\"\",申込個票!K92)","v":""}]
[null,88,{"$f":"IF(申込個票!I93=\"\",\"\",申込個票!I93)","v":""},{"$f":"IF(申込個票!L93=\"\",\"\",申込個票!L93&\"  \"&申込個票!M93)","v":""},{"$f":"IF(申込個票!L93=\"\",\"\",\"男\")","v":""},{"$f":"IF(申込個票!O93=\"\",\"\",申込個票!O93)","v":""},{"$f":"IF(申込個票!Q93=\"\",\"\",申込個票!Q93)","v":""},{"$f":"IF(申込個票!J93=\"\",\"\",申込個票!J93)","v":""},{"$f":"IF(申込個票!K93=\"\",\"\",申込個票!K93)","v":""}]
[null,89,{"$f":"IF(申込個票!I94=\"\",\"\",申込個票!I94)","v":""},{"$f":"IF(申込個票!L94=\"\",\"\",申込個票!L94&\"  \"&申込個票!M94)","v":""},{"$f":"IF(申込個票!L94=\"\",\"\",\"男\")","v":""},{"$f":"IF(申込個票!O94=\"\",\"\",申込個票!O94)","v":""},{"$f":"IF(申込個票!Q94=\"\",\"\",申込個票!Q94)","v":""},{"$f":"IF(申込個票!J94=\"\",\"\",申込個票!J94)","v":""},{"$f":"IF(申込個票!K94=\"\",\"\",申込個票!K94)","v":""}]
[null,90,{"$f":"IF(申込個票!I95=\"\",\"\",申込個票!I95)","v":""},{"$f":"IF(申込個票!L95=\"\",\"\",申込個票!L95&\"  \"&申込個票!M95)","v":""},{"$f":"IF(申込個票!L95=\"\",\"\",\"男\")","v":""},{"$f":"IF(申込個票!O95=\"\",\"\",申込個票!O95)","v":""},{"$f":"IF(申込個票!Q95=\"\",\"\",申込個票!Q95)","v":""},{"$f":"IF(申込個票!J95=\"\",\"\",申込個票!J95)","v":""},{"$f":"IF(申込個票!K95=\"\",\"\",申込個票!K95)","v":""}]
[]
[]
[null,null,"(様式A）"]
[null,null,null,{"$f":"IF(D119=\"\",\"\",$D$3)","v":"第１７７ 回　松戸市陸上競技記録会中学生大会　　申込一覧表"},null,null,null,null,null,null,null,null,null,null,null,{"$f":"P119+1","v":4}]
[]
[]
[null,null,null,"健康診断の結果異常がないことを認め、標記競技会への出場を認めます。"]
[null,null,null,null,null,null,null,null,null,null,null,{"$f":"IF(申込み一覧男子!$L$7=\"\",\"\",申込み一覧男子!$L$7)","v":"平成　２８年　６月　　日"}]
[null,null,null,{"$f":"申込み一覧男子!$D$8","v":"松戸市陸上競技協会"}]
[null,null,null,{"$f":"申込み一覧男子!$D$9","v":"会長　　林　英昭　様"}]
[]
[]
[null,null,null,"団体（学校）名",{"$f":"IF($E$12=\"\",\"\",$E$12)","v":""},null,null,null,null,"団体略称(６文字以内)",null,{"$f":"IF($L$12=\"\",\"\",$L$12)","v":""}]
[null,null,null,"所 属 長",{"$f":"IF($E$13=\"\",\"\",$E$13)","v":""},null,null,null,"㊞","連絡先\n住　所",{"$f":"IF($K$13=\"\",\"\",$K$13)","v":" 〒"}]
[null,null,null,null,null,null,null,null,null,null,{"$f":"IF($K$14=\"\",\"\",$K$14)","v":""}]
[]
[null,null,null,"記載責任者\n（連絡担当者）",{"$f":"IF($E$16=\"\",\"\",$E$16)","v":""},null,null,null,"㊞"]
[null,null,null,null,null,null,null,null,null,"電　話\n（担当者）",{"$f":"IF($K$17=\"\",\"\",$K$17)","v":"連絡問い合わせ先（顧問責任者）"}]
[null,null,null,null,null,null,null,null,null,null,{"$f":"IF($K$18=\"\",\"\",$K$18)","v":""},{"$f":"IF($K$17=\"\",\"\",$K$17)","v":"連絡問い合わせ先（顧問責任者）"},"連絡問い合わせ先（顧問責任者）","連絡問い合わせ先（顧問責任者）","連絡問い合わせ先（顧問責任者）","連絡問い合わせ先（顧問責任者）","連絡問い合わせ先（顧問責任者）"]
[]
[null,null,"※記載表記について"]
[null,null,"１．大会参加競技者一覧表（一人一種目１行。）"]
[]
[null,null,"２．個人申込票"]
[null,null,"　　(1)個人申込票は、競技者データシートへのデータ入力。"]
[null,null,"　　(2)記載表記にあたっては記入漏れの無い事、特に参加種目、記録、は確実に記載表記する。"]
[null,null,"\nナンハ゛ー","氏　　名","性別","学年","生年月日\n西暦で記入"]
[null,null,null,null,null,null,null,"種目","記録"]
[null,{"$f":"B173+1","v":91},{"$f":"IF(申込個票!I96=\"\",\"\",申込個票!I96)","v":""},{"$f":"IF(申込個票!L96=\"\",\"\",申込個票!L96&\"  \"&申込個票!M96)","v":""},{"$f":"IF(申込個票!L96=\"\",\"\",\"男\")","v":""},{"$f":"IF(申込個票!O96=\"\",\"\",申込個票!O96)","v":""},{"$f":"IF(申込個票!Q96=\"\",\"\",申込個票!Q96)","v":""},{"$f":"IF(申込個票!J96=\"\",\"\",申込個票!J96)","v":""},{"$f":"IF(申込個票!K96=\"\",\"\",申込個票!K96)","v":""}]
[null,{"$f":"B202+1","v":92},{"$f":"IF(申込個票!I97=\"\",\"\",申込個票!I97)","v":""},{"$f":"IF(申込個票!L97=\"\",\"\",申込個票!L97&\"  \"&申込個票!M97)","v":""},{"$f":"IF(申込個票!L97=\"\",\"\",\"男\")","v":""},{"$f":"IF(申込個票!O97=\"\",\"\",申込個票!O97)","v":""},{"$f":"IF(申込個票!Q97=\"\",\"\",申込個票!Q97)","v":""},{"$f":"IF(申込個票!J97=\"\",\"\",申込個票!J97)","v":""},{"$f":"IF(申込個票!K97=\"\",\"\",申込個票!K97)","v":""}]
[null,93,{"$f":"IF(申込個票!I98=\"\",\"\",申込個票!I98)","v":""},{"$f":"IF(申込個票!L98=\"\",\"\",申込個票!L98&\"  \"&申込個票!M98)","v":""},{"$f":"IF(申込個票!L98=\"\",\"\",\"男\")","v":""},{"$f":"IF(申込個票!O98=\"\",\"\",申込個票!O98)","v":""},{"$f":"IF(申込個票!Q98=\"\",\"\",申込個票!Q98)","v":""},{"$f":"IF(申込個票!J98=\"\",\"\",申込個票!J98)","v":""},{"$f":"IF(申込個票!K98=\"\",\"\",申込個票!K98)","v":""}]
[null,94,{"$f":"IF(申込個票!I99=\"\",\"\",申込個票!I99)","v":""},{"$f":"IF(申込個票!L99=\"\",\"\",申込個票!L99&\"  \"&申込個票!M99)","v":""},{"$f":"IF(申込個票!L99=\"\",\"\",\"男\")","v":""},{"$f":"IF(申込個票!O99=\"\",\"\",申込個票!O99)","v":""},{"$f":"IF(申込個票!Q99=\"\",\"\",申込個票!Q99)","v":""},{"$f":"IF(申込個票!J99=\"\",\"\",申込個票!J99)","v":""},{"$f":"IF(申込個票!K99=\"\",\"\",申込個票!K99)","v":""}]
[null,95,{"$f":"IF(申込個票!I100=\"\",\"\",申込個票!I100)","v":""},{"$f":"IF(申込個票!L100=\"\",\"\",申込個票!L100&\"  \"&申込個票!M100)","v":""},{"$f":"IF(申込個票!L100=\"\",\"\",\"男\")","v":""},{"$f":"IF(申込個票!O100=\"\",\"\",申込個票!O100)","v":""},{"$f":"IF(申込個票!Q100=\"\",\"\",申込個票!Q100)","v":""},{"$f":"IF(申込個票!J100=\"\",\"\",申込個票!J100)","v":""},{"$f":"IF(申込個票!K100=\"\",\"\",申込個票!K100)","v":""}]
[null,96,{"$f":"IF(申込個票!I101=\"\",\"\",申込個票!I101)","v":""},{"$f":"IF(申込個票!L101=\"\",\"\",申込個票!L101&\"  \"&申込個票!M101)","v":""},{"$f":"IF(申込個票!L101=\"\",\"\",\"男\")","v":""},{"$f":"IF(申込個票!O101=\"\",\"\",申込個票!O101)","v":""},{"$f":"IF(申込個票!Q101=\"\",\"\",申込個票!Q101)","v":""},{"$f":"IF(申込個票!J101=\"\",\"\",申込個票!J101)","v":""},{"$f":"IF(申込個票!K101=\"\",\"\",申込個票!K101)","v":""}]
[null,97,{"$f":"IF(申込個票!I102=\"\",\"\",申込個票!I102)","v":""},{"$f":"IF(申込個票!L102=\"\",\"\",申込個票!L102&\"  \"&申込個票!M102)","v":""},{"$f":"IF(申込個票!L102=\"\",\"\",\"男\")","v":""},{"$f":"IF(申込個票!O102=\"\",\"\",申込個票!O102)","v":""},{"$f":"IF(申込個票!Q102=\"\",\"\",申込個票!Q102)","v":""},{"$f":"IF(申込個票!J102=\"\",\"\",申込個票!J102)","v":""},{"$f":"IF(申込個票!K102=\"\",\"\",申込個票!K102)","v":""}]
[null,98,{"$f":"IF(申込個票!I103=\"\",\"\",申込個票!I103)","v":""},{"$f":"IF(申込個票!L103=\"\",\"\",申込個票!L103&\"  \"&申込個票!M103)","v":""},{"$f":"IF(申込個票!L103=\"\",\"\",\"男\")","v":""},{"$f":"IF(申込個票!O103=\"\",\"\",申込個票!O103)","v":""},{"$f":"IF(申込個票!Q103=\"\",\"\",申込個票!Q103)","v":""},{"$f":"IF(申込個票!J103=\"\",\"\",申込個票!J103)","v":""},{"$f":"IF(申込個票!K103=\"\",\"\",申込個票!K103)","v":""}]
[null,99,{"$f":"IF(申込個票!I104=\"\",\"\",申込個票!I104)","v":""},{"$f":"IF(申込個票!L104=\"\",\"\",申込個票!L104&\"  \"&申込個票!M104)","v":""},{"$f":"IF(申込個票!L104=\"\",\"\",\"男\")","v":""},{"$f":"IF(申込個票!O104=\"\",\"\",申込個票!O104)","v":""},{"$f":"IF(申込個票!Q104=\"\",\"\",申込個票!Q104)","v":""},{"$f":"IF(申込個票!J104=\"\",\"\",申込個票!J104)","v":""},{"$f":"IF(申込個票!K104=\"\",\"\",申込個票!K104)","v":""}]
[null,100,{"$f":"IF(申込個票!I105=\"\",\"\",申込個票!I105)","v":""},{"$f":"IF(申込個票!L105=\"\",\"\",申込個票!L105&\"  \"&申込個票!M105)","v":""},{"$f":"IF(申込個票!L105=\"\",\"\",\"男\")","v":""},{"$f":"IF(申込個票!O105=\"\",\"\",申込個票!O105)","v":""},{"$f":"IF(申込個票!Q105=\"\",\"\",申込個票!Q105)","v":""},{"$f":"IF(申込個票!J105=\"\",\"\",申込個票!J105)","v":""},{"$f":"IF(申込個票!K105=\"\",\"\",申込個票!K105)","v":""}]
[null,101,{"$f":"IF(申込個票!I106=\"\",\"\",申込個票!I106)","v":""},{"$f":"IF(申込個票!L106=\"\",\"\",申込個票!L106&\"  \"&申込個票!M106)","v":""},{"$f":"IF(申込個票!L106=\"\",\"\",\"男\")","v":""},{"$f":"IF(申込個票!O106=\"\",\"\",申込個票!O106)","v":""},{"$f":"IF(申込個票!Q106=\"\",\"\",申込個票!Q106)","v":""},{"$f":"IF(申込個票!J106=\"\",\"\",申込個票!J106)","v":""},{"$f":"IF(申込個票!K106=\"\",\"\",申込個票!K106)","v":""}]
[null,102,{"$f":"IF(申込個票!I107=\"\",\"\",申込個票!I107)","v":""},{"$f":"IF(申込個票!L107=\"\",\"\",申込個票!L107&\"  \"&申込個票!M107)","v":""},{"$f":"IF(申込個票!L107=\"\",\"\",\"男\")","v":""},{"$f":"IF(申込個票!O107=\"\",\"\",申込個票!O107)","v":""},{"$f":"IF(申込個票!Q107=\"\",\"\",申込個票!Q107)","v":""},{"$f":"IF(申込個票!J107=\"\",\"\",申込個票!J107)","v":""},{"$f":"IF(申込個票!K107=\"\",\"\",申込個票!K107)","v":""}]
[null,103,{"$f":"IF(申込個票!I108=\"\",\"\",申込個票!I108)","v":""},{"$f":"IF(申込個票!L108=\"\",\"\",申込個票!L108&\"  \"&申込個票!M108)","v":""},{"$f":"IF(申込個票!L108=\"\",\"\",\"男\")","v":""},{"$f":"IF(申込個票!O108=\"\",\"\",申込個票!O108)","v":""},{"$f":"IF(申込個票!Q108=\"\",\"\",申込個票!Q108)","v":""},{"$f":"IF(申込個票!J108=\"\",\"\",申込個票!J108)","v":""},{"$f":"IF(申込個票!K108=\"\",\"\",申込個票!K108)","v":""}]
[null,104,{"$f":"IF(申込個票!I109=\"\",\"\",申込個票!I109)","v":""},{"$f":"IF(申込個票!L109=\"\",\"\",申込個票!L109&\"  \"&申込個票!M109)","v":""},{"$f":"IF(申込個票!L109=\"\",\"\",\"男\")","v":""},{"$f":"IF(申込個票!O109=\"\",\"\",申込個票!O109)","v":""},{"$f":"IF(申込個票!Q109=\"\",\"\",申込個票!Q109)","v":""},{"$f":"IF(申込個票!J109=\"\",\"\",申込個票!J109)","v":""},{"$f":"IF(申込個票!K109=\"\",\"\",申込個票!K109)","v":""}]
[null,105,{"$f":"IF(申込個票!I110=\"\",\"\",申込個票!I110)","v":""},{"$f":"IF(申込個票!L110=\"\",\"\",申込個票!L110&\"  \"&申込個票!M110)","v":""},{"$f":"IF(申込個票!L110=\"\",\"\",\"男\")","v":""},{"$f":"IF(申込個票!O110=\"\",\"\",申込個票!O110)","v":""},{"$f":"IF(申込個票!Q110=\"\",\"\",申込個票!Q110)","v":""},{"$f":"IF(申込個票!J110=\"\",\"\",申込個票!J110)","v":""},{"$f":"IF(申込個票!K110=\"\",\"\",申込個票!K110)","v":""}]
[null,106,{"$f":"IF(申込個票!I111=\"\",\"\",申込個票!I111)","v":""},{"$f":"IF(申込個票!L111=\"\",\"\",申込個票!L111&\"  \"&申込個票!M111)","v":""},{"$f":"IF(申込個票!L111=\"\",\"\",\"男\")","v":""},{"$f":"IF(申込個票!O111=\"\",\"\",申込個票!O111)","v":""},{"$f":"IF(申込個票!Q111=\"\",\"\",申込個票!Q111)","v":""},{"$f":"IF(申込個票!J111=\"\",\"\",申込個票!J111)","v":""},{"$f":"IF(申込個票!K111=\"\",\"\",申込個票!K111)","v":""}]
[null,107,{"$f":"IF(申込個票!I112=\"\",\"\",申込個票!I112)","v":""},{"$f":"IF(申込個票!L112=\"\",\"\",申込個票!L112&\"  \"&申込個票!M112)","v":""},{"$f":"IF(申込個票!L112=\"\",\"\",\"男\")","v":""},{"$f":"IF(申込個票!O112=\"\",\"\",申込個票!O112)","v":""},{"$f":"IF(申込個票!Q112=\"\",\"\",申込個票!Q112)","v":""},{"$f":"IF(申込個票!J112=\"\",\"\",申込個票!J112)","v":""},{"$f":"IF(申込個票!K112=\"\",\"\",申込個票!K112)","v":""}]
[null,108,{"$f":"IF(申込個票!I113=\"\",\"\",申込個票!I113)","v":""},{"$f":"IF(申込個票!L113=\"\",\"\",申込個票!L113&\"  \"&申込個票!M113)","v":""},{"$f":"IF(申込個票!L113=\"\",\"\",\"男\")","v":""},{"$f":"IF(申込個票!O113=\"\",\"\",申込個票!O113)","v":""},{"$f":"IF(申込個票!Q113=\"\",\"\",申込個票!Q113)","v":""},{"$f":"IF(申込個票!J113=\"\",\"\",申込個票!J113)","v":""},{"$f":"IF(申込個票!K113=\"\",\"\",申込個票!K113)","v":""}]
[null,109,{"$f":"IF(申込個票!I114=\"\",\"\",申込個票!I114)","v":""},{"$f":"IF(申込個票!L114=\"\",\"\",申込個票!L114&\"  \"&申込個票!M114)","v":""},{"$f":"IF(申込個票!L114=\"\",\"\",\"男\")","v":""},{"$f":"IF(申込個票!O114=\"\",\"\",申込個票!O114)","v":""},{"$f":"IF(申込個票!Q114=\"\",\"\",申込個票!Q114)","v":""},{"$f":"IF(申込個票!J114=\"\",\"\",申込個票!J114)","v":""},{"$f":"IF(申込個票!K114=\"\",\"\",申込個票!K114)","v":""}]
[null,110,{"$f":"IF(申込個票!I115=\"\",\"\",申込個票!I115)","v":""},{"$f":"IF(申込個票!L115=\"\",\"\",申込個票!L115&\"  \"&申込個票!M115)","v":""},{"$f":"IF(申込個票!L115=\"\",\"\",\"男\")","v":""},{"$f":"IF(申込個票!O115=\"\",\"\",申込個票!O115)","v":""},{"$f":"IF(申込個票!Q115=\"\",\"\",申込個票!Q115)","v":""},{"$f":"IF(申込個票!J115=\"\",\"\",申込個票!J115)","v":""},{"$f":"IF(申込個票!K115=\"\",\"\",申込個票!K115)","v":""}]
[null,111,{"$f":"IF(申込個票!I116=\"\",\"\",申込個票!I116)","v":""},{"$f":"IF(申込個票!L116=\"\",\"\",申込個票!L116&\"  \"&申込個票!M116)","v":""},{"$f":"IF(申込個票!L116=\"\",\"\",\"男\")","v":""},{"$f":"IF(申込個票!O116=\"\",\"\",申込個票!O116)","v":""},{"$f":"IF(申込個票!Q116=\"\",\"\",申込個票!Q116)","v":""},{"$f":"IF(申込個票!J116=\"\",\"\",申込個票!J116)","v":""},{"$f":"IF(申込個票!K116=\"\",\"\",申込個票!K116)","v":""}]
[null,112,{"$f":"IF(申込個票!I117=\"\",\"\",申込個票!I117)","v":""},{"$f":"IF(申込個票!L117=\"\",\"\",申込個票!L117&\"  \"&申込個票!M117)","v":""},{"$f":"IF(申込個票!L117=\"\",\"\",\"男\")","v":""},{"$f":"IF(申込個票!O117=\"\",\"\",申込個票!O117)","v":""},{"$f":"IF(申込個票!Q117=\"\",\"\",申込個票!Q117)","v":""},{"$f":"IF(申込個票!J117=\"\",\"\",申込個票!J117)","v":""},{"$f":"IF(申込個票!K117=\"\",\"\",申込個票!K117)","v":""}]
[null,113,{"$f":"IF(申込個票!I118=\"\",\"\",申込個票!I118)","v":""},{"$f":"IF(申込個票!L118=\"\",\"\",申込個票!L118&\"  \"&申込個票!M118)","v":""},{"$f":"IF(申込個票!L118=\"\",\"\",\"男\")","v":""},{"$f":"IF(申込個票!O118=\"\",\"\",申込個票!O118)","v":""},{"$f":"IF(申込個票!Q118=\"\",\"\",申込個票!Q118)","v":""},{"$f":"IF(申込個票!J118=\"\",\"\",申込個票!J118)","v":""},{"$f":"IF(申込個票!K118=\"\",\"\",申込個票!K118)","v":""}]
[null,114,{"$f":"IF(申込個票!I119=\"\",\"\",申込個票!I119)","v":""},{"$f":"IF(申込個票!L119=\"\",\"\",申込個票!L119&\"  \"&申込個票!M119)","v":""},{"$f":"IF(申込個票!L119=\"\",\"\",\"男\")","v":""},{"$f":"IF(申込個票!O119=\"\",\"\",申込個票!O119)","v":""},{"$f":"IF(申込個票!Q119=\"\",\"\",申込個票!Q119)","v":""},{"$f":"IF(申込個票!J119=\"\",\"\",申込個票!J119)","v":""},{"$f":"IF(申込個票!K119=\"\",\"\",申込個票!K119)","v":""}]
[null,115,{"$f":"IF(申込個票!I120=\"\",\"\",申込個票!I120)","v":""},{"$f":"IF(申込個票!L120=\"\",\"\",申込個票!L120&\"  \"&申込個票!M120)","v":""},{"$f":"IF(申込個票!L120=\"\",\"\",\"男\")","v":""},{"$f":"IF(申込個票!O120=\"\",\"\",申込個票!O120)","v":""},{"$f":"IF(申込個票!Q120=\"\",\"\",申込個票!Q120)","v":""},{"$f":"IF(申込個票!J120=\"\",\"\",申込個票!J120)","v":""},{"$f":"IF(申込個票!K120=\"\",\"\",申込個票!K120)","v":""}]
[null,116,{"$f":"IF(申込個票!I121=\"\",\"\",申込個票!I121)","v":""},{"$f":"IF(申込個票!L121=\"\",\"\",申込個票!L121&\"  \"&申込個票!M121)","v":""},{"$f":"IF(申込個票!L121=\"\",\"\",\"男\")","v":""},{"$f":"IF(申込個票!O121=\"\",\"\",申込個票!O121)","v":""},{"$f":"IF(申込個票!Q121=\"\",\"\",申込個票!Q121)","v":""},{"$f":"IF(申込個票!J121=\"\",\"\",申込個票!J121)","v":""},{"$f":"IF(申込個票!K121=\"\",\"\",申込個票!K121)","v":""}]
[null,117,{"$f":"IF(申込個票!I122=\"\",\"\",申込個票!I122)","v":""},{"$f":"IF(申込個票!L122=\"\",\"\",申込個票!L122&\"  \"&申込個票!M122)","v":""},{"$f":"IF(申込個票!L122=\"\",\"\",\"男\")","v":""},{"$f":"IF(申込個票!O122=\"\",\"\",申込個票!O122)","v":""},{"$f":"IF(申込個票!Q122=\"\",\"\",申込個票!Q122)","v":""},{"$f":"IF(申込個票!J122=\"\",\"\",申込個票!J122)","v":""},{"$f":"IF(申込個票!K122=\"\",\"\",申込個票!K122)","v":""}]
[null,118,{"$f":"IF(申込個票!I123=\"\",\"\",申込個票!I123)","v":""},{"$f":"IF(申込個票!L123=\"\",\"\",申込個票!L123&\"  \"&申込個票!M123)","v":""},{"$f":"IF(申込個票!L123=\"\",\"\",\"男\")","v":""},{"$f":"IF(申込個票!O123=\"\",\"\",申込個票!O123)","v":""},{"$f":"IF(申込個票!Q123=\"\",\"\",申込個票!Q123)","v":""},{"$f":"IF(申込個票!J123=\"\",\"\",申込個票!J123)","v":""},{"$f":"IF(申込個票!K123=\"\",\"\",申込個票!K123)","v":""}]
[null,119,{"$f":"IF(申込個票!I124=\"\",\"\",申込個票!I124)","v":""},{"$f":"IF(申込個票!L124=\"\",\"\",申込個票!L124&\"  \"&申込個票!M124)","v":""},{"$f":"IF(申込個票!L124=\"\",\"\",\"男\")","v":""},{"$f":"IF(申込個票!O124=\"\",\"\",申込個票!O124)","v":""},{"$f":"IF(申込個票!Q124=\"\",\"\",申込個票!Q124)","v":""},{"$f":"IF(申込個票!J124=\"\",\"\",申込個票!J124)","v":""},{"$f":"IF(申込個票!K124=\"\",\"\",申込個票!K124)","v":""}]
[null,120,{"$f":"IF(申込個票!I125=\"\",\"\",申込個票!I125)","v":""},{"$f":"IF(申込個票!L125=\"\",\"\",申込個票!L125&\"  \"&申込個票!M125)","v":""},{"$f":"IF(申込個票!L125=\"\",\"\",\"男\")","v":""},{"$f":"IF(申込個票!O125=\"\",\"\",申込個票!O125)","v":""},{"$f":"IF(申込個票!Q125=\"\",\"\",申込個票!Q125)","v":""},{"$f":"IF(申込個票!J125=\"\",\"\",申込個票!J125)","v":""},{"$f":"IF(申込個票!K125=\"\",\"\",申込個票!K125)","v":""}]

{"sheet":"申込み一覧女子","index":4,"n_rows":231,"n_cols":16,"rows_kept":231,"cut":false,"hidden":false,"merged":[[19,1,24,1],[83,2,84,2],[83,3,84,3],[83,4,84,4],[83,5,84,5],[69,4,69,8],[83,6,84,6],[73,3,75,3],[73,4,75,7],[73,8,75,8],[70,4,72,7],[70,8,72,8],[25,1,26,1],[25,2,26,2],[12,4,14,7],[12,8,14,8],[12,9,15,9],[12,10,12,12],[25,6,26,6],[70,3,72,3],[65,3,65,5],[66,3,66,5],[63,3,63,10],[25,3,26,3],[25,4,26,4],[25,5,26,5],[13,10,15,16],[15,8,17,8],[16,9,17,9],[23,15,23,16],[21,15,21,16],[22,15,22,16],[83,9,83,10],[83,11,83,12],[83,13,83,16],[25,11,25,12],[25,13,25,16],[74,9,75,9],[69,11,69,16],[25,9,25,10],[69,9,69,10],[60,15,60,16],[71,10,73,16],[70,9,73,9],[70,10,70,12],[2,1,18,1],[5,3,5,10],[9,3,9,10],[2,15,2,16],[24,15,24,16],[17,10,17,16],[7,3,7,5],[8,3,8,5],[11,4,11,8],[11,9,11,10],[15,4,17,7],[11,11,11,16],[15,3,17,3],[20,6,20,7],[20,8,20,9],[21,6,21,7],[21,8,21,9],[22,6,22,7],[22,8,22,9],[23,6,23,7],[23,8,23,9],[24,6,24,7],[24,8,24,9],[12,3,14,3],[127,11,127,16],[128,3,130,3],[128,4,130,7],[128,8,130,8],[141,2,142,2],[141,3,142,3],[141,4,142,4],[141,5,142,5],[141,6,142,6],[127,4,127,8],[127,9,127,10],[199,9,199,10],[199,11,199,12],[199,13,199,16],[199,2,200,2],[199,3,200,3],[199,4,200,4],[199,5,200,5],[199,6,200,6],[186,3,188,3],[186,4,188,7],[186,8,188,8],[186,9,189,9],[186,10,186,12],[187,10,189,16],[189,3,191,3],[189,4,191,7],[189,8,191,8],[190,9,191,9],[185,4,185,8],[185,9,185,10],[118,15,118,16],[176,15,176,16],[75,10,75,16],[133,10,133,16],[191,10,191,16],[121,3,121,10],[123,3,123,5],[124,3,124,5],[179,3,179,10],[181,3,181,5],[182,3,182,5],[185,11,185,16],[131,3,133,3],[131,4,133,7],[131,8,133,8],[132,9,133,9],[128,9,131,9],[128,10,128,12],[129,10,131,16],[141,9,141,10],[141,11,141,12],[141,13,141,16]]}
[]
[null,null,"(様式A）"]
[null,"　右の標題内容は\n　　男子一覧表に入力して下さい。",null,{"$f":"IF(申込み一覧男子!D3=\"\",\"\",申込み一覧男子!D3)","v":"第１７７ 回　松戸市陸上競技記録会中学生大会　　申込一覧表"},null,null,null,null,null,null,null,null,null,null,null,1]
[]
[]
[null,null,null,"健康診断の結果異常がないことを認め、標記競技会への出場を認めます。"]
[null,null,null,null,null,null,null,null,null,null,null,{"$f":"IF(申込み一覧男子!L7=\"\",\"\",申込み一覧男子!L7)","v":"平成　２８年　６月　　日"}]
[null,null,null,{"$f":"申込み一覧男子!$D$8","v":"松戸市陸上競技協会"}]
[null,null,null,{"$f":"申込み一覧男子!$D$9","v":"会長　　林　英昭　様"}]
[]
[]
[null,null,null,"団体（学校）正式名",{"$f":"IF(申込み一覧男子!E12=\"\",\"\",申込み一覧男子!E12)","v":""},null,null,null,null,"団体略称(６文字以内)",null,{"$f":"IF(申込み一覧男子!L12=\"\",\"\",申込み一覧男子!L12)","v":""}]
[null,null,null,"所 属 長",{"$f":"IF(申込み一覧男子!E13=\"\",\"\",申込み一覧男子!E13)","v":""},null,null,null,"㊞","連絡先\n住　所",{"$f":"IF(申込み一覧男子!K13=\"\",\"\",申込み一覧男子!K13)","v":" 〒"}]
[null,null,null,null,null,null,null,null,null,null,{"$f":"IF(申込み一覧男子!K14=\"\",\"\",申込み一覧男子!K14)","v":""}]
[]
[null,null,null,"記載責任者",{"$f":"IF(申込み一覧男子!E16=\"\",\"\",申込み一覧男子!E16)","v":""},null,null,null,"㊞"]
[null,null,null,null,null,null,null,null,null,"電　話\n（担当者）","連絡問い合わせ先（顧問責任者）"]
[null,null,null,null,null,null,null,null,null,null,{"$f":"IF(申込み一覧男子!K18=\"\",\"\",(申込み一覧男子!K18))","v":""}]
[]
[null,"申込一覧表\n作成説明へ","※記載表記について",null,null,null,"　　競技役員協力顧問"]
[null,null,"１．大会参加競技者一覧表（一人一種目１行。）",null,null,null,"顧　　問　　名",null,"担当可能（希望）部署",null,"公認審判級",null,null,"(一人一種目）"]
[null,null,"２．個人申込票",null,null,null,{"$f":"IF(申込み一覧男子!G22=\"\",\"\",申込み一覧男子!G22)","v":""},null,{"$f":"IF(申込み一覧男子!I22=\"\",\"\",申込み一覧男子!I22)","v":""},null,{"$f":"IF(申込み一覧男子!K22=\"\",\"\",申込み一覧男子!K22)","v":""},null,{"$f":"申込個票!AA147","v":0},"×　(参加費)",{"$f":"作成入力について!I133","v":300},{"$f":"M22*O22","v":0}]
[null,null,"　　(1)個人申込票は、競技者ﾃﾞｰﾀｼｰﾄへのﾃﾞｰﾀ入力。",null,null,null,{"$f":"IF(申込み一覧男子!G23=\"\",\"\",申込み一覧男子!G23)","v":""},null,{"$f":"IF(申込み一覧男子!I23=\"\",\"\",申込み一覧男子!I23)","v":""},null,{"$f":"IF(申込み一覧男子!K23=\"\",\"\",申込み一覧男子!K23)","v":""},"(ﾘﾚｰﾁｰﾑ総数)",{"$f":"申込個票!AA155","v":0},"×　(参加費)",{"$f":"作成入力について!L133","v":600},{"$f":"M23*O23","v":0}]
[null,null,"　　(2)記載表記にあたっては記入漏れの無い事、",null,null,null,{"$f":"IF(申込み一覧男子!G24=\"\",\"\",申込み一覧男子!G24)","v":""},null,{"$f":"IF(申込み一覧男子!I24=\"\",\"\",申込み一覧男子!I24)","v":""},null,{"$f":"IF(申込み一覧男子!K24=\"\",\"\",申込み一覧男子!K24)","v":""},"(混成種目)",{"$f":"申込個票!AA156","v":0},"×　(参加費)",{"$f":"作成入力について!O133","v":600},{"$f":"M24*O24","v":0}]
[null,null,"　　　　特に参加種目、記録、は確実に記載表記する。",null,null,null,{"$f":"IF(申込み一覧男子!G25=\"\",\"\",申込み一覧男子!G25)","v":""},null,{"$f":"IF(申込み一覧男子!I25=\"\",\"\",申込み一覧男子!I25)","v":""},null,{"$f":"IF(申込み一覧男子!K25=\"\",\"\",申込み一覧男子!K25)","v":""},null,null,null,"女子　参加費合計",{"$f":"P22+P23+P24","v":0}]
[null,"エントリー\nNO","\nナンハ゛ー","氏　　名","性別","学年","生年月日\n西暦で記入"]
[null,null,null,null,null,null,null,"種目","記録"]
[null,1,{"$f":"IF(申込個票!Y6=\"\",\"\",申込個票!Y6)","v":""},{"$f":"IF(申込個票!AB6=\"\",\"\",申込個票!AB6&\"  \"&申込個票!AC6)","v":""},{"$f":"IF(申込個票!AB6=\"\",\"\",\"女\")","v":""},{"$f":"IF(申込個票!AE6=\"\",\"\",申込個票!AE6)","v":""},{"$f":"IF(申込個票!AG6=\"\",\"\",申込個票!AG6)","v":""},{"$f":"IF(申込個票!Z6=\"\",\"\",申込個票!Z6)","v":""},{"$f":"IF(申込個票!AA6=\"\",\"\",申込個票!AA6)","v":""}]
[null,{"$f":"B28+1","v":2},{"$f":"IF(申込個票!Y7=\"\",\"\",申込個票!Y7)","v":""},{"$f":"IF(申込個票!AB7=\"\",\"\",申込個票!AB7&\"  \"&申込個票!AC7)","v":""},{"$f":"IF(申込個票!Z7=\"\",\"\",\"女\")","v":""},{"$f":"IF(申込個票!AE7=\"\",\"\",申込個票!AE7)","v":""},{"$f":"IF(申込個票!AG7=\"\",\"\",申込個票!AG7)","v":""},{"$f":"IF(申込個票!Z7=\"\",\"\",申込個票!Z7)","v":""},{"$f":"IF(申込個票!AA7=\"\",\"\",申込個票!AA7)","v":""}]
[null,{"$f":"B29+1","v":3},{"$f":"IF(申込個票!Y8=\"\",\"\",申込個票!Y8)","v":""},{"$f":"IF(申込個票!AB8=\"\",\"\",申込個票!AB8&\"  \"&申込個票!AC8)","v":""},{"$f":"IF(申込個票!Z8=\"\",\"\",\"女\")","v":""},{"$f":"IF(申込個票!AE8=\"\",\"\",申込個票!AE8)","v":""},{"$f":"IF(申込個票!AG8=\"\",\"\",申込個票!AG8)","v":""},{"$f":"IF(申込個票!Z8=\"\",\"\",申込個票!Z8)","v":""},{"$f":"IF(申込個票!AA8=\"\",\"\",申込個票!AA8)","v":""}]
[null,4,{"$f":"IF(申込個票!Y9=\"\",\"\",申込個票!Y9)","v":""},{"$f":"IF(申込個票!AB9=\"\",\"\",申込個票!AB9&\"  \"&申込個票!AC9)","v":""},{"$f":"IF(申込個票!Z9=\"\",\"\",\"女\")","v":""},{"$f":"IF(申込個票!AE9=\"\",\"\",申込個票!AE9)","v":""},{"$f":"IF(申込個票!AG9=\"\",\"\",申込個票!AG9)","v":""},{"$f":"IF(申込個票!Z9=\"\",\"\",申込個票!Z9)","v":""},{"$f":"IF(申込個票!AA9=\"\",\"\",申込個票!AA9)","v":""}]
[null,5,{"$f":"IF(申込個票!Y10=\"\",\"\",申込個票!Y10)","v":""},{"$f":"IF(申込個票!AB10=\"\",\"\",申込個票!AB10&\"  \"&申込個票!AC10)","v":""},{"$f":"IF(申込個票!Z10=\"\",\"\",\"女\")","v":""},{"$f":"IF(申込個票!AE10=\"\",\"\",申込個票!AE10)","v":""},{"$f":"IF(申込個票!AG10=\"\",\"\",申込個票!AG10)","v":""},{"$f":"IF(申込個票!Z10=\"\",\"\",申込個票!Z10)","v":""},{"$f":"IF(申込個票!AA10=\"\",\"\",申込個票!AA10)","v":""}]
[null,6,{"$f":"IF(申込個票!Y11=\"\",\"\",申込個票!Y11)","v":""},{"$f":"IF(申込個票!AB11=\"\",\"\",申込個票!AB11&\"  \"&申込個票!AC11)","v":""},{"$f":"IF(申込個票!Z11=\"\",\"\",\"女\")","v":""},{"$f":"IF(申込個票!AE11=\"\",\"\",申込個票!AE11)","v":""},{"$f":"IF(申込個票!AG11=\"\",\"\",申込個票!AG11)","v":""},{"$f":"IF(申込個票!Z11=\"\",\"\",申込個票!Z11)","v":""},{"$f":"IF(申込個票!AA11=\"\",\"\",申込個票!AA11)","v":""}]
[null,7,{"$f":"IF(申込個票!Y12=\"\",\"\",申込個票!Y12)","v":""},{"$f":"IF(申込個票!AB12=\"\",\"\",申込個票!AB12&\"  \"&申込個票!AC12)","v":""},{"$f":"IF(申込個票!Z12=\"\",\"\",\"女\")","v":""},{"$f":"IF(申込個票!AE12=\"\",\"\",申込個票!AE12)","v":""},{"$f":"IF(申込個票!AG12=\"\",\"\",申込個票!AG12)","v":""},{"$f":"IF(申込個票!Z12=\"\",\"\",申込個票!Z12)","v":""},{"$f":"IF(申込個票!AA12=\"\",\"\",申込個票!AA12)","v":""}]
[null,8,{"$f":"IF(申込個票!Y13=\"\",\"\",申込個票!Y13)","v":""},{"$f":"IF(申込個票!AB13=\"\",\"\",申込個票!AB13&\"  \"&申込個票!AC13)","v":""},{"$f":"IF(申込個票!Z13=\"\",\"\",\"女\")","v":""},{"$f":"IF(申込個票!AE13=\"\",\"\",申込個票!AE13)","v":""},{"$f":"IF(申込個票!AG13=\"\",\"\",申込個票!AG13)","v":""},{"$f":"IF(申込個票!Z13=\"\",\"\",申込個票!Z13)","v":""},{"$f":"IF(申込個票!AA13=\"\",\"\",申込個票!AA13)","v":""}]
[null,9,{"$f":"IF(申込個票!Y14=\"\",\"\",申込個票!Y14)","v":""},{"$f":"IF(申込個票!AB14=\"\",\"\",申込個票!AB14&\"  \"&申込個票!AC14)","v":""},{"$f":"IF(申込個票!Z14=\"\",\"\",\"女\")","v":""},{"$f":"IF(申込個票!AE14=\"\",\"\",申込個票!AE14)","v":""},{"$f":"IF(申込個票!AG14=\"\",\"\",申込個票!AG14)","v":""},{"$f":"IF(申込個票!Z14=\"\",\"\",申込個票!Z14)","v":""},{"$f":"IF(申込個票!AA14=\"\",\"\",申込個票!AA14)","v":""}]
[null,10,{"$f":"IF(申込個票!Y15=\"\",\"\",申込個票!Y15)","v":""},{"$f":"IF(申込個票!AB15=\"\",\"\",申込個票!AB15&\"  \"&申込個票!AC15)","v":""},{"$f":"IF(申込個票!Z15=\"\",\"\",\"女\")","v":""},{"$f":"IF(申込個票!AE15=\"\",\"\",申込個票!AE15)","v":""},{"$f":"IF(申込個票!AG15=\"\",\"\",申込個票!AG15)","v":""},{"$f":"IF(申込個票!Z15=\"\",\"\",申込個票!Z15)","v":""},{"$f":"IF(申込個票!AA15=\"\",\"\",申込個票!AA15)","v":""}]
[null,11,{"$f":"IF(申込個票!Y16=\"\",\"\",申込個票!Y16)","v":""},{"$f":"IF(申込個票!AB16=\"\",\"\",申込個票!AB16&\"  \"&申込個票!AC16)","v":""},{"$f":"IF(申込個票!Z16=\"\",\"\",\"女\")","v":""},{"$f":"IF(申込個票!AE16=\"\",\"\",申込個票!AE16)","v":""},{"$f":"IF(申込個票!AG16=\"\",\"\",申込個票!AG16)","v":""},{"$f":"IF(申込個票!Z16=\"\",\"\",申込個票!Z16)","v":""},{"$f":"IF(申込個票!AA16=\"\",\"\",申込個票!AA16)","v":""}]
[null,12,{"$f":"IF(申込個票!Y17=\"\",\"\",申込個票!Y17)","v":""},{"$f":"IF(申込個票!AB17=\"\",\"\",申込個票!AB17&\"  \"&申込個票!AC17)","v":""},{"$f":"IF(申込個票!Z17=\"\",\"\",\"女\")","v":""},{"$f":"IF(申込個票!AE17=\"\",\"\",申込個票!AE17)","v":""},{"$f":"IF(申込個票!AG17=\"\",\"\",申込個票!AG17)","v":""},{"$f":"IF(申込個票!Z17=\"\",\"\",申込個票!Z17)","v":""},{"$f":"IF(申込個票!AA17=\"\",\"\",申込個票!AA17)","v":""}]
[null,13,{"$f":"IF(申込個票!Y18=\"\",\"\",申込個票!Y18)","v":""},{"$f":"IF(申込個票!AB18=\"\",\"\",申込個票!AB18&\"  \"&申込個票!AC18)","v":""},{"$f":"IF(申込個票!Z18=\"\",\"\",\"女\")","v":""},{"$f":"IF(申込個票!AE18=\"\",\"\",申込個票!AE18)","v":""},{"$f":"IF(申込個票!AG18=\"\",\"\",申込個票!AG18)","v":""},{"$f":"IF(申込個票!Z18=\"\",\"\",申込個票!Z18)","v":""},{"$f":"IF(申込個票!AA18=\"\",\"\",申込個票!AA18)","v":""}]
[null,14,{"$f":"IF(申込個票!Y19=\"\",\"\",申込個票!Y19)","v":""},{"$f":"IF(申込個票!AB19=\"\",\"\",申込個票!AB19&\"  \"&申込個票!AC19)","v":""},{"$f":"IF(申込個票!Z19=\"\",\"\",\"女\")","v":""},{"$f":"IF(申込個票!AE19=\"\",\"\",申込個票!AE19)","v":""},{"$f":"IF(申込個票!AG19=\"\",\"\",申込個票!AG19)","v":""},{"$f":"IF(申込個票!Z19=\"\",\"\",申込個票!Z19)","v":""},{"$f":"IF(申込個票!AA19=\"\",\"\",申込個票!AA19)","v":""}]
[null,15,{"$f":"IF(申込個票!Y20=\"\",\"\",申込個票!Y20)","v":""},{"$f":"IF(申込個票!AB20=\"\",\"\",申込個票!AB20&\"  \"&申込個票!AC20)","v":""},{"$f":"IF(申込個票!Z20=\"\",\"\",\"女\")","v":""},{"$f":"IF(申込個票!AE20=\"\",\"\",申込個票!AE20)","v":""},{"$f":"IF(申込個票!AG20=\"\",\"\",申込個票!AG20)","v":""},{"$f":"IF(申込個票!Z20=\"\",\"\",申込個票!Z20)","v":""},{"$f":"IF(申込個票!AA20=\"\",\"\",申込個票!AA20)","v":""}]
[null,16,{"$f":"IF(申込個票!Y21=\"\",\"\",申込個票!Y21)","v":""},{"$f":"IF(申込個票!AB21=\"\",\"\",申込個票!AB21&\"  \"&申込個票!AC21)","v":""},{"$f":"IF(申込個票!Z21=\"\",\"\",\"女\")","v":""},{"$f":"IF(申込個票!AE21=\"\",\"\",申込個票!AE21)","v":""},{"$f":"IF(申込個票!AG21=\"\",\"\",申込個票!AG21)","v":""},{"$f":"IF(申込個票!Z21=\"\",\"\",申込個票!Z21)","v":""},{"$f":"IF(申込個票!AA21=\"\",\"\",申込個票!AA21)","v":""}]
[null,17,{"$f":"IF(申込個票!Y22=\"\",\"\",申込個票!Y22)","v":""},{"$f":"IF(申込個票!AB22=\"\",\"\",申込個票!AB22&\"  \"&申込個票!AC22)","v":""},{"$f":"IF(申込個票!Z22=\"\",\"\",\"女\")","v":""},{"$f":"IF(申込個票!AE22=\"\",\"\",申込個票!AE22)","v":""},{"$f":"IF(申込個票!AG22=\"\",\"\",申込個票!AG22)","v":""},{"$f":"IF(申込個票!Z22=\"\",\"\",申込個票!Z22)","v":""},{"$f":"IF(申込個票!AA22=\"\",\"\",申込個票!AA22)","v":""}]
[null,18,{"$f":"IF(申込個票!Y23=\"\",\"\",申込個票!Y23)","v":""},{"$f":"IF(申込個票!AB23=\"\",\"\",申込個票!AB23&\"  \"&申込個票!AC23)","v":""},{"$f":"IF(申込個票!Z23=\"\",\"\",\"女\")","v":""},{"$f":"IF(申込個票!AE23=\"\",\"\",申込個票!AE23)","v":""},{"$f":"IF(申込個票!AG23=\"\",\"\",申込個票!AG23)","v":""},{"$f":"IF(申込個票!Z23=\"\",\"\",申込個票!Z23)","v":""},{"$f":"IF(申込個票!AA23=\"\",\"\",申込個票!AA23)","v":""}]
[null,19,{"$f":"IF(申込個票!Y24=\"\",\"\",申込個票!Y24)","v":""},{"$f":"IF(申込個票!AB24=\"\",\"\",申込個票!AB24&\"  \"&申込個票!AC24)","v":""},{"$f":"IF(申込個票!Z24=\"\",\"\",\"女\")","v":""},{"$f":"IF(申込個票!AE24=\"\",\"\",申込個票!AE24)","v":""},{"$f":"IF(申込個票!AG24=\"\",\"\",申込個票!AG24)","v":""},{"$f":"IF(申込個票!Z24=\"\",\"\",申込個票!Z24)","v":""},{"$f":"IF(申込個票!AA24=\"\",\"\",申込個票!AA24)","v":""}]
[null,20,{"$f":"IF(申込個票!Y25=\"\",\"\",申込個票!Y25)","v":""},{"$f":"IF(申込個票!AB25=\"\",\"\",申込個票!AB25&\"  \"&申込個票!AC25)","v":""},{"$f":"IF(申込個票!Z25=\"\",\"\",\"女\")","v":""},{"$f":"IF(申込個票!AE25=\"\",\"\",申込個票!AE25)","v":""},{"$f":"IF(申込個票!AG25=\"\",\"\",申込個票!AG25)","v":""},{"$f":"IF(申込個票!Z25=\"\",\"\",申込個票!Z25)","v":""},{"$f":"IF(申込個票!AA25=\"\",\"\",申込個票!AA25)","v":""}]
[null,21,{"$f":"IF(申込個票!Y26=\"\",\"\",申込個票!Y26)","v":""},{"$f":"IF(申込個票!AB26=\"\",\"\",申込個票!AB26&\"  \"&申込個票!AC26)","v":""},{"$f":"IF(申込個票!Z26=\"\",\"\",\"女\")","v":""},{"$f":"IF(申込個票!AE26=\"\",\"\",申込個票!AE26)","v":""},{"$f":"IF(申込個票!AG26=\"\",\"\",申込個票!AG26)","v":""},{"$f":"IF(申込個票!Z26=\"\",\"\",申込個票!Z26)","v":""},{"$f":"IF(申込個票!AA26=\"\",\"\",申込個票!AA26)","v":""}]
[null,22,{"$f":"IF(申込個票!Y27=\"\",\"\",申込個票!Y27)","v":""},{"$f":"IF(申込個票!AB27=\"\",\"\",申込個票!AB27&\"  \"&申込個票!AC27)","v":""},{"$f":"IF(申込個票!Z27=\"\",\"\",\"女\")","v":""},{"$f":"IF(申込個票!AE27=\"\",\"\",申込個票!AE27)","v":""},{"$f":"IF(申込個票!AG27=\"\",\"\",申込個票!AG27)","v":""},{"$f":"IF(申込個票!Z27=\"\",\"\",申込個票!Z27)","v":""},{"$f":"IF(申込個票!AA27=\"\",\"\",申込個票!AA27)","v":""}]
[null,23,{"$f":"IF(申込個票!Y28=\"\",\"\",申込個票!Y28)","v":""},{"$f":"IF(申込個票!AB28=\"\",\"\",申込個票!AB28&\"  \"&申込個票!AC28)","v":""},{"$f":"IF(申込個票!Z28=\"\",\"\",\"女\")","v":""},{"$f":"IF(申込個票!AE28=\"\",\"\",申込個票!AE28)","v":""},{"$f":"IF(申込個票!AG28=\"\",\"\",申込個票!AG28)","v":""},{"$f":"IF(申込個票!Z28=\"\",\"\",申込個票!Z28)","v":""},{"$f":"IF(申込個票!AA28=\"\",\"\",申込個票!AA28)","v":""}]
[null,24,{"$f":"IF(申込個票!Y29=\"\",\"\",申込個票!Y29)","v":""},{"$f":"IF(申込個票!AB29=\"\",\"\",申込個票!AB29&\"  \"&申込個票!AC29)","v":""},{"$f":"IF(申込個票!Z29=\"\",\"\",\"女\")","v":""},{"$f":"IF(申込個票!AE29=\"\",\"\",申込個票!AE29)","v":""},{"$f":"IF(申込個票!AG29=\"\",\"\",申込個票!AG29)","v":""},{"$f":"IF(申込個票!Z29=\"\",\"\",申込個票!Z29)","v":""},{"$f":"IF(申込個票!AA29=\"\",\"\",申込個票!AA29)","v":""}]
[null,25,{"$f":"IF(申込個票!Y30=\"\",\"\",申込個票!Y30)","v":""},{"$f":"IF(申込個票!AB30=\"\",\"\",申込個票!AB30&\"  \"&申込個票!AC30)","v":""},{"$f":"IF(申込個票!Z30=\"\",\"\",\"女\")","v":""},{"$f":"IF(申込個票!AE30=\"\",\"\",申込個票!AE30)","v":""},{"$f":"IF(申込個票!AG30=\"\",\"\",申込個票!AG30)","v":""},{"$f":"IF(申込個票!Z30=\"\",\"\",申込個票!Z30)","v":""},{"$f":"IF(申込個票!AA30=\"\",\"\",申込個票!AA30)","v":""}]
[null,26,{"$f":"IF(申込個票!Y31=\"\",\"\",申込個票!Y31)","v":""},{"$f":"IF(申込個票!AB31=\"\",\"\",申込個票!AB31&\"  \"&申込個票!AC31)","v":""},{"$f":"IF(申込個票!Z31=\"\",\"\",\"女\")","v":""},{"$f":"IF(申込個票!AE31=\"\",\"\",申込個票!AE31)","v":""},{"$f":"IF(申込個票!AG31=\"\",\"\",申込個票!AG31)","v":""},{"$f":"IF(申込個票!Z31=\"\",\"\",申込個票!Z31)","v":""},{"$f":"IF(申込個票!AA31=\"\",\"\",申込個票!AA31)","v":""}]
[null,27,{"$f":"IF(申込個票!Y32=\"\",\"\",申込個票!Y32)","v":""},{"$f":"IF(申込個票!AB32=\"\",\"\",申込個票!AB32&\"  \"&申込個票!AC32)","v":""},{"$f":"IF(申込個票!Z32=\"\",\"\",\"女\")","v":""},{"$f":"IF(申込個票!AE32=\"\",\"\",申込個票!AE32)","v":""},{"$f":"IF(申込個票!AG32=\"\",\"\",申込個票!AG32)","v":""},{"$f":"IF(申込個票!Z32=\"\",\"\",申込個票!Z32)","v":""},{"$f":"IF(申込個票!AA32=\"\",\"\",申込個票!AA32)","v":""}]
[null,28,{"$f":"IF(申込個票!Y33=\"\",\"\",申込個票!Y33)","v":""},{"$f":"IF(申込個票!AB33=\"\",\"\",申込個票!AB33&\"  \"&申込個票!AC33)","v":""},{"$f":"IF(申込個票!Z33=\"\",\"\",\"女\")","v":""},{"$f":"IF(申込個票!AE33=\"\",\"\",申込個票!AE33)","v":""},{"$f":"IF(申込個票!AG33=\"\",\"\",申込個票!AG33)","v":""},{"$f":"IF(申込個票!Z33=\"\",\"\",申込個票!Z33)","v":""},{"$f":"IF(申込個票!AA33=\"\",\"\",申込個票!AA33)","v":""}]
[null,29,{"$f":"IF(申込個票!Y34=\"\",\"\",申込個票!Y34)","v":""},{"$f":"IF(申込個票!AB34=\"\",\"\",申込個票!AB34&\"  \"&申込個票!AC34)","v":""},{"$f":"IF(申込個票!Z34=\"\",\"\",\"女\")","v":""},{"$f":"IF(申込個票!AE34=\"\",\"\",申込個票!AE34)","v":""},{"$f":"IF(申込個票!AG34=\"\",\"\",申込個票!AG34)","v":""},{"$f":"IF(申込個票!Z34=\"\",\"\",申込個票!Z34)","v":""},{"$f":"IF(申込個票!AA34=\"\",\"\",申込個票!AA34)","v":""}]
[null,30,{"$f":"IF(申込個票!Y35=\"\",\"\",申込個票!Y35)","v":""},{"$f":"IF(申込個票!AB35=\"\",\"\",申込個票!AB35&\"  \"&申込個票!AC35)","v":""},{"$f":"IF(申込個票!Z35=\"\",\"\",\"女\")","v":""},{"$f":"IF(申込個票!AE35=\"\",\"\",申込個票!AE35)","v":""},{"$f":"IF(申込個票!AG35=\"\",\"\",申込個票!AG35)","v":""},{"$f":"IF(申込個票!Z35=\"\",\"\",申込個票!Z35)","v":""},{"$f":"IF(申込個票!AA35=\"\",\"\",申込個票!AA35)","v":""}]
[]
[]
[null,null,"(様式A）"]
[null,null,null,{"$f":"IF(申込み一覧男子!D61=\"\",\"\",申込み一覧男子!D61)","v":"第１７７ 回　松戸市陸上競技記録会中学生大会　　申込一覧表"},null,null,null,null,null,null,null,null,null,null,null,{"$f":"P3+1","v":2}]
[]
[]
[null,null,null,"健康診断の結果異常がないことを認め、標記競技会への出場を認めます。"]
[null,null,null,null,null,null,null,null,null,null,null,{"$f":"IF(申込み一覧男子!L65=\"\",\"\",申込み一覧男子!L65)","v":"平成　２８年　６月　　日"}]
[null,null,null,{"$f":"申込み一覧男子!$D$8","v":"松戸市陸上競技協会"}]
[null,null,null,{"$f":"申込み一覧男子!$D$9","v":"会長　　林　英昭　様"}]
[null,null,null,null,null,{"$f":"IF($F$10=\"\",\"\",$F$10)","v":""}]
[]
[null,null,null,"団体（学校）名",{"$f":"IF(申込み一覧男子!E70=\"\",\"\",申込み一覧男子!E70)","v":""},null,null,null,null,"団体略称(６文字以内)",null,{"$f":"IF(申込み一覧男子!L70=\"\",\"\",申込み一覧男子!L70)","v":""}]
[null,null,null,"所 属 長",{"$f":"IF(申込み一覧男子!E71=\"\",\"\",申込み一覧男子!E71)","v":""},null,null,null,"㊞","連絡先\n住　所",{"$f":"IF(申込み一覧男子!K71=\"\",\"\",申込み一覧男子!K71)","v":" 〒"}]
[null,null,null,null,null,null,null,null,null,null,{"$f":"IF(申込み一覧男子!K72=\"\",\"\",申込み一覧男子!K72)","v":""}]
[]
[null,null,null,"記載責任者",{"$f":"IF(申込み一覧男子!E74=\"\",\"\",申込み一覧男子!E74)","v":""},null,null,null,"㊞"]
[null,null,null,null,null,null,null,null,null,"電　話\n（担当者）","連絡問い合わせ先（顧問責任者）"]
[null,null,null,null,null,null,null,null,null,null,{"$f":"IF(申込み一覧男子!K76=\"\",\"\",(申込み一覧男子!K76))","v":""}]
[]
[null,null,"※記載表記について"]
[null,null,"１．大会参加競技者一覧表（一人一種目１行。）"]
[]
[null,null,"２．個人申込票"]
[null,null,"　　(1)個人申込票は、競技者データシートへのデータ入力。"]
[null,null,"　　(2)記載表記にあたっては記入漏れの無い事、特に参加種目、記録、は確実に記載表記する。"]
[null,null,"\nナンハ゛ー","氏　　名","性別","学年","生年月日\n西暦で記入"]
[null,null,null,null,null,null,null,"種目","記録"]
[null,{"$f":"B57+1","v":31},{"$f":"IF(申込個票!Y36=\"\",\"\",申込個票!Y36)","v":""},{"$f":"IF(申込個票!AB36=\"\",\"\",申込個票!AB36&\"  \"&申込個票!AC36)","v":""},{"$f":"IF(申込個票!Z36=\"\",\"\",\"女\")","v":""},{"$f":"IF(申込個票!AE36=\"\",\"\",申込個票!AE36)","v":""},{"$f":"IF(申込個票!AG36=\"\",\"\",申込個票!AG36)","v":""},{"$f":"IF(申込個票!Z36=\"\",\"\",申込個票!Z36)","v":""},{"$f":"IF(申込個票!AA36=\"\",\"\",申込個票!AA36)","v":""}]
[null,{"$f":"B86+1","v":32},{"$f":"IF(申込個票!Y37=\"\",\"\",申込個票!Y37)","v":""},{"$f":"IF(申込個票!AB37=\"\",\"\",申込個票!AB37&\"  \"&申込個票!AC37)","v":""},{"$f":"IF(申込個票!Z37=\"\",\"\",\"女\")","v":""},{"$f":"IF(申込個票!AE37=\"\",\"\",申込個票!AE37)","v":""},{"$f":"IF(申込個票!AG37=\"\",\"\",申込個票!AG37)","v":""},{"$f":"IF(申込個票!Z37=\"\",\"\",申込個票!Z37)","v":""},{"$f":"IF(申込個票!AA37=\"\",\"\",申込個票!AA37)","v":""}]
[null,{"$f":"B87+1","v":33},{"$f":"IF(申込個票!Y38=\"\",\"\",申込個票!Y38)","v":""},{"$f":"IF(申込個票!AB38=\"\",\"\",申込個票!AB38&\"  \"&申込個票!AC38)","v":""},{"$f":"IF(申込個票!Z38=\"\",\"\",\"女\")","v":""},{"$f":"IF(申込個票!AE38=\"\",\"\",申込個票!AE38)","v":""},{"$f":"IF(申込個票!AG38=\"\",\"\",申込個票!AG38)","v":""},{"$f":"IF(申込個票!Z38=\"\",\"\",申込個票!Z38)","v":""},{"$f":"IF(申込個票!AA38=\"\",\"\",申込個票!AA38)","v":""}]
[null,34,{"$f":"IF(申込個票!Y39=\"\",\"\",申込個票!Y39)","v":""},{"$f":"IF(申込個票!AB39=\"\",\"\",申込個票!AB39&\"  \"&申込個票!AC39)","v":""},{"$f":"IF(申込個票!Z39=\"\",\"\",\"女\")","v":""},{"$f":"IF(申込個票!AE39=\"\",\"\",申込個票!AE39)","v":""},{"$f":"IF(申込個票!AG39=\"\",\"\",申込個票!AG39)","v":""},{"$f":"IF(申込個票!Z39=\"\",\"\",申込個票!Z39)","v":""},{"$f":"IF(申込個票!AA39=\"\",\"\",申込個票!AA39)","v":""}]
[null,35,{"$f":"IF(申込個票!Y40=\"\",\"\",申込個票!Y40)","v":""},{"$f":"IF(申込個票!AB40=\"\",\"\",申込個票!AB40&\"  \"&申込個票!AC40)","v":""},{"$f":"IF(申込個票!Z40=\"\",\"\",\"女\")","v":""},{"$f":"IF(申込個票!AE40=\"\",\"\",申込個票!AE40)","v":""},{"$f":"IF(申込個票!AG40=\"\",\"\",申込個票!AG40)","v":""},{"$f":"IF(申込個票!Z40=\"\",\"\",申込個票!Z40)","v":""},{"$f":"IF(申込個票!AA40=\"\",\"\",申込個票!AA40)","v":""}]
[null,36,{"$f":"IF(申込個票!Y41=\"\",\"\",申込個票!Y41)","v":""},{"$f":"IF(申込個票!AB41=\"\",\"\",申込個票!AB41&\"  \"&申込個票!AC41)","v":""},{"$f":"IF(申込個票!Z41=\"\",\"\",\"女\")","v":""},{"$f":"IF(申込個票!AE41=\"\",\"\",申込個票!AE41)","v":""},{"$f":"IF(申込個票!AG41=\"\",\"\",申込個票!AG41)","v":""},{"$f":"IF(申込個票!Z41=\"\",\"\",申込個票!Z41)","v":""},{"$f":"IF(申込個票!AA41=\"\",\"\",申込個票!AA41)","v":""}]
[null,37,{"$f":"IF(申込個票!Y42=\"\",\"\",申込個票!Y42)","v":""},{"$f":"IF(申込個票!AB42=\"\",\"\",申込個票!AB42&\"  \"&申込個票!AC42)","v":""},{"$f":"IF(申込個票!Z42=\"\",\"\",\"女\")","v":""},{"$f":"IF(申込個票!AE42=\"\",\"\",申込個票!AE42)","v":""},{"$f":"IF(申込個票!AG42=\"\",\"\",申込個票!AG42)","v":""},{"$f":"IF(申込個票!Z42=\"\",\"\",申込個票!Z42)","v":""},{"$f":"IF(申込個票!AA42=\"\",\"\",申込個票!AA42)","v":""}]
[null,38,{"$f":"IF(申込個票!Y43=\"\",\"\",申込個票!Y43)","v":""},{"$f":"IF(申込個票!AB43=\"\",\"\",申込個票!AB43&\"  \"&申込個票!AC43)","v":""},{"$f":"IF(申込個票!Z43=\"\",\"\",\"女\")","v":""},{"$f":"IF(申込個票!AE43=\"\",\"\",申込個票!AE43)","v":""},{"$f":"IF(申込個票!AG43=\"\",\"\",申込個票!AG43)","v":""},{"$f":"IF(申込個票!Z43=\"\",\"\",申込個票!Z43)","v":""},{"$f":"IF(申込個票!AA43=\"\",\"\",申込個票!AA43)","v":""}]
[null,39,{"$f":"IF(申込個票!Y44=\"\",\"\",申込個票!Y44)","v":""},{"$f":"IF(申込個票!AB44=\"\",\"\",申込個票!AB44&\"  \"&申込個票!AC44)","v":""},{"$f":"IF(申込個票!Z44=\"\",\"\",\"女\")","v":""},{"$f":"IF(申込個票!AE44=\"\",\"\",申込個票!AE44)","v":""},{"$f":"IF(申込個票!AG44=\"\",\"\",申込個票!AG44)","v":""},{"$f":"IF(申込個票!Z44=\"\",\"\",申込個票!Z44)","v":""},{"$f":"IF(申込個票!AA44=\"\",\"\",申込個票!AA44)","v":""}]
[null,40,{"$f":"IF(申込個票!Y45=\"\",\"\",申込個票!Y45)","v":""},{"$f":"IF(申込個票!AB45=\"\",\"\",申込個票!AB45&\"  \"&申込個票!AC45)","v":""},{"$f":"IF(申込個票!Z45=\"\",\"\",\"女\")","v":""},{"$f":"IF(申込個票!AE45=\"\",\"\",申込個票!AE45)","v":""},{"$f":"IF(申込個票!AG45=\"\",\"\",申込個票!AG45)","v":""},{"$f":"IF(申込個票!Z45=\"\",\"\",申込個票!Z45)","v":""},{"$f":"IF(申込個票!AA45=\"\",\"\",申込個票!AA45)","v":""}]
[null,41,{"$f":"IF(申込個票!Y46=\"\",\"\",申込個票!Y46)","v":""},{"$f":"IF(申込個票!AB46=\"\",\"\",申込個票!AB46&\"  \"&申込個票!AC46)","v":""},{"$f":"IF(申込個票!Z46=\"\",\"\",\"女\")","v":""},{"$f":"IF(申込個票!AE46=\"\",\"\",申込個票!AE46)","v":""},{"$f":"IF(申込個票!AG46=\"\",\"\",申込個票!AG46)","v":""},{"$f":"IF(申込個票!Z46=\"\",\"\",申込個票!Z46)","v":""},{"$f":"IF(申込個票!AA46=\"\",\"\",申込個票!AA46)","v":""}]
[null,42,{"$f":"IF(申込個票!Y47=\"\",\"\",申込個票!Y47)","v":""},{"$f":"IF(申込個票!AB47=\"\",\"\",申込個票!AB47&\"  \"&申込個票!AC47)","v":""},{"$f":"IF(申込個票!Z47=\"\",\"\",\"女\")","v":""},{"$f":"IF(申込個票!AE47=\"\",\"\",申込個票!AE47)","v":""},{"$f":"IF(申込個票!AG47=\"\",\"\",申込個票!AG47)","v":""},{"$f":"IF(申込個票!Z47=\"\",\"\",申込個票!Z47)","v":""},{"$f":"IF(申込個票!AA47=\"\",\"\",申込個票!AA47)","v":""}]
[null,43,{"$f":"IF(申込個票!Y48=\"\",\"\",申込個票!Y48)","v":""},{"$f":"IF(申込個票!AB48=\"\",\"\",申込個票!AB48&\"  \"&申込個票!AC48)","v":""},{"$f":"IF(申込個票!Z48=\"\",\"\",\"女\")","v":""},{"$f":"IF(申込個票!AE48=\"\",\"\",申込個票!AE48)","v":""},{"$f":"IF(申込個票!AG48=\"\",\"\",申込個票!AG48)","v":""},{"$f":"IF(申込個票!Z48=\"\",\"\",申込個票!Z48)","v":""},{"$f":"IF(申込個票!AA48=\"\",\"\",申込個票!AA48)","v":""}]
[null,44,{"$f":"IF(申込個票!Y49=\"\",\"\",申込個票!Y49)","v":""},{"$f":"IF(申込個票!AB49=\"\",\"\",申込個票!AB49&\"  \"&申込個票!AC49)","v":""},{"$f":"IF(申込個票!Z49=\"\",\"\",\"女\")","v":""},{"$f":"IF(申込個票!AE49=\"\",\"\",申込個票!AE49)","v":""},{"$f":"IF(申込個票!AG49=\"\",\"\",申込個票!AG49)","v":""},{"$f":"IF(申込個票!Z49=\"\",\"\",申込個票!Z49)","v":""},{"$f":"IF(申込個票!AA49=\"\",\"\",申込個票!AA49)","v":""}]
[null,45,{"$f":"IF(申込個票!Y50=\"\",\"\",申込個票!Y50)","v":""},{"$f":"IF(申込個票!AB50=\"\",\"\",申込個票!AB50&\"  \"&申込個票!AC50)","v":""},{"$f":"IF(申込個票!Z50=\"\",\"\",\"女\")","v":""},{"$f":"IF(申込個票!AE50=\"\",\"\",申込個票!AE50)","v":""},{"$f":"IF(申込個票!AG50=\"\",\"\",申込個票!AG50)","v":""},{"$f":"IF(申込個票!Z50=\"\",\"\",申込個票!Z50)","v":""},{"$f":"IF(申込個票!AA50=\"\",\"\",申込個票!AA50)","v":""}]
[null,46,{"$f":"IF(申込個票!Y51=\"\",\"\",申込個票!Y51)","v":""},{"$f":"IF(申込個票!AB51=\"\",\"\",申込個票!AB51&\"  \"&申込個票!AC51)","v":""},{"$f":"IF(申込個票!Z51=\"\",\"\",\"女\")","v":""},{"$f":"IF(申込個票!AE51=\"\",\"\",申込個票!AE51)","v":""},{"$f":"IF(申込個票!AG51=\"\",\"\",申込個票!AG51)","v":""},{"$f":"IF(申込個票!Z51=\"\",\"\",申込個票!Z51)","v":""},{"$f":"IF(申込個票!AA51=\"\",\"\",申込個票!AA51)","v":""}]
[null,47,{"$f":"IF(申込個票!Y52=\"\",\"\",申込個票!Y52)","v":""},{"$f":"IF(申込個票!AB52=\"\",\"\",申込個票!AB52&\"  \"&申込個票!AC52)","v":""},{"$f":"IF(申込個票!Z52=\"\",\"\",\"女\")","v":""},{"$f":"IF(申込個票!AE52=\"\",\"\",申込個票!AE52)","v":""},{"$f":"IF(申込個票!AG52=\"\",\"\",申込個票!AG52)","v":""},{"$f":"IF(申込個票!Z52=\"\",\"\",申込個票!Z52)","v":""},{"$f":"IF(申込個票!AA52=\"\",\"\",申込個票!AA52)","v":""}]
[null,48,{"$f":"IF(申込個票!Y53=\"\",\"\",申込個票!Y53)","v":""},{"$f":"IF(申込個票!AB53=\"\",\"\",申込個票!AB53&\"  \"&申込個票!AC53)","v":""},{"$f":"IF(申込個票!Z53=\"\",\"\",\"女\")","v":""},{"$f":"IF(申込個票!AE53=\"\",\"\",申込個票!AE53)","v":""},{"$f":"IF(申込個票!AG53=\"\",\"\",申込個票!AG53)","v":""},{"$f":"IF(申込個票!Z53=\"\",\"\",申込個票!Z53)","v":""},{"$f":"IF(申込個票!AA53=\"\",\"\",申込個票!AA53)","v":""}]
[null,49,{"$f":"IF(申込個票!Y54=\"\",\"\",申込個票!Y54)","v":""},{"$f":"IF(申込個票!AB54=\"\",\"\",申込個票!AB54&\"  \"&申込個票!AC54)","v":""},{"$f":"IF(申込個票!Z54=\"\",\"\",\"女\")","v":""},{"$f":"IF(申込個票!AE54=\"\",\"\",申込個票!AE54)","v":""},{"$f":"IF(申込個票!AG54=\"\",\"\",申込個票!AG54)","v":""},{"$f":"IF(申込個票!Z54=\"\",\"\",申込個票!Z54)","v":""},{"$f":"IF(申込個票!AA54=\"\",\"\",申込個票!AA54)","v":""}]
[null,50,{"$f":"IF(申込個票!Y55=\"\",\"\",申込個票!Y55)","v":""},{"$f":"IF(申込個票!AB55=\"\",\"\",申込個票!AB55&\"  \"&申込個票!AC55)","v":""},{"$f":"IF(申込個票!Z55=\"\",\"\",\"女\")","v":""},{"$f":"IF(申込個票!AE55=\"\",\"\",申込個票!AE55)","v":""},{"$f":"IF(申込個票!AG55=\"\",\"\",申込個票!AG55)","v":""},{"$f":"IF(申込個票!Z55=\"\",\"\",申込個票!Z55)","v":""},{"$f":"IF(申込個票!AA55=\"\",\"\",申込個票!AA55)","v":""}]
[null,51,{"$f":"IF(申込個票!Y56=\"\",\"\",申込個票!Y56)","v":""},{"$f":"IF(申込個票!AB56=\"\",\"\",申込個票!AB56&\"  \"&申込個票!AC56)","v":""},{"$f":"IF(申込個票!Z56=\"\",\"\",\"女\")","v":""},{"$f":"IF(申込個票!AE56=\"\",\"\",申込個票!AE56)","v":""},{"$f":"IF(申込個票!AG56=\"\",\"\",申込個票!AG56)","v":""},{"$f":"IF(申込個票!Z56=\"\",\"\",申込個票!Z56)","v":""},{"$f":"IF(申込個票!AA56=\"\",\"\",申込個票!AA56)","v":""}]
[null,52,{"$f":"IF(申込個票!Y57=\"\",\"\",申込個票!Y57)","v":""},{"$f":"IF(申込個票!AB57=\"\",\"\",申込個票!AB57&\"  \"&申込個票!AC57)","v":""},{"$f":"IF(申込個票!Z57=\"\",\"\",\"女\")","v":""},{"$f":"IF(申込個票!AE57=\"\",\"\",申込個票!AE57)","v":""},{"$f":"IF(申込個票!AG57=\"\",\"\",申込個票!AG57)","v":""},{"$f":"IF(申込個票!Z57=\"\",\"\",申込個票!Z57)","v":""},{"$f":"IF(申込個票!AA57=\"\",\"\",申込個票!AA57)","v":""}]
[null,53,{"$f":"IF(申込個票!Y58=\"\",\"\",申込個票!Y58)","v":""},{"$f":"IF(申込個票!AB58=\"\",\"\",申込個票!AB58&\"  \"&申込個票!AC58)","v":""},{"$f":"IF(申込個票!Z58=\"\",\"\",\"女\")","v":""},{"$f":"IF(申込個票!AE58=\"\",\"\",申込個票!AE58)","v":""},{"$f":"IF(申込個票!AG58=\"\",\"\",申込個票!AG58)","v":""},{"$f":"IF(申込個票!Z58=\"\",\"\",申込個票!Z58)","v":""},{"$f":"IF(申込個票!AA58=\"\",\"\",申込個票!AA58)","v":""}]
[null,54,{"$f":"IF(申込個票!Y59=\"\",\"\",申込個票!Y59)","v":""},{"$f":"IF(申込個票!AB59=\"\",\"\",申込個票!AB59&\"  \"&申込個票!AC59)","v":""},{"$f":"IF(申込個票!Z59=\"\",\"\",\"女\")","v":""},{"$f":"IF(申込個票!AE59=\"\",\"\",申込個票!AE59)","v":""},{"$f":"IF(申込個票!AG59=\"\",\"\",申込個票!AG59)","v":""},{"$f":"IF(申込個票!Z59=\"\",\"\",申込個票!Z59)","v":""},{"$f":"IF(申込個票!AA59=\"\",\"\",申込個票!AA59)","v":""}]
[null,55,{"$f":"IF(申込個票!Y60=\"\",\"\",申込個票!Y60)","v":""},{"$f":"IF(申込個票!AB60=\"\",\"\",申込個票!AB60&\"  \"&申込個票!AC60)","v":""},{"$f":"IF(申込個票!Z60=\"\",\"\",\"女\")","v":""},{"$f":"IF(申込個票!AE60=\"\",\"\",申込個票!AE60)","v":""},{"$f":"IF(申込個票!AG60=\"\",\"\",申込個票!AG60)","v":""},{"$f":"IF(申込個票!Z60=\"\",\"\",申込個票!Z60)","v":""},{"$f":"IF(申込個票!AA60=\"\",\"\",申込個票!AA60)","v":""}]
[null,56,{"$f":"IF(申込個票!Y61=\"\",\"\",申込個票!Y61)","v":""},{"$f":"IF(申込個票!AB61=\"\",\"\",申込個票!AB61&\"  \"&申込個票!AC61)","v":""},{"$f":"IF(申込個票!Z61=\"\",\"\",\"女\")","v":""},{"$f":"IF(申込個票!AE61=\"\",\"\",申込個票!AE61)","v":""},{"$f":"IF(申込個票!AG61=\"\",\"\",申込個票!AG61)","v":""},{"$f":"IF(申込個票!Z61=\"\",\"\",申込個票!Z61)","v":""},{"$f":"IF(申込個票!AA61=\"\",\"\",申込個票!AA61)","v":""}]
[null,57,{"$f":"IF(申込個票!Y62=\"\",\"\",申込個票!Y62)","v":""},{"$f":"IF(申込個票!AB62=\"\",\"\",申込個票!AB62&\"  \"&申込個票!AC62)","v":""},{"$f":"IF(申込個票!Z62=\"\",\"\",\"女\")","v":""},{"$f":"IF(申込個票!AE62=\"\",\"\",申込個票!AE62)","v":""},{"$f":"IF(申込個票!AG62=\"\",\"\",申込個票!AG62)","v":""},{"$f":"IF(申込個票!Z62=\"\",\"\",申込個票!Z62)","v":""},{"$f":"IF(申込個票!AA62=\"\",\"\",申込個票!AA62)","v":""}]
[null,58,{"$f":"IF(申込個票!Y63=\"\",\"\",申込個票!Y63)","v":""},{"$f":"IF(申込個票!AB63=\"\",\"\",申込個票!AB63&\"  \"&申込個票!AC63)","v":""},{"$f":"IF(申込個票!Z63=\"\",\"\",\"女\")","v":""},{"$f":"IF(申込個票!AE63=\"\",\"\",申込個票!AE63)","v":""},{"$f":"IF(申込個票!AG63=\"\",\"\",申込個票!AG63)","v":""},{"$f":"IF(申込個票!Z63=\"\",\"\",申込個票!Z63)","v":""},{"$f":"IF(申込個票!AA63=\"\",\"\",申込個票!AA63)","v":""}]
[null,59,{"$f":"IF(申込個票!Y64=\"\",\"\",申込個票!Y64)","v":""},{"$f":"IF(申込個票!AB64=\"\",\"\",申込個票!AB64&\"  \"&申込個票!AC64)","v":""},{"$f":"IF(申込個票!Z64=\"\",\"\",\"女\")","v":""},{"$f":"IF(申込個票!AE64=\"\",\"\",申込個票!AE64)","v":""},{"$f":"IF(申込個票!AG64=\"\",\"\",申込個票!AG64)","v":""},{"$f":"IF(申込個票!Z64=\"\",\"\",申込個票!Z64)","v":""},{"$f":"IF(申込個票!AA64=\"\",\"\",申込個票!AA64)","v":""}]
[null,60,{"$f":"IF(申込個票!Y65=\"\",\"\",申込個票!Y65)","v":""},{"$f":"IF(申込個票!AB65=\"\",\"\",申込個票!AB65&\"  \"&申込個票!AC65)","v":""},{"$f":"IF(申込個票!Z65=\"\",\"\",\"女\")","v":""},{"$f":"IF(申込個票!AE65=\"\",\"\",申込個票!AE65)","v":""},{"$f":"IF(申込個票!AG65=\"\",\"\",申込個票!AG65)","v":""},{"$f":"IF(申込個票!Z65=\"\",\"\",申込個票!Z65)","v":""},{"$f":"IF(申込個票!AA65=\"\",\"\",申込個票!AA65)","v":""}]
[]
[]
[null,null,"(様式A）"]
[null,null,null,{"$f":"IF(申込み一覧男子!D119=\"\",\"\",申込み一覧男子!D119)","v":"第１７７ 回　松戸市陸上競技記録会中学生大会　　申込一覧表"},null,null,null,null,null,null,null,null,null,null,null,{"$f":"P61+1","v":3}]
[]
[]
[null,null,null,"健康診断の結果異常がないことを認め、標記競技会への出場を認めます。"]
[null,null,null,null,null,null,null,null,null,null,null,{"$f":"IF(申込み一覧男子!L123=\"\",\"\",申込み一覧男子!L123)","v":"平成　２８年　６月　　日"}]
[null,null,null,{"$f":"申込み一覧男子!$D$8","v":"松戸市陸上競技協会"}]
[null,null,null,{"$f":"申込み一覧男子!$D$9","v":"会長　　林　英昭　様"}]
[null,null,null,null,null,{"$f":"IF($F$10=\"\",\"\",$F$10)","v":""}]
[]
[null,null,null,"団体（学校）名",{"$f":"IF(申込み一覧男子!E128=\"\",\"\",申込み一覧男子!E128)","v":""},null,null,null,null,"団体略称(６文字以内)",null,{"$f":"IF(申込み一覧男子!L128=\"\",\"\",申込み一覧男子!L128)","v":""}]
[null,null,null,"所 属 長",{"$f":"IF(申込み一覧男子!E129=\"\",\"\",申込み一覧男子!E129)","v":""},null,null,null,"㊞","連絡先\n住　所",{"$f":"IF(申込み一覧男子!K129=\"\",\"\",申込み一覧男子!K129)","v":" 〒"}]
[null,null,null,null,null,null,null,null,null,null,{"$f":"IF(申込み一覧男子!K130=\"\",\"\",申込み一覧男子!K130)","v":""}]
[]
[null,null,null,"記載責任者",{"$f":"IF(申込み一覧男子!E132=\"\",\"\",申込み一覧男子!E132)","v":""},null,null,null,"㊞"]
[null,null,null,null,null,null,null,null,null,"電　話\n（担当者）","連絡問い合わせ先（顧問責任者）"]
[null,null,null,null,null,null,null,null,null,null,{"$f":"IF(申込み一覧男子!K134=\"\",\"\",(申込み一覧男子!K134))","v":""}]
[]
[null,null,"※記載表記について"]
[null,null,"１．大会参加競技者一覧表（一人一種目１行。）"]
[]
[null,null,"２．個人申込票"]
[null,null,"　　(1)個人申込票は、競技者データシートへのデータ入力。"]
[null,null,"　　(2)記載表記にあたっては記入漏れの無い事、特に参加種目、記録、は確実に記載表記する。"]
[null,null,"\nナンハ゛ー","氏　　名","性別","学年","生年月日\n西暦で記入"]
[null,null,null,null,null,null,null,"種目","記録"]
[null,{"$f":"B115+1","v":61},{"$f":"IF(申込個票!Y66=\"\",\"\",申込個票!Y66)","v":""},{"$f":"IF(申込個票!AB66=\"\",\"\",申込個票!AB66&\"  \"&申込個票!AC66)","v":""},{"$f":"IF(申込個票!Z66=\"\",\"\",\"女\")","v":""},{"$f":"IF(申込個票!AE66=\"\",\"\",申込個票!AE66)","v":""},{"$f":"IF(申込個票!AG66=\"\",\"\",申込個票!AG66)","v":""},{"$f":"IF(申込個票!Z66=\"\",\"\",申込個票!Z66)","v":""},{"$f":"IF(申込個票!AA66=\"\",\"\",申込個票!AA66)","v":""}]
[null,{"$f":"B144+1","v":62},{"$f":"IF(申込個票!Y67=\"\",\"\",申込個票!Y67)","v":""},{"$f":"IF(申込個票!AB67=\"\",\"\",申込個票!AB67&\"  \"&申込個票!AC67)","v":""},{"$f":"IF(申込個票!Z67=\"\",\"\",\"女\")","v":""},{"$f":"IF(申込個票!AE67=\"\",\"\",申込個票!AE67)","v":""},{"$f":"IF(申込個票!AG67=\"\",\"\",申込個票!AG67)","v":""},{"$f":"IF(申込個票!Z67=\"\",\"\",申込個票!Z67)","v":""},{"$f":"IF(申込個票!AA67=\"\",\"\",申込個票!AA67)","v":""}]
[null,{"$f":"B145+1","v":63},{"$f":"IF(申込個票!Y68=\"\",\"\",申込個票!Y68)","v":""},{"$f":"IF(申込個票!AB68=\"\",\"\",申込個票!AB68&\"  \"&申込個票!AC68)","v":""},{"$f":"IF(申込個票!Z68=\"\",\"\",\"女\")","v":""},{"$f":"IF(申込個票!AE68=\"\",\"\",申込個票!AE68)","v":""},{"$f":"IF(申込個票!AG68=\"\",\"\",申込個票!AG68)","v":""},{"$f":"IF(申込個票!Z68=\"\",\"\",申込個票!Z68)","v":""},{"$f":"IF(申込個票!AA68=\"\",\"\",申込個票!AA68)","v":""}]
[null,64,{"$f":"IF(申込個票!Y69=\"\",\"\",申込個票!Y69)","v":""},{"$f":"IF(申込個票!AB69=\"\",\"\",申込個票!AB69&\"  \"&申込個票!AC69)","v":""},{"$f":"IF(申込個票!Z69=\"\",\"\",\"女\")","v":""},{"$f":"IF(申込個票!AE69=\"\",\"\",申込個票!AE69)","v":""},{"$f":"IF(申込個票!AG69=\"\",\"\",申込個票!AG69)","v":""},{"$f":"IF(申込個票!Z69=\"\",\"\",申込個票!Z69)","v":""},{"$f":"IF(申込個票!AA69=\"\",\"\",申込個票!AA69)","v":""}]
[null,65,{"$f":"IF(申込個票!Y70=\"\",\"\",申込個票!Y70)","v":""},{"$f":"IF(申込個票!AB70=\"\",\"\",申込個票!AB70&\"  \"&申込個票!AC70)","v":""},{"$f":"IF(申込個票!Z70=\"\",\"\",\"女\")","v":""},{"$f":"IF(申込個票!AE70=\"\",\"\",申込個票!AE70)","v":""},{"$f":"IF(申込個票!AG70=\"\",\"\",申込個票!AG70)","v":""},{"$f":"IF(申込個票!Z70=\"\",\"\",申込個票!Z70)","v":""},{"$f":"IF(申込個票!AA70=\"\",\"\",申込個票!AA70)","v":""}]
[null,66,{"$f":"IF(申込個票!Y71=\"\",\"\",申込個票!Y71)","v":""},{"$f":"IF(申込個票!AB71=\"\",\"\",申込個票!AB71&\"  \"&申込個票!AC71)","v":""},{"$f":"IF(申込個票!Z71=\"\",\"\",\"女\")","v":""},{"$f":"IF(申込個票!AE71=\"\",\"\",申込個票!AE71)","v":""},{"$f":"IF(申込個票!AG71=\"\",\"\",申込個票!AG71)","v":""},{"$f":"IF(申込個票!Z71=\"\",\"\",申込個票!Z71)","v":""},{"$f":"IF(申込個票!AA71=\"\",\"\",申込個票!AA71)","v":""}]
[null,67,{"$f":"IF(申込個票!Y72=\"\",\"\",申込個票!Y72)","v":""},{"$f":"IF(申込個票!AB72=\"\",\"\",申込個票!AB72&\"  \"&申込個票!AC72)","v":""},{"$f":"IF(申込個票!Z72=\"\",\"\",\"女\")","v":""},{"$f":"IF(申込個票!AE72=\"\",\"\",申込個票!AE72)","v":""},{"$f":"IF(申込個票!AG72=\"\",\"\",申込個票!AG72)","v":""},{"$f":"IF(申込個票!Z72=\"\",\"\",申込個票!Z72)","v":""},{"$f":"IF(申込個票!AA72=\"\",\"\",申込個票!AA72)","v":""}]
[null,68,{"$f":"IF(申込個票!Y73=\"\",\"\",申込個票!Y73)","v":""},{"$f":"IF(申込個票!AB73=\"\",\"\",申込個票!AB73&\"  \"&申込個票!AC73)","v":""},{"$f":"IF(申込個票!Z73=\"\",\"\",\"女\")","v":""},{"$f":"IF(申込個票!AE73=\"\",\"\",申込個票!AE73)","v":""},{"$f":"IF(申込個票!AG73=\"\",\"\",申込個票!AG73)","v":""},{"$f":"IF(申込個票!Z73=\"\",\"\",申込個票!Z73)","v":""},{"$f":"IF(申込個票!AA73=\"\",\"\",申込個票!AA73)","v":""}]
[null,69,{"$f":"IF(申込個票!Y74=\"\",\"\",申込個票!Y74)","v":""},{"$f":"IF(申込個票!AB74=\"\",\"\",申込個票!AB74&\"  \"&申込個票!AC74)","v":""},{"$f":"IF(申込個票!Z74=\"\",\"\",\"女\")","v":""},{"$f":"IF(申込個票!AE74=\"\",\"\",申込個票!AE74)","v":""},{"$f":"IF(申込個票!AG74=\"\",\"\",申込個票!AG74)","v":""},{"$f":"IF(申込個票!Z74=\"\",\"\",申込個票!Z74)","v":""},{"$f":"IF(申込個票!AA74=\"\",\"\",申込個票!AA74)","v":""}]
[null,70,{"$f":"IF(申込個票!Y75=\"\",\"\",申込個票!Y75)","v":""},{"$f":"IF(申込個票!AB75=\"\",\"\",申込個票!AB75&\"  \"&申込個票!AC75)","v":""},{"$f":"IF(申込個票!Z75=\"\",\"\",\"女\")","v":""},{"$f":"IF(申込個票!AE75=\"\",\"\",申込個票!AE75)","v":""},{"$f":"IF(申込個票!AG75=\"\",\"\",申込個票!AG75)","v":""},{"$f":"IF(申込個票!Z75=\"\",\"\",申込個票!Z75)","v":""},{"$f":"IF(申込個票!AA75=\"\",\"\",申込個票!AA75)","v":""}]
[null,71,{"$f":"IF(申込個票!Y76=\"\",\"\",申込個票!Y76)","v":""},{"$f":"IF(申込個票!AB76=\"\",\"\",申込個票!AB76&\"  \"&申込個票!AC76)","v":""},{"$f":"IF(申込個票!Z76=\"\",\"\",\"女\")","v":""},{"$f":"IF(申込個票!AE76=\"\",\"\",申込個票!AE76)","v":""},{"$f":"IF(申込個票!AG76=\"\",\"\",申込個票!AG76)","v":""},{"$f":"IF(申込個票!Z76=\"\",\"\",申込個票!Z76)","v":""},{"$f":"IF(申込個票!AA76=\"\",\"\",申込個票!AA76)","v":""}]
[null,72,{"$f":"IF(申込個票!Y77=\"\",\"\",申込個票!Y77)","v":""},{"$f":"IF(申込個票!AB77=\"\",\"\",申込個票!AB77&\"  \"&申込個票!AC77)","v":""},{"$f":"IF(申込個票!Z77=\"\",\"\",\"女\")","v":""},{"$f":"IF(申込個票!AE77=\"\",\"\",申込個票!AE77)","v":""},{"$f":"IF(申込個票!AG77=\"\",\"\",申込個票!AG77)","v":""},{"$f":"IF(申込個票!Z77=\"\",\"\",申込個票!Z77)","v":""},{"$f":"IF(申込個票!AA77=\"\",\"\",申込個票!AA77)","v":""}]
[null,73,{"$f":"IF(申込個票!Y78=\"\",\"\",申込個票!Y78)","v":""},{"$f":"IF(申込個票!AB78=\"\",\"\",申込個票!AB78&\"  \"&申込個票!AC78)","v":""},{"$f":"IF(申込個票!Z78=\"\",\"\",\"女\")","v":""},{"$f":"IF(申込個票!AE78=\"\",\"\",申込個票!AE78)","v":""},{"$f":"IF(申込個票!AG78=\"\",\"\",申込個票!AG78)","v":""},{"$f":"IF(申込個票!Z78=\"\",\"\",申込個票!Z78)","v":""},{"$f":"IF(申込個票!AA78=\"\",\"\",申込個票!AA78)","v":""}]
[null,74,{"$f":"IF(申込個票!Y79=\"\",\"\",申込個票!Y79)","v":""},{"$f":"IF(申込個票!AB79=\"\",\"\",申込個票!AB79&\"  \"&申込個票!AC79)","v":""},{"$f":"IF(申込個票!Z79=\"\",\"\",\"女\")","v":""},{"$f":"IF(申込個票!AE79=\"\",\"\",申込個票!AE79)","v":""},{"$f":"IF(申込個票!AG79=\"\",\"\",申込個票!AG79)","v":""},{"$f":"IF(申込個票!Z79=\"\",\"\",申込個票!Z79)","v":""},{"$f":"IF(申込個票!AA79=\"\",\"\",申込個票!AA79)","v":""}]
[null,75,{"$f":"IF(申込個票!Y80=\"\",\"\",申込個票!Y80)","v":""},{"$f":"IF(申込個票!AB80=\"\",\"\",申込個票!AB80&\"  \"&申込個票!AC80)","v":""},{"$f":"IF(申込個票!Z80=\"\",\"\",\"女\")","v":""},{"$f":"IF(申込個票!AE80=\"\",\"\",申込個票!AE80)","v":""},{"$f":"IF(申込個票!AG80=\"\",\"\",申込個票!AG80)","v":""},{"$f":"IF(申込個票!Z80=\"\",\"\",申込個票!Z80)","v":""},{"$f":"IF(申込個票!AA80=\"\",\"\",申込個票!AA80)","v":""}]
[null,76,{"$f":"IF(申込個票!Y81=\"\",\"\",申込個票!Y81)","v":""},{"$f":"IF(申込個票!AB81=\"\",\"\",申込個票!AB81&\"  \"&申込個票!AC81)","v":""},{"$f":"IF(申込個票!Z81=\"\",\"\",\"女\")","v":""},{"$f":"IF(申込個票!AE81=\"\",\"\",申込個票!AE81)","v":""},{"$f":"IF(申込個票!AG81=\"\",\"\",申込個票!AG81)","v":""},{"$f":"IF(申込個票!Z81=\"\",\"\",申込個票!Z81)","v":""},{"$f":"IF(申込個票!AA81=\"\",\"\",申込個票!AA81)","v":""}]
[null,77,{"$f":"IF(申込個票!Y82=\"\",\"\",申込個票!Y82)","v":""},{"$f":"IF(申込個票!AB82=\"\",\"\",申込個票!AB82&\"  \"&申込個票!AC82)","v":""},{"$f":"IF(申込個票!Z82=\"\",\"\",\"女\")","v":""},{"$f":"IF(申込個票!AE82=\"\",\"\",申込個票!AE82)","v":""},{"$f":"IF(申込個票!AG82=\"\",\"\",申込個票!AG82)","v":""},{"$f":"IF(申込個票!Z82=\"\",\"\",申込個票!Z82)","v":""},{"$f":"IF(申込個票!AA82=\"\",\"\",申込個票!AA82)","v":""}]
[null,78,{"$f":"IF(申込個票!Y83=\"\",\"\",申込個票!Y83)","v":""},{"$f":"IF(申込個票!AB83=\"\",\"\",申込個票!AB83&\"  \"&申込個票!AC83)","v":""},{"$f":"IF(申込個票!Z83=\"\",\"\",\"女\")","v":""},{"$f":"IF(申込個票!AE83=\"\",\"\",申込個票!AE83)","v":""},{"$f":"IF(申込個票!AG83=\"\",\"\",申込個票!AG83)","v":""},{"$f":"IF(申込個票!Z83=\"\",\"\",申込個票!Z83)","v":""},{"$f":"IF(申込個票!AA83=\"\",\"\",申込個票!AA83)","v":""}]
[null,79,{"$f":"IF(申込個票!Y84=\"\",\"\",申込個票!Y84)","v":""},{"$f":"IF(申込個票!AB84=\"\",\"\",申込個票!AB84&\"  \"&申込個票!AC84)","v":""},{"$f":"IF(申込個票!Z84=\"\",\"\",\"女\")","v":""},{"$f":"IF(申込個票!AE84=\"\",\"\",申込個票!AE84)","v":""},{"$f":"IF(申込個票!AG84=\"\",\"\",申込個票!AG84)","v":""},{"$f":"IF(申込個票!Z84=\"\",\"\",申込個票!Z84)","v":""},{"$f":"IF(申込個票!AA84=\"\",\"\",申込個票!AA84)","v":""}]
[null,80,{"$f":"IF(申込個票!Y85=\"\",\"\",申込個票!Y85)","v":""},{"$f":"IF(申込個票!AB85=\"\",\"\",申込個票!AB85&\"  \"&申込個票!AC85)","v":""},{"$f":"IF(申込個票!Z85=\"\",\"\",\"女\")","v":""},{"$f":"IF(申込個票!AE85=\"\",\"\",申込個票!AE85)","v":""},{"$f":"IF(申込個票!AG85=\"\",\"\",申込個票!AG85)","v":""},{"$f":"IF(申込個票!Z85=\"\",\"\",申込個票!Z85)","v":""},{"$f":"IF(申込個票!AA85=\"\",\"\",申込個票!AA85)","v":""}]
[null,81,{"$f":"IF(申込個票!Y86=\"\",\"\",申込個票!Y86)","v":""},{"$f":"IF(申込個票!AB86=\"\",\"\",申込個票!AB86&\"  \"&申込個票!AC86)","v":""},{"$f":"IF(申込個票!Z86=\"\",\"\",\"女\")","v":""},{"$f":"IF(申込個票!AE86=\"\",\"\",申込個票!AE86)","v":""},{"$f":"IF(申込個票!AG86=\"\",\"\",申込個票!AG86)","v":""},{"$f":"IF(申込個票!Z86=\"\",\"\",申込個票!Z86)","v":""},{"$f":"IF(申込個票!AA86=\"\",\"\",申込個票!AA86)","v":""}]
[null,82,{"$f":"IF(申込個票!Y87=\"\",\"\",申込個票!Y87)","v":""},{"$f":"IF(申込個票!AB87=\"\",\"\",申込個票!AB87&\"  \"&申込個票!AC87)","v":""},{"$f":"IF(申込個票!Z87=\"\",\"\",\"女\")","v":""},{"$f":"IF(申込個票!AE87=\"\",\"\",申込個票!AE87)","v":""},{"$f":"IF(申込個票!AG87=\"\",\"\",申込個票!AG87)","v":""},{"$f":"IF(申込個票!Z87=\"\",\"\",申込個票!Z87)","v":""},{"$f":"IF(申込個票!AA87=\"\",\"\",申込個票!AA87)","v":""}]
[null,83,{"$f":"IF(申込個票!Y88=\"\",\"\",申込個票!Y88)","v":""},{"$f":"IF(申込個票!AB88=\"\",\"\",申込個票!AB88&\"  \"&申込個票!AC88)","v":""},{"$f":"IF(申込個票!Z88=\"\",\"\",\"女\")","v":""},{"$f":"IF(申込個票!AE88=\"\",\"\",申込個票!AE88)","v":""},{"$f":"IF(申込個票!AG88=\"\",\"\",申込個票!AG88)","v":""},{"$f":"IF(申込個票!Z88=\"\",\"\",申込個票!Z88)","v":""},{"$f":"IF(申込個票!AA88=\"\",\"\",申込個票!AA88)","v":""}]
[null,84,{"$f":"IF(申込個票!Y89=\"\",\"\",申込個票!Y89)","v":""},{"$f":"IF(申込個票!AB89=\"\",\"\",申込個票!AB89&\"  \"&申込個票!AC89)","v":""},{"$f":"IF(申込個票!Z89=\"\",\"\",\"女\")","v":""},{"$f":"IF(申込個票!AE89=\"\",\"\",申込個票!AE89)","v":""},{"$f":"IF(申込個票!AG89=\"\",\"\",申込個票!AG89)","v":""},{"$f":"IF(申込個票!Z89=\"\",\"\",申込個票!Z89)","v":""},{"$f":"IF(申込個票!AA89=\"\",\"\",申込個票!AA89)","v":""}]
[null,85,{"$f":"IF(申込個票!Y90=\"\",\"\",申込個票!Y90)","v":""},{"$f":"IF(申込個票!AB90=\"\",\"\",申込個票!AB90&\"  \"&申込個票!AC90)","v":""},{"$f":"IF(申込個票!Z90=\"\",\"\",\"女\")","v":""},{"$f":"IF(申込個票!AE90=\"\",\"\",申込個票!AE90)","v":""},{"$f":"IF(申込個票!AG90=\"\",\"\",申込個票!AG90)","v":""},{"$f":"IF(申込個票!Z90=\"\",\"\",申込個票!Z90)","v":""},{"$f":"IF(申込個票!AA90=\"\",\"\",申込個票!AA90)","v":""}]
[null,86,{"$f":"IF(申込個票!Y91=\"\",\"\",申込個票!Y91)","v":""},{"$f":"IF(申込個票!AB91=\"\",\"\",申込個票!AB91&\"  \"&申込個票!AC91)","v":""},{"$f":"IF(申込個票!Z91=\"\",\"\",\"女\")","v":""},{"$f":"IF(申込個票!AE91=\"\",\"\",申込個票!AE91)","v":""},{"$f":"IF(申込個票!AG91=\"\",\"\",申込個票!AG91)","v":""},{"$f":"IF(申込個票!Z91=\"\",\"\",申込個票!Z91)","v":""},{"$f":"IF(申込個票!AA91=\"\",\"\",申込個票!AA91)","v":""}]
[null,87,{"$f":"IF(申込個票!Y92=\"\",\"\",申込個票!Y92)","v":""},{"$f":"IF(申込個票!AB92=\"\",\"\",申込個票!AB92&\"  \"&申込個票!AC92)","v":""},{"$f":"IF(申込個票!Z92=\"\",\"\",\"女\")","v":""},{"$f":"IF(申込個票!AE92=\"\",\"\",申込個票!AE92)","v":""},{"$f":"IF(申込個票!AG92=\"\",\"\",申込個票!AG92)","v":""},{"$f":"IF(申込個票!Z92=\"\",\"\",申込個票!Z92)","v":""},{"$f":"IF(申込個票!AA92=\"\",\"\",申込個票!AA92)","v":""}]
[null,88,{"$f":"IF(申込個票!Y93=\"\",\"\",申込個票!Y93)","v":""},{"$f":"IF(申込個票!AB93=\"\",\"\",申込個票!AB93&\"  \"&申込個票!AC93)","v":""},{"$f":"IF(申込個票!Z93=\"\",\"\",\"女\")","v":""},{"$f":"IF(申込個票!AE93=\"\",\"\",申込個票!AE93)","v":""},{"$f":"IF(申込個票!AG93=\"\",\"\",申込個票!AG93)","v":""},{"$f":"IF(申込個票!Z93=\"\",\"\",申込個票!Z93)","v":""},{"$f":"IF(申込個票!AA93=\"\",\"\",申込個票!AA93)","v":""}]
[null,89,{"$f":"IF(申込個票!Y94=\"\",\"\",申込個票!Y94)","v":""},{"$f":"IF(申込個票!AB94=\"\",\"\",申込個票!AB94&\"  \"&申込個票!AC94)","v":""},{"$f":"IF(申込個票!Z94=\"\",\"\",\"女\")","v":""},{"$f":"IF(申込個票!AE94=\"\",\"\",申込個票!AE94)","v":""},{"$f":"IF(申込個票!AG94=\"\",\"\",申込個票!AG94)","v":""},{"$f":"IF(申込個票!Z94=\"\",\"\",申込個票!Z94)","v":""},{"$f":"IF(申込個票!AA94=\"\",\"\",申込個票!AA94)","v":""}]
[null,90,{"$f":"IF(申込個票!Y95=\"\",\"\",申込個票!Y95)","v":""},{"$f":"IF(申込個票!AB95=\"\",\"\",申込個票!AB95&\"  \"&申込個票!AC95)","v":""},{"$f":"IF(申込個票!Z95=\"\",\"\",\"女\")","v":""},{"$f":"IF(申込個票!AE95=\"\",\"\",申込個票!AE95)","v":""},{"$f":"IF(申込個票!AG95=\"\",\"\",申込個票!AG95)","v":""},{"$f":"IF(申込個票!Z95=\"\",\"\",申込個票!Z95)","v":""},{"$f":"IF(申込個票!AA95=\"\",\"\",申込個票!AA95)","v":""}]
[]
[]
[null,null,"(様式A）"]
[null,null,null,{"$f":"IF(申込み一覧男子!D177=\"\",\"\",申込み一覧男子!D177)","v":"第１７７ 回　松戸市陸上競技記録会中学生大会　　申込一覧表"},null,null,null,null,null,null,null,null,null,null,null,{"$f":"P119+1","v":4}]
[]
[]
[null,null,null,"健康診断の結果異常がないことを認め、標記競技会への出場を認めます。"]
[null,null,null,null,null,null,null,null,null,null,null,{"$f":"IF(申込み一覧男子!L181=\"\",\"\",申込み一覧男子!L181)","v":"平成　２８年　６月　　日"}]
[null,null,null,{"$f":"申込み一覧男子!$D$8","v":"松戸市陸上競技協会"}]
[null,null,null,{"$f":"申込み一覧男子!$D$9","v":"会長　　林　英昭　様"}]
[null,null,null,null,null,{"$f":"IF($F$10=\"\",\"\",$F$10)","v":""}]
[]
[null,null,null,"団体（学校）名",{"$f":"IF(申込み一覧男子!E186=\"\",\"\",申込み一覧男子!E186)","v":""},null,null,null,null,"団体略称(６文字以内)",null,{"$f":"IF(申込み一覧男子!L186=\"\",\"\",申込み一覧男子!L186)","v":""}]
[null,null,null,"所 属 長",{"$f":"IF(申込み一覧男子!E187=\"\",\"\",申込み一覧男子!E187)","v":""},null,null,null,"㊞","連絡先\n住　所",{"$f":"IF(申込み一覧男子!K187=\"\",\"\",申込み一覧男子!K187)","v":" 〒"}]
[null,null,null,null,null,null,null,null,null,null,{"$f":"IF(申込み一覧男子!K188=\"\",\"\",申込み一覧男子!K188)","v":""}]
[]
[null,null,null,"記載責任者",{"$f":"IF(申込み一覧男子!E190=\"\",\"\",申込み一覧男子!E190)","v":""},null,null,null,"㊞"]
[null,null,null,null,null,null,null,null,null,"電　話\n（担当者）","連絡問い合わせ先（顧問責任者）"]
[null,null,null,null,null,null,null,null,null,null,{"$f":"IF(申込み一覧男子!K192=\"\",\"\",(申込み一覧男子!K192))","v":""}]
[]
[null,null,"※記載表記について"]
[null,null,"１．大会参加競技者一覧表（一人一種目１行。）"]
[]
[null,null,"２．個人申込票"]
[null,null,"　　(1)個人申込票は、競技者データシートへのデータ入力。"]
[null,null,"　　(2)記載表記にあたっては記入漏れの無い事、特に参加種目、記録、は確実に記載表記する。"]
[null,null,"\nナンハ゛ー","氏　　名","性別","学年","生年月日\n西暦で記入"]
[null,null,null,null,null,null,null,"種目","記録"]
[null,{"$f":"B173+1","v":91},{"$f":"IF(申込個票!Y96=\"\",\"\",申込個票!Y96)","v":""},{"$f":"IF(申込個票!AB96=\"\",\"\",申込個票!AB96&\"  \"&申込個票!AC96)","v":""},{"$f":"IF(申込個票!Z96=\"\",\"\",\"女\")","v":""},{"$f":"IF(申込個票!AE96=\"\",\"\",申込個票!AE96)","v":""},{"$f":"IF(申込個票!AG96=\"\",\"\",申込個票!AG96)","v":""},{"$f":"IF(申込個票!Z96=\"\",\"\",申込個票!Z96)","v":""},{"$f":"IF(申込個票!AA96=\"\",\"\",申込個票!AA96)","v":""}]
[null,{"$f":"B202+1","v":92},{"$f":"IF(申込個票!Y97=\"\",\"\",申込個票!Y97)","v":""},{"$f":"IF(申込個票!AB97=\"\",\"\",申込個票!AB97&\"  \"&申込個票!AC97)","v":""},{"$f":"IF(申込個票!Z97=\"\",\"\",\"女\")","v":""},{"$f":"IF(申込個票!AE97=\"\",\"\",申込個票!AE97)","v":""},{"$f":"IF(申込個票!AG97=\"\",\"\",申込個票!AG97)","v":""},{"$f":"IF(申込個票!Z97=\"\",\"\",申込個票!Z97)","v":""},{"$f":"IF(申込個票!AA97=\"\",\"\",申込個票!AA97)","v":""}]
[null,{"$f":"B203+1","v":93},{"$f":"IF(申込個票!Y98=\"\",\"\",申込個票!Y98)","v":""},{"$f":"IF(申込個票!AB98=\"\",\"\",申込個票!AB98&\"  \"&申込個票!AC98)","v":""},{"$f":"IF(申込個票!Z98=\"\",\"\",\"女\")","v":""},{"$f":"IF(申込個票!AE98=\"\",\"\",申込個票!AE98)","v":""},{"$f":"IF(申込個票!AG98=\"\",\"\",申込個票!AG98)","v":""},{"$f":"IF(申込個票!Z98=\"\",\"\",申込個票!Z98)","v":""},{"$f":"IF(申込個票!AA98=\"\",\"\",申込個票!AA98)","v":""}]
[null,94,{"$f":"IF(申込個票!Y99=\"\",\"\",申込個票!Y99)","v":""},{"$f":"IF(申込個票!AB99=\"\",\"\",申込個票!AB99&\"  \"&申込個票!AC99)","v":""},{"$f":"IF(申込個票!Z99=\"\",\"\",\"女\")","v":""},{"$f":"IF(申込個票!AE99=\"\",\"\",申込個票!AE99)","v":""},{"$f":"IF(申込個票!AG99=\"\",\"\",申込個票!AG99)","v":""},{"$f":"IF(申込個票!Z99=\"\",\"\",申込個票!Z99)","v":""},{"$f":"IF(申込個票!AA99=\"\",\"\",申込個票!AA99)","v":""}]
[null,95,{"$f":"IF(申込個票!Y100=\"\",\"\",申込個票!Y100)","v":""},{"$f":"IF(申込個票!AB100=\"\",\"\",申込個票!AB100&\"  \"&申込個票!AC100)","v":""},{"$f":"IF(申込個票!Z100=\"\",\"\",\"女\")","v":""},{"$f":"IF(申込個票!AE100=\"\",\"\",申込個票!AE100)","v":""},{"$f":"IF(申込個票!AG100=\"\",\"\",申込個票!AG100)","v":""},{"$f":"IF(申込個票!Z100=\"\",\"\",申込個票!Z100)","v":""},{"$f":"IF(申込個票!AA100=\"\",\"\",申込個票!AA100)","v":""}]
[null,96,{"$f":"IF(申込個票!Y101=\"\",\"\",申込個票!Y101)","v":""},{"$f":"IF(申込個票!AB101=\"\",\"\",申込個票!AB101&\"  \"&申込個票!AC101)","v":""},{"$f":"IF(申込個票!Z101=\"\",\"\",\"女\")","v":""},{"$f":"IF(申込個票!AE101=\"\",\"\",申込個票!AE101)","v":""},{"$f":"IF(申込個票!AG101=\"\",\"\",申込個票!AG101)","v":""},{"$f":"IF(申込個票!Z101=\"\",\"\",申込個票!Z101)","v":""},{"$f":"IF(申込個票!AA101=\"\",\"\",申込個票!AA101)","v":""}]
[null,97,{"$f":"IF(申込個票!Y102=\"\",\"\",申込個票!Y102)","v":""},{"$f":"IF(申込個票!AB102=\"\",\"\",申込個票!AB102&\"  \"&申込個票!AC102)","v":""},{"$f":"IF(申込個票!Z102=\"\",\"\",\"女\")","v":""},{"$f":"IF(申込個票!AE102=\"\",\"\",申込個票!AE102)","v":""},{"$f":"IF(申込個票!AG102=\"\",\"\",申込個票!AG102)","v":""},{"$f":"IF(申込個票!Z102=\"\",\"\",申込個票!Z102)","v":""},{"$f":"IF(申込個票!AA102=\"\",\"\",申込個票!AA102)","v":""}]
[null,98,{"$f":"IF(申込個票!Y103=\"\",\"\",申込個票!Y103)","v":""},{"$f":"IF(申込個票!AB103=\"\",\"\",申込個票!AB103&\"  \"&申込個票!AC103)","v":""},{"$f":"IF(申込個票!Z103=\"\",\"\",\"女\")","v":""},{"$f":"IF(申込個票!AE103=\"\",\"\",申込個票!AE103)","v":""},{"$f":"IF(申込個票!AG103=\"\",\"\",申込個票!AG103)","v":""},{"$f":"IF(申込個票!Z103=\"\",\"\",申込個票!Z103)","v":""},{"$f":"IF(申込個票!AA103=\"\",\"\",申込個票!AA103)","v":""}]
[null,99,{"$f":"IF(申込個票!Y104=\"\",\"\",申込個票!Y104)","v":""},{"$f":"IF(申込個票!AB104=\"\",\"\",申込個票!AB104&\"  \"&申込個票!AC104)","v":""},{"$f":"IF(申込個票!Z104=\"\",\"\",\"女\")","v":""},{"$f":"IF(申込個票!AE104=\"\",\"\",申込個票!AE104)","v":""},{"$f":"IF(申込個票!AG104=\"\",\"\",申込個票!AG104)","v":""},{"$f":"IF(申込個票!Z104=\"\",\"\",申込個票!Z104)","v":""},{"$f":"IF(申込個票!AA104=\"\",\"\",申込個票!AA104)","v":""}]
[null,100,{"$f":"IF(申込個票!Y105=\"\",\"\",申込個票!Y105)","v":""},{"$f":"IF(申込個票!AB105=\"\",\"\",申込個票!AB105&\"  \"&申込個票!AC105)","v":""},{"$f":"IF(申込個票!Z105=\"\",\"\",\"女\")","v":""},{"$f":"IF(申込個票!AE105=\"\",\"\",申込個票!AE105)","v":""},{"$f":"IF(申込個票!AG105=\"\",\"\",申込個票!AG105)","v":""},{"$f":"IF(申込個票!Z105=\"\",\"\",申込個票!Z105)","v":""},{"$f":"IF(申込個票!AA105=\"\",\"\",申込個票!AA105)","v":""}]
[null,101,{"$f":"IF(申込個票!Y106=\"\",\"\",申込個票!Y106)","v":""},{"$f":"IF(申込個票!AB106=\"\",\"\",申込個票!AB106&\"  \"&申込個票!AC106)","v":""},{"$f":"IF(申込個票!Z106=\"\",\"\",\"女\")","v":""},{"$f":"IF(申込個票!AE106=\"\",\"\",申込個票!AE106)","v":""},{"$f":"IF(申込個票!AG106=\"\",\"\",申込個票!AG106)","v":""},{"$f":"IF(申込個票!Z106=\"\",\"\",申込個票!Z106)","v":""},{"$f":"IF(申込個票!AA106=\"\",\"\",申込個票!AA106)","v":""}]
[null,102,{"$f":"IF(申込個票!Y107=\"\",\"\",申込個票!Y107)","v":""},{"$f":"IF(申込個票!AB107=\"\",\"\",申込個票!AB107&\"  \"&申込個票!AC107)","v":""},{"$f":"IF(申込個票!Z107=\"\",\"\",\"女\")","v":""},{"$f":"IF(申込個票!AE107=\"\",\"\",申込個票!AE107)","v":""},{"$f":"IF(申込個票!AG107=\"\",\"\",申込個票!AG107)","v":""},{"$f":"IF(申込個票!Z107=\"\",\"\",申込個票!Z107)","v":""},{"$f":"IF(申込個票!AA107=\"\",\"\",申込個票!AA107)","v":""}]
[null,103,{"$f":"IF(申込個票!Y108=\"\",\"\",申込個票!Y108)","v":""},{"$f":"IF(申込個票!AB108=\"\",\"\",申込個票!AB108&\"  \"&申込個票!AC108)","v":""},{"$f":"IF(申込個票!Z108=\"\",\"\",\"女\")","v":""},{"$f":"IF(申込個票!AE108=\"\",\"\",申込個票!AE108)","v":""},{"$f":"IF(申込個票!AG108=\"\",\"\",申込個票!AG108)","v":""},{"$f":"IF(申込個票!Z108=\"\",\"\",申込個票!Z108)","v":""},{"$f":"IF(申込個票!AA108=\"\",\"\",申込個票!AA108)","v":""}]
[null,104,{"$f":"IF(申込個票!Y109=\"\",\"\",申込個票!Y109)","v":""},{"$f":"IF(申込個票!AB109=\"\",\"\",申込個票!AB109&\"  \"&申込個票!AC109)","v":""},{"$f":"IF(申込個票!Z109=\"\",\"\",\"女\")","v":""},{"$f":"IF(申込個票!AE109=\"\",\"\",申込個票!AE109)","v":""},{"$f":"IF(申込個票!AG109=\"\",\"\",申込個票!AG109)","v":""},{"$f":"IF(申込個票!Z109=\"\",\"\",申込個票!Z109)","v":""},{"$f":"IF(申込個票!AA109=\"\",\"\",申込個票!AA109)","v":""}]
[null,105,{"$f":"IF(申込個票!Y110=\"\",\"\",申込個票!Y110)","v":""},{"$f":"IF(申込個票!AB110=\"\",\"\",申込個票!AB110&\"  \"&申込個票!AC110)","v":""},{"$f":"IF(申込個票!Z110=\"\",\"\",\"女\")","v":""},{"$f":"IF(申込個票!AE110=\"\",\"\",申込個票!AE110)","v":""},{"$f":"IF(申込個票!AG110=\"\",\"\",申込個票!AG110)","v":""},{"$f":"IF(申込個票!Z110=\"\",\"\",申込個票!Z110)","v":""},{"$f":"IF(申込個票!AA110=\"\",\"\",申込個票!AA110)","v":""}]
[null,106,{"$f":"IF(申込個票!Y111=\"\",\"\",申込個票!Y111)","v":""},{"$f":"IF(申込個票!AB111=\"\",\"\",申込個票!AB111&\"  \"&申込個票!AC111)","v":""},{"$f":"IF(申込個票!Z111=\"\",\"\",\"女\")","v":""},{"$f":"IF(申込個票!AE111=\"\",\"\",申込個票!AE111)","v":""},{"$f":"IF(申込個票!AG111=\"\",\"\",申込個票!AG111)","v":""},{"$f":"IF(申込個票!Z111=\"\",\"\",申込個票!Z111)","v":""},{"$f":"IF(申込個票!AA111=\"\",\"\",申込個票!AA111)","v":""}]
[null,107,{"$f":"IF(申込個票!Y112=\"\",\"\",申込個票!Y112)","v":""},{"$f":"IF(申込個票!AB112=\"\",\"\",申込個票!AB112&\"  \"&申込個票!AC112)","v":""},{"$f":"IF(申込個票!Z112=\"\",\"\",\"女\")","v":""},{"$f":"IF(申込個票!AE112=\"\",\"\",申込個票!AE112)","v":""},{"$f":"IF(申込個票!AG112=\"\",\"\",申込個票!AG112)","v":""},{"$f":"IF(申込個票!Z112=\"\",\"\",申込個票!Z112)","v":""},{"$f":"IF(申込個票!AA112=\"\",\"\",申込個票!AA112)","v":""}]
[null,108,{"$f":"IF(申込個票!Y113=\"\",\"\",申込個票!Y113)","v":""},{"$f":"IF(申込個票!AB113=\"\",\"\",申込個票!AB113&\"  \"&申込個票!AC113)","v":""},{"$f":"IF(申込個票!Z113=\"\",\"\",\"女\")","v":""},{"$f":"IF(申込個票!AE113=\"\",\"\",申込個票!AE113)","v":""},{"$f":"IF(申込個票!AG113=\"\",\"\",申込個票!AG113)","v":""},{"$f":"IF(申込個票!Z113=\"\",\"\",申込個票!Z113)","v":""},{"$f":"IF(申込個票!AA113=\"\",\"\",申込個票!AA113)","v":""}]
[null,109,{"$f":"IF(申込個票!Y114=\"\",\"\",申込個票!Y114)","v":""},{"$f":"IF(申込個票!AB114=\"\",\"\",申込個票!AB114&\"  \"&申込個票!AC114)","v":""},{"$f":"IF(申込個票!Z114=\"\",\"\",\"女\")","v":""},{"$f":"IF(申込個票!AE114=\"\",\"\",申込個票!AE114)","v":""},{"$f":"IF(申込個票!AG114=\"\",\"\",申込個票!AG114)","v":""},{"$f":"IF(申込個票!Z114=\"\",\"\",申込個票!Z114)","v":""},{"$f":"IF(申込個票!AA114=\"\",\"\",申込個票!AA114)","v":""}]
[null,110,{"$f":"IF(申込個票!Y115=\"\",\"\",申込個票!Y115)","v":""},{"$f":"IF(申込個票!AB115=\"\",\"\",申込個票!AB115&\"  \"&申込個票!AC115)","v":""},{"$f":"IF(申込個票!Z115=\"\",\"\",\"女\")","v":""},{"$f":"IF(申込個票!AE115=\"\",\"\",申込個票!AE115)","v":""},{"$f":"IF(申込個票!AG115=\"\",\"\",申込個票!AG115)","v":""},{"$f":"IF(申込個票!Z115=\"\",\"\",申込個票!Z115)","v":""},{"$f":"IF(申込個票!AA115=\"\",\"\",申込個票!AA115)","v":""}]
[null,111,{"$f":"IF(申込個票!Y116=\"\",\"\",申込個票!Y116)","v":""},{"$f":"IF(申込個票!AB116=\"\",\"\",申込個票!AB116&\"  \"&申込個票!AC116)","v":""},{"$f":"IF(申込個票!Z116=\"\",\"\",\"女\")","v":""},{"$f":"IF(申込個票!AE116=\"\",\"\",申込個票!AE116)","v":""},{"$f":"IF(申込個票!AG116=\"\",\"\",申込個票!AG116)","v":""},{"$f":"IF(申込個票!Z116=\"\",\"\",申込個票!Z116)","v":""},{"$f":"IF(申込個票!AA116=\"\",\"\",申込個票!AA116)","v":""}]
[null,112,{"$f":"IF(申込個票!Y117=\"\",\"\",申込個票!Y117)","v":""},{"$f":"IF(申込個票!AB117=\"\",\"\",申込個票!AB117&\"  \"&申込個票!AC117)","v":""},{"$f":"IF(申込個票!Z117=\"\",\"\",\"女\")","v":""},{"$f":"IF(申込個票!AE117=\"\",\"\",申込個票!AE117)","v":""},{"$f":"IF(申込個票!AG117=\"\",\"\",申込個票!AG117)","v":""},{"$f":"IF(申込個票!Z117=\"\",\"\",申込個票!Z117)","v":""},{"$f":"IF(申込個票!AA117=\"\",\"\",申込個票!AA117)","v":""}]
[null,113,{"$f":"IF(申込個票!Y118=\"\",\"\",申込個票!Y118)","v":""},{"$f":"IF(申込個票!AB118=\"\",\"\",申込個票!AB118&\"  \"&申込個票!AC118)","v":""},{"$f":"IF(申込個票!Z118=\"\",\"\",\"女\")","v":""},{"$f":"IF(申込個票!AE118=\"\",\"\",申込個票!AE118)","v":""},{"$f":"IF(申込個票!AG118=\"\",\"\",申込個票!AG118)","v":""},{"$f":"IF(申込個票!Z118=\"\",\"\",申込個票!Z118)","v":""},{"$f":"IF(申込個票!AA118=\"\",\"\",申込個票!AA118)","v":""}]
[null,114,{"$f":"IF(申込個票!Y119=\"\",\"\",申込個票!Y119)","v":""},{"$f":"IF(申込個票!AB119=\"\",\"\",申込個票!AB119&\"  \"&申込個票!AC119)","v":""},{"$f":"IF(申込個票!Z119=\"\",\"\",\"女\")","v":""},{"$f":"IF(申込個票!AE119=\"\",\"\",申込個票!AE119)","v":""},{"$f":"IF(申込個票!AG119=\"\",\"\",申込個票!AG119)","v":""},{"$f":"IF(申込個票!Z119=\"\",\"\",申込個票!Z119)","v":""},{"$f":"IF(申込個票!AA119=\"\",\"\",申込個票!AA119)","v":""}]
[null,115,{"$f":"IF(申込個票!Y120=\"\",\"\",申込個票!Y120)","v":""},{"$f":"IF(申込個票!AB120=\"\",\"\",申込個票!AB120&\"  \"&申込個票!AC120)","v":""},{"$f":"IF(申込個票!Z120=\"\",\"\",\"女\")","v":""},{"$f":"IF(申込個票!AE120=\"\",\"\",申込個票!AE120)","v":""},{"$f":"IF(申込個票!AG120=\"\",\"\",申込個票!AG120)","v":""},{"$f":"IF(申込個票!Z120=\"\",\"\",申込個票!Z120)","v":""},{"$f":"IF(申込個票!AA120=\"\",\"\",申込個票!AA120)","v":""}]
[null,116,{"$f":"IF(申込個票!Y121=\"\",\"\",申込個票!Y121)","v":""},{"$f":"IF(申込個票!AB121=\"\",\"\",申込個票!AB121&\"  \"&申込個票!AC121)","v":""},{"$f":"IF(申込個票!Z121=\"\",\"\",\"女\")","v":""},{"$f":"IF(申込個票!AE121=\"\",\"\",申込個票!AE121)","v":""},{"$f":"IF(申込個票!AG121=\"\",\"\",申込個票!AG121)","v":""},{"$f":"IF(申込個票!Z121=\"\",\"\",申込個票!Z121)","v":""},{"$f":"IF(申込個票!AA121=\"\",\"\",申込個票!AA121)","v":""}]
[null,117,{"$f":"IF(申込個票!Y122=\"\",\"\",申込個票!Y122)","v":""},{"$f":"IF(申込個票!AB122=\"\",\"\",申込個票!AB122&\"  \"&申込個票!AC122)","v":""},{"$f":"IF(申込個票!Z122=\"\",\"\",\"女\")","v":""},{"$f":"IF(申込個票!AE122=\"\",\"\",申込個票!AE122)","v":""},{"$f":"IF(申込個票!AG122=\"\",\"\",申込個票!AG122)","v":""},{"$f":"IF(申込個票!Z122=\"\",\"\",申込個票!Z122)","v":""},{"$f":"IF(申込個票!AA122=\"\",\"\",申込個票!AA122)","v":""}]
[null,118,{"$f":"IF(申込個票!Y123=\"\",\"\",申込個票!Y123)","v":""},{"$f":"IF(申込個票!AB123=\"\",\"\",申込個票!AB123&\"  \"&申込個票!AC123)","v":""},{"$f":"IF(申込個票!Z123=\"\",\"\",\"女\")","v":""},{"$f":"IF(申込個票!AE123=\"\",\"\",申込個票!AE123)","v":""},{"$f":"IF(申込個票!AG123=\"\",\"\",申込個票!AG123)","v":""},{"$f":"IF(申込個票!Z123=\"\",\"\",申込個票!Z123)","v":""},{"$f":"IF(申込個票!AA123=\"\",\"\",申込個票!AA123)","v":""}]
[null,119,{"$f":"IF(申込個票!Y124=\"\",\"\",申込個票!Y124)","v":""},{"$f":"IF(申込個票!AB124=\"\",\"\",申込個票!AB124&\"  \"&申込個票!AC124)","v":""},{"$f":"IF(申込個票!Z124=\"\",\"\",\"女\")","v":""},{"$f":"IF(申込個票!AE124=\"\",\"\",申込個票!AE124)","v":""},{"$f":"IF(申込個票!AG124=\"\",\"\",申込個票!AG124)","v":""},{"$f":"IF(申込個票!Z124=\"\",\"\",申込個票!Z124)","v":""},{"$f":"IF(申込個票!AA124=\"\",\"\",申込個票!AA124)","v":""}]
[null,120,{"$f":"IF(申込個票!Y125=\"\",\"\",申込個票!Y125)","v":""},{"$f":"IF(申込個票!AB125=\"\",\"\",申込個票!AB125&\"  \"&申込個票!AC125)","v":""},{"$f":"IF(申込個票!Z125=\"\",\"\",\"女\")","v":""},{"$f":"IF(申込個票!AE125=\"\",\"\",申込個票!AE125)","v":""},{"$f":"IF(申込個票!AG125=\"\",\"\",申込個票!AG125)","v":""},{"$f":"IF(申込個票!Z125=\"\",\"\",申込個票!Z125)","v":""},{"$f":"IF(申込個票!AA125=\"\",\"\",申込個票!AA125)","v":""}]